Workbook

Sheet D%_MES
G1: #NAME?
C2: DISPONIBILIDAD Y UTILIZACION - ANUAL 2023 | G2: 1 | H2: 2 | I2: 3 | J2: 4 | K2: 5 | L2: 6 | M2: 7 | N2: 8 | O2: 9 | P2: 1 | Q2: 2 | R2: 3 | S2: 4 | T2: 5 | U2: 6 | V2: 7 | W2: 8 | X2: 9 | Y2: 10 | Z2: 11 | AA2: 12
C3: DISPONIBILIDAD Y UTILIZACION - DICIEMBRE 2023 | BG3: 0.85 | BH3: 0.85 | BI3: 0.85 | BJ3: 0.85 | BK3: 0.85 | BL3: 0.85 | BM3: 0.85 | BN3: 0.85 | BO3: 0.85 | BP3: 0.85 | BQ3: 0.85 | BR3: 0.85 | BS3: 0.85 | BT3: 0.85 | BU3: 0.85 | BV3: 0.85 | BW3: 0.85 | BX3: 0.85 | BY3: 0.85 | BZ3: 0.85 | CA3: 0.85 | CB3: 0.85 | CC3: 0.85 | CD3: 0.85 | CE3: 0.85
B4: PROMEDIOS GENERALES DE DF / UTIL ANUAL 2023 | CT4: 44866 | DE4: ANUAL - 2022
B5: TIPO | C5: KPI | D5: UM | E5: PROM 2017 | F5: OBJ. | G5: ABRIL | H5: MAYO | I5: JUNIO | J5: JULIO | K5: AGOSTO | L5: SETIEMBRE | M5: OCTUBRE | N5: NOVIEMBRE | O5: DICIEMBRE | P5: ENE | Q5: FEB | R5: MAR | S5: ABR | T5: MAY | U5: JUN | V5: JUL | W5: AGO | X5: SEP | Y5: OCT | Z5: NOV | AA5: DIC | AB5: PROM 2018 | AC5: ENE | AD5: FEB | AE5: MAR | AF5: ABR | AG5: MAY | AH5: JUN | AI5: JUL | AJ5: AGO | AK5: SEP | AL5: OCT | AM5: NOV | AN5: DIC | AO5: SEP | AP5: OCT | AQ5: NOV | AR5: DIC | AS5: PROM 2020 | AT5: 44197 | AU5: 44228 | AV5: 44256 | AW5: 44287 | AX5: 44317 | AY5: 44348 | AZ5: 44378 | BA5: 44409 | BB5: 44440 | BC5: 44470 | BD5: 44501 | BE5: 44531 | BF5: PROM 2022 | BG5: 44562 | BH5: 44593 | BI5: 44621 | BJ5: 44652 | BK5: 44682 | BL5: 44713 | BM5: 44743 | BN5: 44774 | BO5: 44805 | BP5: 44835 | BQ5: 44866 | BR5: 44896 | BS5: 44927 | BT5: 44958 | BU5: 44986 | BV5: 45017 | BW5: 45047 | BX5: 45078 | BY5: 45108 | BZ5: 45139 | CA5: 45170 | CB5: 45200 | CC5: 45231 | CD5: 45261 | CE5: PROM 2023 | CF5: STATUS | CI5: SC-PROD | CJ5: SC-SERV | CK5: JU-PROD | CL5: JU-SOST | CM5: JU-TA/LA | CN5: MX-CONC | CO5: CA-ANFO | CP5: LA-CONC | CQ5: EQ-VIAS | CR5: VOLQ | CV5: SC-PROD | CW5: SC-SERV | CX5: JU-PROD | CY5: JU-SOST | CZ5: JU-TA/LA | DA5: MX-CONC | DB5: CA-ANFO | DC5: LA-CONC | DD5: EQ-VIAS | DE5: VOLQ | DH5: SCOOPTRAMS - PRODUCCION | DI5: SCOOPTRAMS - SERVICIOS | DJ5: JUMBOS PRODUCCION | DK5: JUMBOS SOSTENIMIENTO | DL5: JUMBOS TALACROS LARGOS | DM5: MEZCLACOR DE CONCRETO | DN5: CARGACOR DE ANFO | DO5: LANZACOR DE CONCRETO
B6: SCOOPTRAMS - PRODUCCION | C6: DF | D6: % | E6: =+AVERAGE(G6:O6) -> 0.74073333 | F6: 0.85 | G6: 0.7984 | H6: 0.6473 | I6: 0.7056 | J6: 0.689 | K6: 0.7304 | L6: 0.7086 | M6: 0.8195 | N6: 0.7522 | O6: 0.8156 | P6: 0.92820988 | Q6: 0.81211667 | R6: 0.82006667 | S6: 0.90726667 | T6: 0.87465 | U6: 0.76716667 | V6: 0.80876667 | W6: 0.90046667 | X6: 0.84891667 | Y6: 0.76015 | Z6: 0.78256667 | AA6: 0.84055 | AB6: 0.83757443 | AC6: 0.73135 | AD6: 0.75676667 | AE6: 0.88453333 | AF6: 0.8108 | AG6: 0.85235215 | AH6: 0.8828 | AI6: 0.86945084 | AJ6: 0.74834286 | AO6: 0.71352315 | AP6: 0.70494168 | AQ6: 0.73969643 | AR6: 0.7621 | AS6: 0.73372082 | AT6: 0.83968126 | AU6: 0.936 | AV6: 0.93626728 | AW6: 0.99375 | AX6: 0.86298579 | AY6: 0.94864286 | AZ6: 0.85141582 | BA6: 0.85412708 | BB6: 0.88791241 | BC6: 0.91214077 | BD6: 0.832461 | BE6: 0.76923413 | BF6: 0.72841413 | BG6: 0.64283929 | BH6: 0.70953896 | BI6: 0.63660906 | BJ6: 0.72023611 | BK6: 0.68933053 | BL6: 0.65551215 | BM6: 0.67007224 | BN6: 0.77066532 | BO6: 0.75266319 | BP6: 0.80535882 | BQ6: 0.86400794 | BR6: 0.82413594 | BS6: ='S-P'!AC146 -> 0.9059831 | BT6: ='S-P'!AD146 -> 0.67126488 | BU6: ='S-P'!AE146 -> 0.7493894 | BV6: 0.83552778 | BW6: 0.92959101 | BX6: 0.8618373 | BY6: 0.86437212 | BZ6: 0.91825077 | CA6: 0.9010604 | CB6: 0.87223502 | CC6: 0.81124802 | CD6: ='S-P'!AN146 -> 0.7150288 | CE6: =AVERAGE(BS6:CD6) -> 0.83631572 | CF6: =IF(CD6>=F6,"J","L") -> L | CH6: OBJ DF | CI6: 0.85 | CJ6: 0.85 | CK6: 0.85 | CL6: 0.85 | CM6: 0.85 | CN6: 0.85 | CO6: 0.85 | CP6: 0.85 | CQ6: 0.85 | CR6: 0.85 | CU6: OBJ DF | CV6: 0.85 | CW6: 0.85 | CX6: 0.85 | CY6: 0.85 | CZ6: 0.85 | DA6: 0.85 | DB6: 0.85 | DC6: 0.85 | DD6: 0.85 | DE6: 0.85 | DG6: KPI | DH6: DF | DI6: DF | DJ6: DF | DK6: DF | DL6: DF | DM6: DF | DN6: DF | DO6: DF
C7: UT | D7: % | E7: =+AVERAGE(G7:O7) -> 0.34051111 | F7: 0.5 | G7: 0.2884 | H7: 0.3094 | I7: 0.359 | J7: 0.3056 | K7: 0.3701 | L7: 0.3238 | M7: 0.3512 | N7: 0.3601 | O7: 0.397 | P7: 0.42408219 | Q7: 0.51706667 | R7: 0.46296667 | S7: 0.42908333 | T7: 0.43161667 | U7: 0.42066667 | V7: 0.44918333 | W7: 0.45921667 | X7: 0.43971667 | Y7: 0.42003333 | Z7: 0.39868333 | AA7: 0.40018333 | AB7: 0.43770824 | AC7: 0.32683333 | AD7: 0.43478333 | AE7: 0.41571667 | AF7: 0.4518 | AG7: 0.41505442 | AH7: 0.42761667 | AI7: 0.37761794 | AJ7: 0.38492857 | AO7: 0.33786152 | AP7: 0.4288145 | AQ7: 0.44764279 | AR7: 0.37821429 | AS7: 0.39549233 | AT7: 0.29695491 | AU7: 0.243 | AV7: 0.2431537 | AW7: 0.028434784 | AX7: 0.32027755 | AY7: 0.33542872 | AZ7: 0.38320324 | BA7: 0.37949375 | BB7: 0.38269608 | BC7: 0.30510244 | BD7: 0.39299973 | BE7: 0.41683615 | BF7: 0.37586514 | BG7: 0.29933205 | BH7: 0.33207778 | BI7: 0.391443 | BJ7: 0.36742951 | BK7: 0.36534386 | BL7: 0.42072086 | BM7: 0.41025582 | BN7: 0.36891031 | BO7: 0.37632711 | BP7: 0.3917471 | BQ7: 0.38386629 | BR7: 0.40292794 | BS7: ='S-P'!AC147 -> 0.3956928 | BT7: ='S-P'!AD147 -> 0.41882728 | BU7: ='S-P'!AE147 -> 0.42987849 | BV7: 0.37865297 | BW7: 0.38226999 | BX7: 0.42448035 | BY7: 0.42035255 | BZ7: 0.44134867 | CA7: 0.40672045 | CB7: 0.40381266 | CC7: 0.44080198 | CD7: ='S-P'!AN147 -> 0.40160715 | CE7: =AVERAGE(BS7:CD7) -> 0.41203711 | CF7: =IF(CD7>=F7,"J","L") -> L | CH7: OBJ UT | CI7: 0.5 | CJ7: 0.5 | CK7: 0.2 | CL7: 0.2 | CM7: 0.2 | CN7: 0.3 | CO7: 0.18 | CP7: 0.18 | CQ7: 0.15 | CR7: 0.15 | CU7: OBJ UT | CV7: 0.5 | CW7: 0.5 | CX7: 0.2 | CY7: 0.2 | CZ7: 0.2 | DA7: 0.3 | DB7: 0.18 | DC7: 0.18 | DD7: 0.18 | DE7: 0.18 | DG7: UM | DH7: 0.0070724415 | DI7: 1.1018222 | DJ7: 0.86391082 | DK7: 0.73484236 | DL7: 1.0116948 | DM7: 0.88522637 | DN7: 0.8694215 | DO7: 0.84730279
B8: SCOOPTRAMS - SERVICIOS | C8: DF | D8: % | E8: =+AVERAGE(G8:O8) -> 0.83851111 | F8: 0.85 | G8: 0.9786 | H8: 0.9628 | I8: 0.9 | J8: 0.793 | K8: 0.9523 | L8: 0.9535 | M8: 0.7816 | N8: 0.7663 | O8: 0.4585 | P8: 0.75545 | Q8: 0.97785 | R8: 0.9048 | S8: 0.9674 | T8: 0.7252 | U8: 0.905 | V8: 0.9718 | W8: 0.90435 | X8: 0.86345 | Y8: 0.94315 | Z8: 0.95125 | AA8: 0.6953 | AB8: 0.88041667 | AC8: 0.4868 | AD8: 0.7056 | AE8: 0.8712 | AF8: 0.48505 | AG8: 0.68379704 | AH8: 0.9565 | AI8: 0.97580645 | AJ8: 0.88015 | AO8: 0.50972222 | AP8: 0.91274866 | AQ8: 0.98472222 | AR8: 0.98095 | AS8: 0.85365862 | AT8: 0.94354839 | AU8: 0.977 | AV8: 0.97748656 | AW8: 0.97916667 | AX8: 0.97647849 | AY8: 1 | AZ8: 0.9303125 | BA8: 0.88888889 | BB8: 0.96205357 | BC8: 0.65497076 | BD8: 0.95905172 | BE8: 0.98333333 | BF8: 0.98225433 | BG8: 0.96736111 | BH8: 1 | BI8: 0.98991935 | BJ8: 1 | BK8: 0.99861111 | BL8: 1 | BM8: 0.9952957 | BN8: 1 | BO8: 1 | BP8: 0.88844086 | BQ8: 0.99513889 | BR8: 0.95228495 | BS8: ='S-S'!AC34 -> 0.99327957 | BT8: ='S-S'!AD34 -> 0.95758929 | BU8: ='S-S'!AE34 -> 1 | BV8: 0.98333333 | BW8: 0.98991935 | BX8: 0.99236111 | BY8: 0.99596774 | BZ8: 0.96774194 | CA8: 0.98611111 | CB8: 0.98319892 | CC8: 0.99305556 | CD8: ='S-S'!AN34 -> 1 | CE8: =AVERAGE(BS8:CD8) -> 0.98687983 | CF8: =IF(CD8>=F8,"J","L") -> J | CH8: DF | CI8: =+CD6 -> 0.7150288 | CJ8: =+CD8 -> 1 | CK8: =+CD10 -> 0.90416331 | CL8: =+CD12 -> 0.84445075 | CM8: =+CD14 -> 0.95766129 | CN8: =+CD16 -> 0.9147267 | CO8: =+CD18 -> 0.63876941 | CP8: =+CD20 -> 0.67276882 | CQ8: =+CD22 -> 0.97647849 | CR8: =+CD24 -> 0.72116935 | CU8: DF PR-23 | CV8: =CE6 -> 0.83631572 | CW8: =CE8 -> 0.98687983 | CX8: =CE10 -> 0.88098447 | CY8: =CE12 -> 0.80276532 | CZ8: =CE14 -> 0.89142258 | DA8: =CE16 -> 0.91002109 | DB8: =+CE18 -> 0.82901493 | DC8: =+CE20 -> 0.85169412 | DD8: =+CE22 -> 0.97415323 | DE8: =+CE24 -> 0.78783521
C9: UT | D9: % | E9: =+AVERAGE(G9:O9) -> 0.13757778 | F9: 0.5 | G9: 0.1554 | H9: 0.1736 | I9: 0.076 | J9: 0.1409 | K9: 0.1866 | L9: 0.1429 | M9: 0.137 | N9: 0.1012 | O9: 0.1246 | P9: 0.0784 | Q9: 0.1206 | R9: 0.11565 | S9: 0.07885 | T9: 0.1394 | U9: 0.0875 | V9: 0.09895 | W9: 0.0651 | X9: 0.09735 | Y9: 0.07815 | Z9: 0.1073 | AA9: 0.05445 | AB9: 0.093475 | AC9: 0.0813 | AD9: 0.13065 | AE9: 0.07865 | AF9: 0.05605 | AG9: 0.076097019 | AH9: 0.12675 | AI9: 0.043280235 | AJ9: 0.122 | AO9: 0.35864979 | AP9: 0.10064134 | AQ9: 0.051402003 | AR9: 0.04935 | AS9: 0.13640863 | AT9: 0.056965812 | AU9: 0.056 | AV9: 0.05632176 | AW9: 0 | AX9: 0.11330392 | AY9: 0.0455 | AZ9: 0.07452373 | BA9: 0.007125 | BB9: 0 | BC9: 0.037946429 | BD9: 0.039355805 | BE9: 0.13112994 | BF9: 0.0231621 | BG9: 0.047394113 | BH9: 0.027272727 | BI9: 0.013360489 | BJ9: 0.0032638889 | BK9: 0 | BL9: 0.0083333333 | BM9: 0.049831195 | BN9: 0.034677419 | BO9: 0 | BP9: 0 | BQ9: 0.053021633 | BR9: 0.040790402 | BS9: ='S-S'!AC35 -> 0.041271989 | BT9: ='S-S'!AD35 -> 0.067599068 | BU9: ='S-S'!AE35 -> 0 | BV9: 0 | BW9: 0.0091106585 | BX9: 0.0055843247 | BY9: 0.010796221 | BZ9: 0 | CA9: 0.014366197 | CB9: 0.016404648 | CC9: 0 | CD9: ='S-S'!AN35 -> 0 | CE9: =AVERAGE(BS9:CD9) -> 0.013761092 | CF9: =IF(CD9>=F9,"J","L") -> L | CH9: UT | CI9: =+CD7 -> 0.40160715 | CJ9: =+CD9 -> 0 | CK9: =+CD11 -> 0.085471953 | CL9: =+CD13 -> 0.056251567 | CM9: =+CD15 -> 0.014202745 | CN9: =+CD17 -> 0.31677531 | CO9: =+CD19 -> 0.029817305 | CP9: =+CD21 -> 0.081960304 | CQ9: =+CD23 -> 0.15139711 | CR9: =+CD25 -> 0.37517534 | CU9: UT PR-23 | CV9: =CE7 -> 0.41203711 | CW9: =CE9 -> 0.013761092 | CX9: =CE11 -> 0.085392351 | CY9: =CE13 -> 0.06670193 | CZ9: =CE15 -> 0.012625931 | DA9: =CE17 -> 0.32136353 | DB9: =+CE19 -> 0.039013339 | DC9: =+CE21 -> 0.081651767 | DD9: =+CE23 -> 0.25906688 | DE9: =+CE25 -> 0.48090882 | DH9: SCOOPTRAMS - PRODUCCION | DI9: 0.0070724415
B10: JUMBOS PRODUCCION | C10: DF | D10: % | E10: =+AVERAGE(G10:O10) -> 0.85201111 | F10: 0.85 | G10: 0.9162 | H10: 0.9355 | I10: 0.8625 | J10: 0.904 | K10: 0.8881 | L10: 0.7615 | M10: 0.8677 | N10: 0.7204 | O10: 0.8122 | P10: 0.8056 | Q10: 0.8795 | R10: 0.8579 | S10: 0.96083333 | T10: 0.86656667 | U10: 0.876725 | V10: 0.91775 | W10: 0.943225 | X10: 0.8543 | Y10: 0.70075 | Z10: 0.669875 | AA10: 0.68125 | AB10: 0.83452292 | AC10: 0.8273 | AD10: 0.89745 | AE10: 0.88195 | AF10: 0.91325 | AG10: 0.965 | AH10: 0.92255 | AI10: 0.82327957 | AJ10: 0.8806 | AO10: 0.80749306 | AP10: 0.91990591 | AQ10: 0.96145833 | AR10: 0.7805 | AS10: 0.86999146 | AT10: 0.85935524 | AU10: 0.719 | AV10: 0.71878024 | AW10: 0.78056806 | AX10: 0.76355175 | AY10: 0.72268403 | AZ10: 0.8503006 | BA10: 0.86319444 | BB10: 0.87680804 | BC10: 0.8431652 | BD10: 0.89604526 | BE10: 0.82880208 | BF10: 0.83902047 | BG10: 0.73896528 | BH10: 0.86974321 | BI10: 0.89570228 | BJ10: 0.87687847 | BK10: 0.89730903 | BL10: 0.86660417 | BM10: 0.85269489 | BN10: 0.87629368 | BO10: 0.77302778 | BP10: 0.74169019 | BQ10: 0.83714583 | BR10: 0.84219086 | BS10: ='J-P'!AC66 -> 0.84101815 | BT10: ='J-P'!AD66 -> 0.88758557 | BU10: ='J-P'!AE66 -> 0.89080981 | BV10: 0.79665972 | BW10: 0.91207997 | BX10: 0.91181597 | BY10: 0.86838374 | BZ10: 0.87082661 | CA10: 0.88462153 | CB10: 0.89306452 | CC10: 0.91078472 | CD10: ='J-P'!AN66 -> 0.90416331 | CE10: =AVERAGE(BS10:CD10) -> 0.88098447 | CF10: =IF(CD10>=F10,"J","L") -> J | CH10: DF PR-22 | CI10: =+BF6 -> 0.72841413 | CJ10: =+BF8 -> 0.98225433 | CK10: =+BF10 -> 0.83902047 | CL10: =+BF12 -> 0.7684855 | CM10: =+BF14 -> 0.96932128 | CN10: =+BF16 -> 0.92606837 | CO10: =+BF18 -> 0.87470146 | CP10: =+BF20 -> 0.86780094 | CU10: DF PR-22 | CV10: =BF6 -> 0.72841413 | CW10: =BF8 -> 0.98225433 | CX10: =BF10 -> 0.83902047 | CY10: =BF12 -> 0.7684855 | CZ10: =BF14 -> 0.96932128 | DA10: =BF16 -> 0.92606837 | DB10: =+BF18 -> 0.87470146 | DC10: =+BF20 -> 0.86780094 | DH10: SCOOPTRAMS - SERVICIOS | DI10: 1.1018222
C11: UT | D11: % | E11: =+AVERAGE(G11:O11) -> 0.17362222 | F11: 0.2 | G11: 0.2614 | H11: 0.2707 | I11: 0.2768 | J11: 0.1193 | K11: 0.1105 | L11: 0.1109 | M11: 0.1248 | N11: 0.1547 | O11: 0.1335 | P11: 0.12455 | Q11: 0.1141 | R11: 0.13435 | S11: 0.10156667 | T11: 0.13056667 | U11: 0.129325 | V11: 0.09775 | W11: 0.11415 | X11: 0.3108 | Y11: 0.259075 | Z11: 0.250225 | AA11: 0.23865 | AB11: 0.16709236 | AC11: 0.223325 | AD11: 0.22595 | AE11: 0.0482 | AF11: 0.0621 | AG11: 0.044786535 | AH11: 0.061575 | AI11: 0.15806507 | AJ11: 0.063525 | AO11: 0.069454287 | AP11: 0.059032382 | AQ11: 0.055005904 | AR11: 0.0753 | AS11: 0.064463515 | AT11: 0.052432537 | AU11: 0.058 | AV11: 0.058357963 | AW11: 0.0094566344 | AX11: 0.090904864 | AY11: 0.083600997 | AZ11: 0.088038652 | BA11: 0.075839826 | BB11: 0.067845652 | BC11: 0.061478355 | BD11: 0.069628826 | BE11: 0.070106243 | BF11: 0.079115878 | BG11: 0.067261692 | BH11: 0.077381424 | BI11: 0.080861223 | BJ11: 0.088640006 | BK11: 0.081768676 | BL11: 0.096047477 | BM11: 0.08602298 | BN11: 0.078070116 | BO11: 0.076274717 | BP11: 0.079435598 | BQ11: 0.084633504 | BR11: 0.052993122 | BS11: ='J-P'!AC67 -> 0.077241739 | BT11: ='J-P'!AD67 -> 0.085871141 | BU11: ='J-P'!AE67 -> 0.083073859 | BV11: 0.090271379 | BW11: 0.082548259 | BX11: 0.087304088 | BY11: 0.086852214 | BZ11: 0.10133322 | CA11: 0.064765986 | CB11: 0.08174121 | CC11: 0.09823316 | CD11: ='J-P'!AN67 -> 0.085471953 | CE11: =AVERAGE(BS11:CD11) -> 0.085392351 | CF11: =IF(CD11>=F11,"J","L") -> L | CU11: UT PR-22 | CV11: =BF7 -> 0.37586514 | CW11: =BF9 -> 0.0231621 | CX11: =BF11 -> 0.079115878 | CY11: =BF13 -> 0.070853278 | CZ11: =BF15 -> 0.008924797 | DA11: =BF17 -> 0.26304026 | DB11: =+BF19 -> 0.035841051 | DC11: =+BF21 -> 0.060755161 | DH11: JUMBOS PRODUCCION | DI11: 0.86391082
B12: JUMBOS SOSTENIMIENTO | C12: DF | D12: % | E12: =+AVERAGE(G12:O12) -> 0.65717778 | F12: 0.85 | G12: 0.89 | H12: 0.6593 | I12: 0.613 | J12: 0.548 | K12: 0.5797 | L12: 0.7646 | M12: 0.7602 | N12: 0.6192 | O12: 0.4806 | P12: 0.75825 | Q12: 0.67685 | R12: 0.61275 | S12: 0.44095 | T12: 0.68553333 | U12: 0.713 | V12: 0.62436667 | W12: 0.87303333 | X12: 0.72076667 | Y12: 0.88392 | Z12: 0.78674 | AA12: 0.875 | AB12: 0.72093 | AC12: 0.93942 | AD12: 0.8867 | AE12: 0.88375 | AF12: 0.881075 | AG12: 0.87916667 | AH12: 0.755775 | AI12: 0.67213038 | AJ12: 0.721925 | AO12: 0.704375 | AP12: 0.81514113 | AQ12: 0.67675347 | AR12: 0.669975 | AS12: 0.71763392 | AT12: 0.80821237 | AU12: 0.864 | AV12: 0.86397513 | AW12: 0.99305556 | AX12: 0.65049731 | AY12: 0.63632292 | AZ12: 0.79481027 | BA12: 0.81463194 | BB12: 0.83522321 | BC12: 0.85380848 | BD12: 0.73733836 | BE12: 0.83972917 | BF12: 0.7684855 | BG12: 0.83631944 | BH12: 0.74991667 | BI12: 0.64873656 | BJ12: 0.779625 | BK12: 0.83909028 | BL12: 0.72971528 | BM12: 0.79689852 | BN12: 0.80552419 | BO12: 0.66183333 | BP12: 0.60721102 | BQ12: 0.88969097 | BR12: 0.87726478 | BS12: ='J-S'!AC98 -> 0.68768145 | BT12: ='J-S'!AD98 -> 0.76555804 | BU12: ='J-S'!AE98 -> 0.65741599 | BV12: 0.66322569 | BW12: 0.81093078 | BX12: 0.88645139 | BY12: 0.84572581 | BZ12: 0.79456481 | CA12: 0.901135 | CB12: 0.9198414 | CC12: 0.85620278 | CD12: ='J-S'!AN98 -> 0.84445075 | CE12: =AVERAGE(BS12:CD12) -> 0.80276532 | CF12: =IF(CD12>=F12,"J","L") -> L | CU12: DF PR-21 | CV12: =+AS6 -> 0.73372082 | CW12: =+AS8 -> 0.85365862 | CX12: =+AS10 -> 0.86999146 | CY12: =+AS12 -> 0.71763392 | CZ12: =+AS14 -> 0.53605853 | DA12: =+AS16 -> 0.90294778 | DB12: =+AS18 -> 0.7911578 | DC12: =+AS20 -> 0.89716939 | DH12: JUMBOS SOSTENIMIENTO | DI12: 0.73484236
C13: UT | D13: % | E13: =+AVERAGE(G13:O13) -> 0.13096667 | F13: 0.2 | G13: 0.1859 | H13: 0.1906 | I13: 0.306 | J13: 0.0487 | K13: 0.062 | L13: 0.0568 | M13: 0.08 | N13: 0.1414 | O13: 0.1073 | P13: 0.10805 | Q13: 0.28665 | R13: 0.26915 | S13: 0.08145 | T13: 0.11976667 | U13: 0.064666667 | V13: 0.23313333 | W13: 0.11626667 | X13: 0.26233333 | Y13: 0.17246 | Z13: 0.18118 | AA13: 0.17418 | AB13: 0.17244056 | AC13: 0.14502 | AD13: 0.3539 | AE13: 0.050075 | AF13: 0.06075 | AG13: 0.054206301 | AH13: 0.056025 | AI13: 0.05530039 | AJ13: 0.079075 | AO13: 0.079171553 | AP13: 0.064070589 | AQ13: 0.076630425 | AR13: 0.046825 | AS13: 0.069154513 | AT13: 0.022660389 | AU13: 0.042 | AV13: 0.042342277 | AW13: 0.005067216 | AX13: 0.057451513 | AY13: 0.07444646 | AZ13: 0.067121752 | BA13: 0.06565505 | BB13: 0.058440043 | BC13: 0.056286128 | BD13: 0.08075023 | BE13: 0.063227541 | BF13: 0.070853278 | BG13: 0.058434628 | BH13: 0.075788885 | BI13: 0.077605752 | BJ13: 0.076518152 | BK13: 0.068794638 | BL13: 0.078881216 | BM13: 0.072678556 | BN13: 0.080717326 | BO13: 0.080802022 | BP13: 0.062580293 | BQ13: 0.065764321 | BR13: 0.051673547 | BS13: ='J-S'!AC99 -> 0.047259297 | BT13: ='J-S'!AD99 -> 0.060978611 | BU13: ='J-S'!AE99 -> 0.069020582 | BV13: 0.059571932 | BW13: 0.074167885 | BX13: 0.068813729 | BY13: 0.06125925 | BZ13: 0.074092717 | CA13: 0.050682095 | CB13: 0.041416631 | CC13: 0.13690887 | CD13: ='J-S'!AN99 -> 0.056251567 | CE13: =AVERAGE(BS13:CD13) -> 0.06670193 | CF13: =IF(CD13>=F13,"J","L") -> L | CU13: UT PR-21 | CV13: =+AS7 -> 0.39549233 | CW13: =+AS9 -> 0.13640863 | CX13: =+AS11 -> 0.064463515 | CY13: =+AS13 -> 0.069154513 | CZ13: =+AS15 -> 0.029051825 | DA13: =+AS17 -> 0.31108623 | DB13: =+AS19 -> 0.046897457 | DC13: =+AS21 -> 0.038382326 | DH13: JUMBOS TALACROS LARGOS | DI13: 1.0116948
B14: JUMBOS TALACROS LARGOS | C14: DF | D14: % | E14: =+AVERAGE(G14:O14) -> 0.61605556 | F14: 0.85 | G14: 0.2819 | H14: 0.5161 | I14: 0.8302 | J14: 0.947 | K14: 0.8808 | L14: 0.7081 | M14: 0.428 | N14: 0.2471 | O14: 0.7053 | P14: 0.445 | Q14: 0.66925 | R14: 0.66785 | S14: 0.61145 | T14: 0.3615 | U14: 0.4485 | V14: 0.5389 | W14: 0.86195 | X14: 0.53775 | Y14: 0.7026 | Z14: 0.87255 | AA14: 0.96365 | AB14: 0.64007917 | AC14: 0.6053 | AD14: 0.3825 | AE14: 0.7059 | AF14: 0.79035 | AG14: 0.37757392 | AH14: 0.4489 | AI14: 0.46421371 | AJ14: 0.42205 | AO14: 0.48397222 | AP14: 0.91297043 | AQ14: 0.575 | AR14: 0.2863 | AS14: 0.53605853 | AT14: 0.50351102 | AU14: 0.464 | AV14: 0.46401989 | AW14: 0.5 | AX14: 0.9469086 | AY14: 0.96597222 | AZ14: 0.96106151 | BA14: 0.99652778 | BB14: 0.98921958 | BC14: 0.99361155 | BD14: 0.82891656 | BE14: 0.95486111 | BF14: 0.96932128 | BG14: 0.92291667 | BH14: 0.99753788 | BI14: 0.97110215 | BJ14: 0.99565972 | BK14: 0.95243056 | BL14: 0.9491875 | BM14: 0.98180108 | BN14: 0.97013441 | BO14: 0.96128472 | BP14: 0.9952957 | BQ14: 0.97673611 | BR14: 0.95776882 | BS14: ='J-TL'!AC50 -> 0.97849462 | BT14: ='J-TL'!AD50 -> 0.9936756 | BU14: ='J-TL'!AE50 -> 0.98252688 | BV14: 0.98854167 | BW14: 0.72848118 | BX14: 0.50729167 | BY14: 0.69153226 | BZ14: 0.95317876 | CA14: 0.97164583 | CB14: 0.98084677 | CC14: 0.96319444 | CD14: ='J-TL'!AN50 -> 0.95766129 | CE14: =AVERAGE(BS14:CD14) -> 0.89142258 | CF14: =IF(CD14>=F14,"J","L") -> J | DH14: MEZCLACOR DE CONCRETO | DI14: 0.88522637
C15: UT | D15: % | E15: =+AVERAGE(G15:O15) -> 0.10412222 | F15: 0.2 | G15: 0.17 | H15: 0.1553 | I15: 0.1228 | J15: 0.0894 | K15: 0.0827 | L15: 0.1498 | M15: 0.0692 | N15: 0.0698 | O15: 0.0281 | P15: 0.0329 | Q15: 0.00045 | R15: 0.07215 | S15: 0.06485 | T15: 0.0757 | U15: 0.0275 | V15: 0.05435 | W15: 0.02545 | X15: 0.05555 | Y15: 0.14615 | Z15: 0.10425 | AA15: 0.11405 | AB15: 0.064445833 | AC15: 0.08345 | AD15: 0.08515 | AE15: 0.014 | AF15: 0.01675 | AG15: 0.015177945 | AH15: 0.01985 | AI15: 0.14488797 | AJ15: 0.01785 | AO15: 0.03207737 | AP15: 0.081670161 | AQ15: 0.012261594 | AR15: 0.0014 | AS15: 0.029051825 | AT15: 0.47784902 | AU15: 0.008 | AV15: 0.0078373508 | AW15: 0.046296296 | AX15: 0.0071271608 | AY15: 0.074730845 | AZ15: 0.20998972 | BA15: 0.2520268 | BB15: 0.98568948 | BC15: 0.99269006 | BD15: 0.76851852 | BE15: 0.1093181 | BF15: 0.008924797 | BG15: 0.0091958412 | BH15: 0.0022509121 | BI15: 0.0047218391 | BJ15: 0.014465558 | BK15: 0.0059314228 | BL15: 0.015246058 | BM15: 0.016321903 | BN15: 0.0085974439 | BO15: 0.0099660184 | BP15: 0.005455113 | BQ15: 0.0076035826 | BR15: 0.0073418724 | BS15: ='J-TL'!AC51 -> 0.015520439 | BT15: ='J-TL'!AD51 -> 0.0033438267 | BU15: ='J-TL'!AE51 -> 0.0054338149 | BV15: 0.012063054 | BW15: 0.0062934244 | BX15: 0.0075351171 | BY15: 0.014637305 | BZ15: 0.022543972 | CA15: 0.012274741 | CB15: 0.015092985 | CC15: 0.022569748 | CD15: ='J-TL'!AN51 -> 0.014202745 | CE15: =AVERAGE(BS15:CD15) -> 0.012625931 | CF15: =IF(CD15>=F15,"J","L") -> L | DH15: CARGACOR DE ANFO | DI15: 0.8694215
B16: MEZCLACOR DE CONCRETO | C16: DF | D16: % | E16: =+AVERAGE(G16:O16) -> 0.87502222 | F16: 0.85 | G16: 0.9738 | H16: 0.9449 | I16: 0.9629 | J16: 0.953 | K16: 0.8499 | L16: 0.6729 | M16: 0.888 | N16: 0.7403 | O16: 0.8895 | P16: 0.7299 | Q16: 0.73613333 | R16: 0.97933333 | S16: 0.8867 | T16: 0.95936667 | U16: 0.92066667 | V16: 0.68213333 | W16: 0.96046667 | X16: 0.90726667 | Y16: 0.91566667 | Z16: 0.78346667 | AA16: 0.83953333 | AB16: 0.85838611 | AC16: 0.91896667 | AD16: 0.92656667 | AE16: 0.6891 | AF16: 0.6356 | AG16: 0.83771505 | AH16: 0.96396667 | AI16: 0.9527957 | AJ16: 0.7784 | AO16: 0.96929167 | AP16: 0.92041667 | AQ16: 0.91326389 | AR16: 0.93336667 | AS16: 0.90294778 | AT16: 0.91220341 | AU16: 0.945 | AV16: 0.94515233 | AW16: 1 | AX16: 0.88119624 | AY16: 0.88993056 | AZ16: 0.92209821 | BA16: 0.87893519 | BB16: 0.91687996 | BC16: 0.93028752 | BD16: 0.9623228 | BE16: 0.95243056 | BF16: 0.92606837 | BG16: 0.94081481 | BH16: 0.92844949 | BI16: 0.91326613 | BJ16: 0.93673148 | BK16: 0.87025463 | BL16: 0.96907407 | BM16: 0.86674731 | BN16: 0.93828405 | BO16: 0.94201389 | BP16: 0.94459229 | BQ16: 0.93036111 | BR16: 0.93223118 | BS16: =MX!AC50 -> 0.94896057 | BT16: =MX!AD50 -> 0.93790675 | BU16: =MX!AE50 -> 0.89339158 | BV16: 0.95122222 | BW16: 0.92983871 | BX16: 0.93237037 | BY16: 0.9015457 | BZ16: 0.91974462 | CA16: 0.95462963 | CB16: 0.77501344 | CC16: 0.86090278 | CD16: =MX!AN50 -> 0.9147267 | CE16: =AVERAGE(BS16:CD16) -> 0.91002109 | CF16: =IF(CD16>=F16,"J","L") -> J | DH16: LANZACOR DE CONCRETO | DI16: 0.84730279
C17: UT | D17: % | E17: =+AVERAGE(G17:O17) -> 0.26215556 | F17: 0.3 | G17: 0.2396 | H17: 0.2498 | I17: 0.2253 | J17: 0.1967 | K17: 0.2111 | L17: 0.2144 | M17: 0.4133 | N17: 0.3144 | O17: 0.2948 | P17: 0.23653333 | Q17: 0.2849 | R17: 0.23686667 | S17: 0.2956 | T17: 0.22673333 | U17: 0.26933333 | V17: 0.24236667 | W17: 0.2142 | X17: 0.31236667 | Y17: 0.31456667 | Z17: 0.3495 | AA17: 0.3055 | AB17: 0.27403889 | AC17: 0.296 | AD17: 0.20706667 | AE17: 0.27456667 | AF17: 0.28146667 | AG17: 0.29663178 | AH17: 0.263 | AI17: 0.28863644 | AJ17: 0.3199 | AO17: 0.29858356 | AP17: 0.31626236 | AQ17: 0.31915192 | AR17: 0.30153333 | AS17: 0.31108623 | AT17: 0.19958649 | AU17: 0.176 | AV17: 0.17635654 | AW17: 0 | AX17: 0.22049424 | AY17: 0.21151592 | AZ17: 0.31082756 | BA17: 0.25821596 | BB17: 0.21268387 | BC17: 0.29198505 | BD17: 0.29988177 | BE17: 0.27010679 | BF17: 0.26304026 | BG17: 0.18544396 | BH17: 0.19732769 | BI17: 0.26727121 | BJ17: 0.27665026 | BK17: 0.35449587 | BL17: 0.29424083 | BM17: 0.27461315 | BN17: 0.24282835 | BO17: 0.23686634 | BP17: 0.30156253 | BQ17: 0.32441421 | BR17: 0.20076866 | BS17: =MX!AC51 -> 0.20993636 | BT17: =MX!AD51 -> 0.32353526 | BU17: =MX!AE51 -> 0.3650967 | BV17: 0.3287704 | BW17: 0.36533686 | BX17: 0.35529551 | BY17: 0.33399843 | BZ17: 0.34985854 | CA17: 0.30024416 | CB17: 0.29796577 | CC17: 0.30954909 | CD17: =MX!AN51 -> 0.31677531 | CE17: =AVERAGE(BS17:CD17) -> 0.32136353 | CF17: =IF(CD17>=F17,"J","L") -> J
B18: CARGACOR DE ANFO | C18: DF | D18: % | E18: =+AVERAGE(G18:O18) -> 0.90031111 | F18: 0.85 | G18: 0.9514 | H18: 0.8294 | I18: 0.9604 | J18: 0.908 | K18: 0.9524 | L18: 0.7364 | M18: 0.9036 | N18: 0.9482 | O18: 0.913 | P18: 0.6341 | Q18: 0.60943333 | R18: 0.60256667 | S18: 0.63946667 | T18: 0.62193333 | U18: 0.62633333 | V18: 0.63586667 | W18: 0.89293333 | X18: 0.94423333 | Y18: 0.88603333 | Z18: 0.93153333 | AA18: 0.9458 | AB18: 0.74751944 | AC18: 0.89933333 | AD18: 0.81453333 | AE18: 0.85613333 | AF18: 0.67156667 | AG18: 0.9578853 | AH18: 0.8779 | AI18: 0.95339606 | AJ18: 0.97186667 | AO18: 0.95588889 | AP18: 0.63952509 | AQ18: 0.61354167 | AR18: 0.77496667 | AS18: 0.7911578 | AT18: 0.76555556 | AU18: 0.945 | AV18: 0.94485663 | AW18: 0.99768519 | AX18: 0.96461022 | AY18: 0.95524074 | AZ18: 0.96143849 | BA18: 0.95038426 | BB18: 0.91398313 | BC18: 0.85702729 | BD18: 0.92519619 | BE18: 0.79922685 | BF18: 0.87470146 | BG18: 0.87703704 | BH18: 0.95492424 | BI18: 0.93317204 | BJ18: 0.91080093 | BK18: 0.96118981 | BL18: 0.90811389 | BM18: 0.74601703 | BN18: 0.62174283 | BO18: 0.83431019 | BP18: 0.87375 | BQ18: 0.91461574 | BR18: 0.96074373 | BS18: =AF!AC50 -> 0.92880824 | BT18: =AF!AD50 -> 0.88730159 | BU18: =AF!AE50 -> 0.72733871 | BV18: 0.81298148 | BW18: 0.95026882 | BX18: 0.94645833 | BY18: 0.94785842 | BZ18: 0.89329301 | CA18: 0.93776389 | CB18: 0.63766129 | CC18: 0.63967593 | CD18: =AF!AN50 -> 0.63876941 | CE18: =AVERAGE(BS18:CD18) -> 0.82901493 | CF18: =IF(CD18>=F18,"J","L") -> L
C19: UT | D19: % | E19: =+AVERAGE(G19:O19) -> 0.1208 | F19: 0.18 | G19: 0.1853 | H19: 0.1719 | I19: 0.1474 | J19: 0.0795 | K19: 0.1052 | L19: 0.0923 | M19: 0.1035 | N19: 0.1098 | O19: 0.0923 | P19: 0.070966667 | Q19: 0.067333333 | R19: 0.1221 | S19: 0.0671 | T19: 0.070866667 | U19: 0.087333333 | V19: 0.092766667 | W19: 0.1036 | X19: 0.07 | Y19: 0.069733333 | Z19: 0.0768 | AA19: 0.0725 | AB19: 0.080925 | AC19: 0.067933333 | AD19: 0.072133333 | AE19: 0.030366667 | AF19: 0.032066667 | AG19: 0.028786982 | AH19: 0.030733333 | AI19: 0.03739813 | AJ19: 0.035366667 | AO19: 0.02897434 | AP19: 0.050918122 | AQ19: 0.089328154 | AR19: 0.0299 | AS19: 0.046897457 | AT19: 0.044711361 | AU19: 0.019 | AV19: 0.018538945 | AW19: 0.0067977108 | AX19: 0.032429288 | AY19: 0.034019806 | AZ19: 0.037197131 | BA19: 0.037178971 | BB19: 0.031481324 | BC19: 0.024034526 | BD19: 0.037309282 | BE19: 0.044308127 | BF19: 0.035841051 | BG19: 0.033708166 | BH19: 0.034437154 | BI19: 0.036805806 | BJ19: 0.028901703 | BK19: 0.032327468 | BL19: 0.036292437 | BM19: 0.032210799 | BN19: 0.037517921 | BO19: 0.042118616 | BP19: 0.042747318 | BQ19: 0.041416305 | BR19: 0.031608922 | BS19: =AF!AC51 -> 0.037420373 | BT19: =AF!AD51 -> 0.037641051 | BU19: =AF!AE51 -> 0.051663516 | BV19: 0.030397314 | BW19: 0.045032082 | BX19: 0.032550158 | BY19: 0.035589893 | BZ19: 0.041081775 | CA19: 0.03847803 | CB19: 0.055938202 | CC19: 0.032550367 | CD19: =AF!AN51 -> 0.029817305 | CE19: =AVERAGE(BS19:CD19) -> 0.039013339 | CF19: =IF(CD19>=F19,"J","L") -> L
B20: LANZACOR DE CONCRETO | C20: DF | D20: % | E20: =+AVERAGE(G20:O20) -> 0.83686667 | F20: 0.85 | G20: 0.8802 | H20: 0.8029 | I20: 0.8778 | J20: 0.95 | K20: 0.794 | L20: 0.5388 | M20: 0.9258 | N20: 0.9366 | O20: 0.8257 | P20: 0.9236 | Q20: 0.90045 | R20: 0.65935 | S20: 0.9361 | T20: 0.87145 | U20: 0.838 | V20: 0.94525 | W20: 0.88945 | X20: 0.9247 | Y20: 0.93115 | Z20: 0.7292 | AA20: 0.9114 | AB20: 0.871675 | AC20: 0.928 | AD20: 0.9206 | AE20: 0.8616 | AF20: 0.78735 | AG20: 0.8772379 | AH20: 0.94265 | AI20: 0.93299059 | AJ20: 0.9236 | AO20: 0.89507639 | AP20: 0.76038082 | AQ20: 0.95208976 | AR20: 0.9547 | AS20: 0.89716939 | AT20: 0.73484123 | AU20: 0.891 | AV20: 0.89112903 | AW20: 0.98923611 | AX20: 0.85685484 | AY20: 0.89872917 | AZ20: 0.8859747 | BA20: 0.89759028 | BB20: 0.90959821 | BC20: 0.84685673 | BD20: 0.89771552 | BE20: 0.65475 | BF20: 0.86780094 | BG20: 0.92956944 | BH20: 0.62214394 | BI20: 0.77434812 | BJ20: 0.90318056 | BK20: 0.871875 | BL20: 0.86120139 | BM20: 0.90450269 | BN20: 0.9044086 | BO20: 0.87540278 | BP20: 0.94836022 | BQ20: 0.89675694 | BR20: 0.92186156 | BS20: =LC!AC50 -> 0.90627016 | BT20: =LC!AD50 -> 0.71880952 | BU20: =LC!AE50 -> 0.91700941 | BV20: 0.89359722 | BW20: 0.91601478 | BX20: 0.90160417 | BY20: 0.92473118 | BZ20: 0.80499328 | CA20: 0.89047222 | CB20: 0.88094758 | CC20: 0.79311111 | CD20: =LC!AN50 -> 0.67276882 | CE20: =AVERAGE(BS20:CD20) -> 0.85169412 | CF20: =IF(CD20>=F20,"J","L") -> L
C21: UT | D21: % | E21: =+AVERAGE(G21:O21) -> 0.091711111 | F21: 0.18 | G21: 0.1479 | H21: 0.1551 | I21: 0.1593 | J21: 0.0503 | K21: 0.0565 | L21: 0.0607 | M21: 0.0533 | N21: 0.0744 | O21: 0.0679 | P21: 0.053 | Q21: 0.111 | R21: 0.1332 | S21: 0.10085 | T21: 0.08345 | U21: 0.241 | V21: 0.14555 | W21: 0.0686 | X21: 0.13655 | Y21: 0.1272 | Z21: 0.15055 | AA21: 0.1579 | AB21: 0.1257375 | AC21: 0.16645 | AD21: 0.132 | AE21: 0.0521 | AF21: 0.06105 | AG21: 0.060311196 | AH21: 0.04925 | AI21: 0.07634319 | AJ21: 0.07405 | AO21: 0.039425673 | AP21: 0.036110523 | AQ21: 0.015925435 | AR21: 0.0264 | AS21: 0.038382326 | AT21: 0.032513363 | AU21: 0.054 | AV21: 0.054346619 | AW21: 0.013589674 | AX21: 0.050965308 | AY21: 0.084059597 | AZ21: 0.080619294 | BA21: 0.06312343 | BB21: 0.043384575 | BC21: 0.055196323 | BD21: 0.087909838 | BE21: 0.06120916 | BF21: 0.060755161 | BG21: 0.038379895 | BH21: 0.037877756 | BI21: 0.069567502 | BJ21: 0.062562547 | BK21: 0.063213733 | BL21: 0.087041037 | BM21: 0.051016074 | BN21: 0.070175819 | BO21: 0.061167487 | BP21: 0.063541184 | BQ21: 0.073553889 | BR21: 0.050965012 | BS21: =LC!AC51 -> 0.057180304 | BT21: =LC!AD51 -> 0.086659789 | BU21: =LC!AE51 -> 0.066092973 | BV21: 0.069120046 | BW21: 0.082804314 | BX21: 0.085981412 | BY21: 0.094868546 | BZ21: 0.10203228 | CA21: 0.08483966 | CB21: 0.0857524 | CC21: 0.082529172 | CD21: =LC!AO51 -> 0.081960304 | CE21: =AVERAGE(BS21:CD21) -> 0.081651767 | CF21: =IF(CD21>=F21,"J","L") -> L
B22: EQUIPOS PARA VIAS | C22: DF | D22: % | E22: =+AVERAGE(G22:O22) -> 0.65472222 | F22: 0.85 | G22: 0.9986 | H22: 0.4997 | I22: 0.4952 | J22: 0 | K22: 0.4642 | L22: 0.866 | M22: 0.9402 | N22: 0.7563 | O22: 0.8723 | P22: 0.89865 | Q22: 0.9222 | R22: 0.84925 | S22: 0.89835 | T22: 0.58425 | U22: 0.729 | V22: 0.7389 | W22: 0.93455 | X22: 0.92715 | Y22: 0.92915 | Z22: 0.83035 | AA22: 0.76635 | AB22: 0.8340125 | AC22: 0.8882 | AD22: 0.672 | AE22: 0.32825 | AF22: 0.38645 | AG22: 0.48655914 | AH22: 0.49065 | AI22: 0.5 | AJ22: 0.5 | AO22: 0.53601559 | AP22: 0.85 | AQ22: 0 | AS22: 0.53201386 | BU22: =EV!F18 -> 0.98655914 | BV22: =EV!G18 -> 0.97043011 | BW22: =EV!H18 -> 0.97715054 | BX22: =EV!I18 -> 0.97513441 | BY22: =EV!J18 -> 0.96572581 | BZ22: 0.97043011 | CA22: 0.95138889 | CB22: 0.99462366 | CC22: 0.97361111 | CD22: =EV!O18 -> 0.97647849 | CE22: =AVERAGE(BS22:CD22) -> 0.97415323 | CF22: =IF(CD22>=F22,"J","L") -> J
C23: UT | D23: % | E23: =+AVERAGE(G23:O23) -> 0.066633333 | F23: 0.15 | G23: 0.0052 | H23: 0.0321 | I23: 0.0278 | J23: 0 | K23: 0.1123 | L23: 0.1112 | M23: 0.098 | N23: 0.1237 | O23: 0.0894 | P23: 0.1546 | Q23: 0.17765 | R23: 0.2032 | S23: 0.28555 | T23: 0.11755 | U23: 0.019 | V23: 0.1248 | W23: 0.62285 | X23: 0.12525 | Y23: 0.20595 | Z23: 0.18265 | AA23: 0.1259 | AB23: 0.1954125 | AC23: 0.30605 | AD23: 0.1658 | AE23: 0.0149 | AF23: 0.13185 | AG23: 0.064060773 | AH23: 0.02865 | AI23: 0.037634409 | AJ23: 0 | AO23: 0.10699217 | AP23: 0.15 | AQ23: 0 | AS23: 0.09510415 | BU23: =EV!F19 -> 0.35418256 | BV23: =EV!G19 -> 0.26036011 | BW23: =EV!H19 -> 0.35090784 | BX23: =EV!I19 -> 0.34425913 | BY23: =EV!J19 -> 0.31565762 | BZ23: 0.18855956 | CA23: 0.20732847 | CB23: 0.2295 | CC23: 0.18851641 | CD23: =EV!O19 -> 0.15139711 | CE23: =AVERAGE(BS23:CD23) -> 0.25906688 | CF23: =IF(CD23>=F23,"J","L") -> J
B24: VOLQUETES | C24: DF | D24: % | E24: =+AVERAGE(G24:O24) -> 0.65472222 | F24: 0.85 | G24: 0.9986 | H24: 0.4997 | I24: 0.4952 | J24: 0 | K24: 0.4642 | L24: 0.866 | M24: 0.9402 | N24: 0.7563 | O24: 0.8723 | P24: 0.89865 | Q24: 0.9222 | R24: 0.84925 | S24: 0.89835 | T24: 0.58425 | U24: 0.729 | V24: 0.7389 | W24: 0.93455 | X24: 0.92715 | Y24: 0.92915 | Z24: 0.83035 | AA24: 0.76635 | AB24: 0.8340125 | AC24: 0.8882 | AD24: 0.672 | AE24: 0.32825 | AF24: 0.38645 | AG24: 0.48655914 | AH24: 0.49065 | AI24: 0.5 | AJ24: 0.5 | AO24: 0.53601559 | AP24: 0.85 | AQ24: 0 | AS24: 0.53201386 | BU24: =VOLQ!F82 -> 0.97597446 | BV24: =VOLQ!G82 -> 0.97043011 | BW24: =VOLQ!H82 -> 0.72069892 | BX24: =VOLQ!I82 -> 0.97076613 | BY24: =VOLQ!J82 -> 0.80846438 | BZ24: 0.68390457 | CA24: 0.62609722 | CB24: 0.69732191 | CC24: 0.703525 | CD24: =VOLQ!O82 -> 0.72116935 | CE24: =AVERAGE(BS24:CD24) -> 0.78783521 | CF24: =IF(CD24>=F24,"J","L") -> L
C25: UT | D25: % | E25: =+AVERAGE(G25:O25) -> 0.066633333 | F25: 0.15 | G25: 0.0052 | H25: 0.0321 | I25: 0.0278 | J25: 0 | K25: 0.1123 | L25: 0.1112 | M25: 0.098 | N25: 0.1237 | O25: 0.0894 | P25: 0.1546 | Q25: 0.17765 | R25: 0.2032 | S25: 0.28555 | T25: 0.11755 | U25: 0.019 | V25: 0.1248 | W25: 0.62285 | X25: 0.12525 | Y25: 0.20595 | Z25: 0.18265 | AA25: 0.1259 | AB25: 0.1954125 | AC25: 0.30605 | AD25: 0.1658 | AE25: 0.0149 | AF25: 0.13185 | AG25: 0.064060773 | AH25: 0.02865 | AI25: 0.037634409 | AJ25: 0 | AO25: 0.10699217 | AP25: 0.15 | AQ25: 0 | AS25: 0.09510415 | BU25: 0.58117326 | BV25: 0.58117326 | BW25: 0.58117326 | BX25: 0.58117326 | BY25: 0.58117326 | BZ25: 0.44849642 | CA25: 0.35919318 | CB25: 0.37075692 | CC25: 0.3496 | CD25: =VOLQ!O83 -> 0.37517534 | CE25: =AVERAGE(BS25:CD25) -> 0.48090882 | CF25: =IF(CD25>=F25,"J","L") -> J

Sheet KPIS 
B2: DISPONIBILIDAD FISICA / UTILIZACION DIARIA
B3: FLOTA | AM3: INDICADORES DE CONFIABILIDAD EQUIPOS MINA DICIEMBRE
B4: TIPO | C4: KPIs | D4: UM | E4: 44317 | F4: 44318 | G4: 44319 | H4: 44320 | I4: 44321 | J4: 44322 | K4: 44323 | L4: 44324 | M4: 44325 | N4: 44326 | O4: 44327 | P4: 44328 | Q4: 44329 | R4: 44330 | S4: 44331 | T4: 44332 | U4: 44333 | V4: 44334 | W4: 44335 | X4: 44336 | Y4: 44337 | Z4: 44338 | AA4: 44339 | AB4: 44340 | AC4: 44341 | AD4: 44342 | AE4: 44343 | AF4: 44344 | AG4: 44345 | AH4: 44346 | AI4: 44347 | AJ4: Total | AM4: SC-PROD | AN4: SC-SERV | AO4: JU-PROD | AP4: JU-SOST | AQ4: JU-TA/LA | AR4: MX-CONC | AS4: CA-ANFO | AT4: LA-CONC | AU4: EQ-VIAS | AV4: VOLQ
B5: CAT-02 | C5: H.T | E5: 14.33 | F5: 14.33 | G5: 14.33 | H5: 5.35 | I5: 5.35 | J5: 5.65 | K5: 5.65 | L5: 13 | M5: 13.8 | N5: 12.7 | O5: 12.7 | P5: 6.3 | Q5: 10.5 | R5: 20.9 | S5: 0 | T5: 13.1 | U5: 13 | V5: 8.6 | W5: 4.6 | X5: 10 | Y5: 19 | Z5: 11.4 | AA5: 10.9 | AB5: 10.4 | AC5: 14.4 | AD5: 14.4 | AE5: 10.47 | AF5: 8.8 | AJ5: 303.96 | AK5: 0 | AL5: DF | AM5: ='S-P'!AN146 -> 0.7150288 | AN5: =+'S-S'!AN34 -> 1 | AO5: =+'J-P'!AN66 -> 0.90416331 | AP5: =+'J-S'!AN98 -> 0.84445075 | AQ5: =+'J-TL'!AN50 -> 0.95766129 | AR5: =+MX!AN50 -> 0.9147267 | AS5: =+AF!AN50 -> 0.63876941 | AT5: =LC!AN50 -> 0.67276882 | AU5: =EV!O18 -> 0.97647849 | AV5: =VOLQ!O82 -> 0.72116935
C6: N°.I | E6: 0 | F6: 0 | G6: 0 | H6: 0 | I6: 0 | J6: 0 | K6: 0 | L6: 0 | M6: 0 | N6: 2 | O6: 1 | P6: 0 | Q6: 1 | R6: 0 | S6: 1 | T6: 0 | U6: 0 | V6: 0 | W6: 0 | X6: 0 | Y6: 0 | Z6: 0 | AA6: 1 | AB6: 1 | AC6: 0 | AD6: 0 | AE6: 1 | AF6: 0 | AJ6: 8 | AK6: 0 | AL6: MTBF | AM6: ='S-P'!AN148 -> 35.586921 | AN6: ='S-S'!AN36 -> 0 | AO6: =+'J-P'!AN68 -> 5.6135908 | AP6: =+'J-S'!AN100 -> 2.9972016 | AQ6: =+'J-TL'!AN52 -> 1.9344139 | AR6: =+MX!AN52 -> 42.705608 | AS6: =+AF!AN52 -> 2.8496955 | AT6: =LC!AN52 -> 4.040161 | AU6: =EV!O20 -> 109.99 | AV6: =VOLQ!O84 -> 53.242857
C7: DF | D7: % | E7: 100 | F7: 100 | G7: 100 | H7: 100 | I7: 62.5 | J7: 100 | K7: 100 | L7: 100 | M7: 100 | N7: 70.833333 | O7: 93.75 | P7: 100 | Q7: 88.208333 | R7: 100 | S7: 29.25 | T7: 100 | U7: 100 | V7: 100 | W7: 100 | X7: 56.25 | Y7: 100 | Z7: 100 | AA7: 55.541667 | AB7: 97.916667 | AC7: 100 | AD7: 100 | AE7: 85.416667 | AF7: 89.583333 | AJ7: 0.90330357 | AL7: MTTR | AM7: ='S-P'!AN149 -> 113.28122 | AN7: =+'S-S'!AN37 -> 0 | AO7: =+'J-P'!AN69 -> 4.2425714 | AP7: =+'J-S'!AN101 -> 12.490942 | AQ7: =+'J-TL'!AN53 -> 1.5 | AR7: =+MX!AN53 -> 5.9080167 | AS7: =+AF!AN53 -> 62.7 | AT7: =LC!AN53 -> 22.728194 | AU7: =EV!O21 -> 0 | AV7: =VOLQ!O85 -> 48.281964
C8: UT | D8: % | E8: 59.708333 | F8: 59.708333 | G8: 59.708333 | H8: 22.291667 | I8: 35.666667 | J8: 23.541667 | K8: 23.541667 | L8: 54.166667 | M8: 57.5 | N8: 74.705882 | O8: 56.444444 | P8: 26.25 | Q8: 49.598488 | R8: 87.083333 | S8: 0 | T8: 54.583333 | U8: 54.166667 | V8: 35.833333 | W8: 19.166667 | X8: 74.074074 | Y8: 79.166667 | Z8: 47.5 | AA8: 81.770443 | AB8: 44.255319 | AC8: 60 | AD8: 60 | AE8: 51.073171 | AF8: 40.930233 | AJ8: 0.50074133 | AL8: OBJ MTBF | AM8: 50 | AN8: 50 | AO8: 20 | AP8: 20 | AQ8: 20 | AR8: 30 | AS8: 30 | AT8: 30 | AU8: 50 | AV8: 50
C9: MTBF | E9: 14.33 | F9: 14.33 | G9: 14.33 | H9: 5.35 | I9: 5.35 | J9: 5.65 | K9: 5.65 | L9: 13 | M9: 13.8 | N9: 6.35 | O9: 12.7 | P9: 6.3 | Q9: 10.5 | R9: 20.9 | S9: 0 | T9: 13.1 | U9: 13 | V9: 8.6 | W9: 4.6 | X9: 10 | Y9: 19 | Z9: 11.4 | AA9: 10.9 | AB9: 10.4 | AC9: 14.4 | AD9: 14.4 | AE9: 10.47 | AF9: 8.8 | AJ9: 37.995 | AL9: OBJ MTTR | AM9: 5 | AN9: 5 | AO9: 4 | AP9: 4 | AQ9: 4 | AR9: 4 | AS9: 4 | AT9: 4 | AU9: 5 | AV9: 5
C10: MTTR | E10: 0 | F10: 0 | G10: 0 | H10: 0 | I10: 0 | J10: 0 | K10: 0 | L10: 0 | M10: 0 | N10: 3.5 | O10: 1.5 | P10: 0 | Q10: 2.83 | R10: 0 | S10: 16.98 | T10: 0 | U10: 0 | V10: 0 | W10: 0 | X10: 0 | Y10: 0 | Z10: 0 | AA10: 10.67 | AB10: 0.5 | AC10: 0 | AD10: 0 | AE10: 3.5 | AF10: 2.5 | AJ10: 5.685 | AL10: $/h | AM10: 30.389972 | AN10: 0 | AO10: 165.06265 | AP10: 460.56241 | AQ10: 647.97617 | AR10: 22.490401 | AS10: 69.667084 | AT10: 302.55455 | AU10: 0 | AV10: 12.8
B11: CAT-03 | C11: H.T | E11: 2.5 | F11: 12.5 | G11: 12.5 | H11: 17 | I11: 12 | J11: 8.73 | K11: 8.73 | L11: 8.73 | M11: 11.07 | N11: 11.07 | O11: 11.07 | P11: 12.3 | Q11: 13.2 | R11: 20.2 | S11: 13 | T11: 7.4 | U11: 15.4 | V11: 13 | W11: 4.1 | X11: 10.1 | Y11: 12.6 | Z11: 6.2 | AA11: 12.9 | AB11: 18.5 | AC11: 0 | AD11: 0 | AE11: 12.55 | AF11: 6.8 | AJ11: 294.15 | AL11: $/ hora
C12: N°.I | E12: 0 | F12: 0 | G12: 0 | H12: 0 | I12: 0 | J12: 0 | K12: 0 | L12: 0 | M12: 0 | N12: 0 | O12: 0 | P12: 0 | Q12: 1 | R12: 0 | S12: 0 | T12: 0 | U12: 0 | V12: 0 | W12: 0 | X12: 1 | Y12: 0 | Z12: 1 | AA12: 0 | AB12: 0 | AC12: 0 | AD12: 0 | AE12: 1 | AF12: 0 | AJ12: 4
C13: DF | D13: % | E13: 37.5 | F13: 100 | G13: 100 | H13: 100 | I13: 100 | J13: 100 | K13: 100 | L13: 100 | M13: 100 | N13: 100 | O13: 100 | P13: 100 | Q13: 89.583333 | R13: 100 | S13: 100 | T13: 100 | U13: 75 | V13: 100 | W13: 70.833333 | X13: 91.666667 | Y13: 100 | Z13: 89.583333 | AA13: 100 | AB13: 100 | AC13: 66.666667 | AD13: 0 | AE13: 89.583333 | AF13: 95.833333 | AJ13: 0.89508929
C14: UT | D14: % | E14: 27.777778 | F14: 52.083333 | G14: 52.083333 | H14: 70.833333 | I14: 50 | J14: 36.375 | K14: 36.375 | L14: 36.375 | M14: 46.125 | N14: 46.125 | O14: 46.125 | P14: 51.25 | Q14: 61.395349 | R14: 84.166667 | S14: 54.166667 | T14: 30.833333 | U14: 85.555556 | V14: 54.166667 | W14: 24.117647 | X14: 45.909091 | Y14: 52.5 | Z14: 28.837209 | AA14: 53.75 | AB14: 77.083333 | AC14: 0 | AD14: 0 | AE14: 58.372093 | AF14: 29.565217 | AJ14: 0.48902743
C15: MTBF | E15: 2.5 | F15: 12.5 | G15: 12.5 | H15: 17 | I15: 12 | J15: 8.73 | K15: 8.73 | L15: 8.73 | M15: 11.07 | N15: 11.07 | O15: 11.07 | P15: 12.3 | Q15: 13.2 | R15: 20.2 | S15: 13 | T15: 7.4 | U15: 15.4 | V15: 13 | W15: 4.1 | X15: 10.1 | Y15: 12.6 | Z15: 6.2 | AA15: 12.9 | AB15: 18.5 | AC15: 0 | AD15: 0 | AE15: 12.55 | AF15: 6.8 | AJ15: 73.5375
A16: =13.84/#REF! -> #REF! | C16: MTTR | E16: 0 | F16: 0 | G16: 0 | H16: 0 | I16: 0 | J16: 0 | K16: 0 | L16: 0 | M16: 0 | N16: 0 | O16: 0 | P16: 0 | Q16: 2.5 | R16: 0 | S16: 0 | T16: 0 | U16: 6 | V16: 0 | W16: 7 | X16: 2 | Y16: 0 | Z16: 2.5 | AA16: 0 | AB16: 0 | AC16: 0 | AD16: 0 | AE16: 2.5 | AF16: 1 | AJ16: 5.875
B17: CAT-04 | C17: H.T | E17: 9.9 | F17: 9.9 | G17: 5.9 | H17: 1.4 | I17: 12.1 | J17: 12.35 | K17: 12.35 | L17: 16.7 | M17: 7.4 | N17: 16 | O17: 16 | P17: 8.1 | Q17: 11.7 | R17: 21.2 | S17: 14.2 | T17: 11.7 | U17: 10.6 | V17: 12 | W17: 4.4 | X17: 12.2 | Y17: 12.6 | Z17: 5.3 | AA17: 11.4 | AB17: 12.9 | AC17: 9.1 | AD17: 9.1 | AE17: 0 | AF17: 0 | AJ17: 286.5
C18: N°.I | E18: 1 | F18: 0 | G18: 0 | H18: 0 | I18: 0 | J18: 0 | K18: 0 | L18: 0 | M18: 0 | N18: 0 | O18: 0 | P18: 1 | Q18: 1 | R18: 1 | S18: 0 | T18: 0 | U18: 2 | V18: 1 | W18: 0 | X18: 0 | Y18: 1 | Z18: 0 | AA18: 0 | AB18: 1 | AC18: 0 | AD18: 0 | AE18: 0 | AF18: 0 | AJ18: 9
C19: DF | D19: % | E19: 97.916667 | F19: 100 | G19: 29.166667 | H19: 31.25 | I19: 100 | J19: 100 | K19: 100 | L19: 100 | M19: 100 | N19: 100 | O19: 100 | P19: 95.833333 | Q19: 79.166667 | R19: 95.833333 | S19: 100 | T19: 100 | U19: 63.875 | V19: 95.833333 | W19: 81.916667 | X19: 100 | Y19: 84.375 | Z19: 33.333333 | AA19: 100 | AB19: 95.833333 | AC19: 100 | AD19: 100 | AE19: 100 | AF19: 100 | AJ19: 0.8872619
C20: UT | D20: % | E20: 42.12766 | F20: 41.25 | G20: 84.285714 | H20: 18.666667 | I20: 50.416667 | J20: 51.458333 | K20: 51.458333 | L20: 69.583333 | M20: 30.833333 | N20: 66.666667 | O20: 66.666667 | P20: 35.217391 | Q20: 61.578947 | R20: 92.173913 | S20: 59.166667 | T20: 48.75 | U20: 69.145466 | V20: 52.173913 | W20: 22.380468 | X20: 50.833333 | Y20: 62.222222 | Z20: 66.25 | AA20: 47.5 | AB20: 56.086957 | AC20: 37.916667 | AD20: 37.916667 | AE20: 0 | AF20: 0 | AJ20: 0.4805112
C21: MTBF | E21: 9.9 | F21: 9.9 | G21: 5.9 | H21: 1.4 | I21: 12.1 | J21: 12.35 | K21: 12.35 | L21: 16.7 | M21: 7.4 | N21: 16 | O21: 16 | P21: 8.1 | Q21: 11.7 | R21: 21.2 | S21: 14.2 | T21: 11.7 | U21: 5.3 | V21: 12 | W21: 4.4 | X21: 12.2 | Y21: 12.6 | Z21: 5.3 | AA21: 11.4 | AB21: 12.9 | AC21: 9.1 | AD21: 9.1 | AE21: 0 | AF21: 0 | AJ21: 31.833333
C22: MTTR | E22: 0.5 | F22: 0 | G22: 0 | H22: 0 | I22: 0 | J22: 0 | K22: 0 | L22: 0 | M22: 0 | N22: 0 | O22: 0 | P22: 1 | Q22: 5 | R22: 1 | S22: 0 | T22: 0 | U22: 4.335 | V22: 1 | W22: 4.34 | X22: 0 | Y22: 3.75 | Z22: 0 | AA22: 0 | AB22: 1 | AC22: 0 | AD22: 0 | AE22: 0 | AF22: 0 | AJ22: 2.9177778
B23: CAT-05 | C23: H.T | E23: 0 | F23: 0 | K23: 6.58 | L23: 14 | M23: 10 | N23: 15.6 | O23: 15.6 | P23: 0 | Q23: 7.3 | R23: 20.3 | S23: 14.1 | T23: 5.5 | U23: 13.6 | V23: 4 | W23: 13.3 | X23: 5.8 | Y23: 11.6 | Z23: 6.3 | AA23: 14.2 | AB23: 13.4 | AC23: 8.2 | AD23: 8.2 | AE23: 11.67 | AF23: 9.8 | AJ23: 229.05
C24: N°.I | E24: 0 | F24: 0 | G24: 0 | H24: 0 | I24: 0 | J24: 0 | K24: 0 | L24: 0 | M24: 1 | N24: 0 | O24: 0 | P24: 1 | Q24: 0 | R24: 0 | S24: 0 | T24: 0 | U24: 0 | V24: 0 | W24: 0 | X24: 1 | Y24: 0 | Z24: 0 | AA24: 0 | AB24: 0 | AC24: 0 | AD24: 0 | AE24: 0 | AF24: 0 | AJ24: 3
C25: DF | D25: % | E25: 0 | F25: 0 | G25: 0 | H25: 0 | I25: 0 | J25: 0 | K25: 83 | L25: 100 | M25: 83.333333 | N25: 100 | O25: 100 | P25: 29.166667 | Q25: 41.666667 | R25: 100 | S25: 100 | T25: 100 | U25: 100 | V25: 29.166667 | W25: 83.333333 | X25: 95.833333 | Y25: 83.333333 | Z25: 100 | AA25: 100 | AB25: 100 | AC25: 100 | AD25: 100 | AE25: 100 | AF25: 69.791667 | AJ25: 0.67808036
C26: UT | D26: % | E26: 0 | F26: 0 | G26: 0 | H26: 0 | I26: 0 | J26: 0 | K26: 33.032129 | L26: 58.333333 | M26: 50 | N26: 65 | O26: 65 | P26: 0 | Q26: 73 | R26: 84.583333 | S26: 58.75 | T26: 22.916667 | U26: 56.666667 | V26: 57.142857 | W26: 66.5 | X26: 25.217391 | Y26: 58 | Z26: 26.25 | AA26: 59.166667 | AB26: 55.833333 | AC26: 34.166667 | AD26: 34.166667 | AE26: 48.625 | AF26: 58.507463 | AJ26: 0.5026664
C27: MTBF | E27: 0 | F27: 0 | G27: 0 | H27: 0 | I27: 0 | J27: 0 | K27: 6.58 | L27: 14 | M27: 10 | N27: 15.6 | O27: 15.6 | P27: 0 | Q27: 7.3 | R27: 20.3 | S27: 14.1 | T27: 5.5 | U27: 13.6 | V27: 4 | W27: 13.3 | X27: 5.8 | Y27: 11.6 | Z27: 6.3 | AA27: 14.2 | AB27: 13.4 | AC27: 8.2 | AD27: 8.2 | AE27: 11.67 | AF27: 9.8 | AJ27: 76.35
C28: MTTR | E28: 24 | F28: 24 | G28: 24 | H28: 24 | I28: 24 | J28: 24 | K28: 4.08 | L28: 0 | M28: 4 | N28: 0 | O28: 0 | P28: 17 | Q28: 14 | R28: 0 | S28: 0 | T28: 0 | U28: 0 | V28: 0 | W28: 0 | X28: 1 | Y28: 0 | Z28: 0 | AA28: 0 | AB28: 0 | AC28: 0 | AD28: 0 | AE28: 0 | AF28: 7.25 | AJ28: 63.776667
B29: CAT-06 | C29: H.T | E29: 11.13 | F29: 11.13 | G29: 11.13 | H29: 5.9 | I29: 12.2 | J29: 3.5 | K29: 3.5 | L29: 0.74 | M29: 0.74 | N29: 0.74 | O29: 0.74 | P29: 0.74 | Q29: 0 | R29: 0 | S29: 0 | T29: 0 | U29: 0 | V29: 0 | W29: 0 | X29: 0.74 | Y29: 0.74 | Z29: 0.74 | AA29: 0.74 | AB29: 0.74 | AC29: 0.74 | AD29: 0.74 | AE29: 11.08 | AF29: 13.2 | AJ29: 91.65
C30: N°.I | E30: 0 | F30: 0 | G30: 1 | H30: 0 | I30: 0 | J30: 0 | K30: 0 | L30: 0 | M30: 0 | N30: 0 | O30: 0 | P30: 0 | Q30: 0 | R30: 0 | S30: 0 | T30: 0 | U30: 0 | V30: 0 | W30: 0 | X30: 0 | Y30: 0 | Z30: 0 | AA30: 0 | AB30: 0 | AC30: 0 | AD30: 0 | AE30: 0 | AF30: 0 | AJ30: 1
C31: DF | D31: % | E31: 100 | F31: 100 | G31: 91.666667 | H31: 96.208333 | I31: 100 | J31: 100 | K31: 29.166667 | L31: 83.333333 | M31: 100 | N31: 100 | O31: 100 | P31: 100 | Q31: 25 | R31: 0 | S31: 0 | T31: 0 | U31: 0 | V31: 0 | W31: 0 | X31: 50 | Y31: 50 | Z31: 50 | AA31: 50 | AB31: 50 | AC31: 50 | AD31: 45.833333 | AE31: 100 | AF31: 97.208333 | AJ31: 0.5958631
C32: UT | D32: % | E32: 46.375 | F32: 46.375 | G32: 50.590909 | H32: 25.552187 | I32: 50.833333 | J32: 14.583333 | K32: 50 | L32: 3.7 | M32: 3.0833333 | N32: 3.0833333 | O32: 3.0833333 | P32: 3.0833333 | Q32: 0 | R32: 0 | S32: 0 | T32: 0 | U32: 0 | V32: 0 | W32: 0 | X32: 6.1666667 | Y32: 6.1666667 | Z32: 6.1666667 | AA32: 6.1666667 | AB32: 6.1666667 | AC32: 6.1666667 | AD32: 6.7272727 | AE32: 46.166667 | AF32: 56.579511 | AJ32: 0.22888467
C33: MTBF | E33: 11.13 | F33: 11.13 | G33: 11.13 | H33: 5.9 | I33: 12.2 | J33: 3.5 | K33: 3.5 | L33: 0.74 | M33: 0.74 | N33: 0.74 | O33: 0.74 | P33: 0.74 | Q33: 0 | R33: 0 | S33: 0 | T33: 0 | U33: 0 | V33: 0 | W33: 0 | X33: 0.74 | Y33: 0.74 | Z33: 0.74 | AA33: 0.74 | AB33: 0.74 | AC33: 0.74 | AD33: 0.74 | AE33: 11.08 | AF33: 13.2 | AJ33: 91.65
C34: MTTR | E34: 0 | F34: 0 | G34: 2 | H34: 0 | I34: 0 | J34: 0 | K34: 0 | L34: 0 | M34: 0 | N34: 0 | O34: 0 | P34: 0 | Q34: 18 | R34: 24 | S34: 24 | T34: 24 | U34: 24 | V34: 24 | W34: 24 | X34: 0 | Y34: 0 | Z34: 0 | AA34: 0 | AB34: 0 | AC34: 0 | AD34: 1 | AE34: 0 | AF34: 0.67 | AJ34: 165.67
B35: ST-1030 | C35: H.T | E35: 6.7 | F35: 14.75 | G35: 14.75 | H35: 16 | I35: 12 | J35: 6.6 | K35: 6.6 | L35: 2.11 | M35: 2.11 | N35: 2.11 | O35: 2.11 | P35: 2.11 | Q35: 0 | R35: 0 | S35: 0 | T35: 0 | U35: 0 | V35: 0 | W35: 0 | X35: 2.11 | Y35: 2.11 | Z35: 2.11 | AA35: 2.11 | AB35: 2.11 | AC35: 2.11 | AD35: 2.11 | AE35: 14.77 | AF35: 10.5 | AJ35: 127.99
C36: N°.I | E36: 1 | F36: 0 | G36: 0 | H36: 0 | I36: 2 | J36: 0 | K36: 0 | L36: 0 | M36: 0 | N36: 0 | O36: 0 | P36: 0 | Q36: 0 | R36: 0 | S36: 0 | T36: 0 | U36: 0 | V36: 0 | W36: 0 | X36: 0 | Y36: 0 | Z36: 0 | AA36: 0 | AB36: 0 | AC36: 0 | AD36: 0 | AE36: 0 | AF36: 0 | AJ36: 3
C37: DF | D37: % | E37: 69.458333 | F37: 100 | G37: 100 | H37: 99.666667 | I37: 91.666667 | J37: 100 | K37: 100 | L37: 100 | M37: 100 | N37: 66.666667 | O37: 100 | P37: 100 | Q37: 66.666667 | R37: 0 | S37: 0 | T37: 0 | U37: 0 | V37: 0 | W37: 0 | X37: 50 | Y37: 50 | Z37: 50 | AA37: 50 | AB37: 50 | AC37: 50 | AD37: 50 | AE37: 50 | AF37: 100 | AJ37: 0.58650735
C38: UT | D38: % | E38: 40.191962 | F38: 61.458333 | G38: 61.458333 | H38: 66.889632 | I38: 54.545455 | J38: 27.5 | K38: 27.5 | L38: 8.7916667 | M38: 8.7916667 | N38: 13.1875 | O38: 8.7916667 | P38: 8.7916667 | Q38: 0 | R38: 0 | S38: 0 | T38: 0 | U38: 0 | V38: 0 | W38: 0 | X38: 17.583333 | Y38: 17.583333 | Z38: 17.583333 | AA38: 17.583333 | AB38: 17.583333 | AC38: 17.583333 | AD38: 17.583333 | AE38: 17.583333 | AF38: 43.75 | AJ38: 0.26743141
C39: MTBF | E39: 6.7 | F39: 14.75 | G39: 14.75 | H39: 16 | I39: 6 | J39: 6.6 | K39: 6.6 | L39: 2.11 | M39: 2.11 | N39: 2.11 | O39: 2.11 | P39: 2.11 | Q39: 0 | R39: 0 | S39: 0 | T39: 0 | U39: 0 | V39: 0 | W39: 0 | X39: 2.11 | Y39: 2.11 | Z39: 2.11 | AA39: 2.11 | AB39: 2.11 | AC39: 2.11 | AD39: 2.11 | AE39: 14.77 | AF39: 10.5 | AJ39: 42.663333
C40: MTTR | E40: 7.33 | F40: 0 | G40: 0 | H40: 0 | I40: 1 | J40: 0 | K40: 0 | L40: 0 | M40: 0 | N40: 0 | O40: 0 | P40: 0 | Q40: 8 | R40: 24 | S40: 24 | T40: 24 | U40: 24 | V40: 24 | W40: 24 | X40: 12 | Y40: 12 | Z40: 12 | AA40: 12 | AB40: 12 | AC40: 12 | AD40: 12 | AE40: 84 | AF40: 0 | AJ40: 109.77667
B41: ST-1030_2 | C41: H.T | E41: 7.38 | F41: 7.38 | G41: 7.38 | H41: 7.38 | I41: 6.7 | J41: 6.9 | K41: 6.9 | L41: 7.8 | M41: 7.3 | N41: 7.3 | O41: 7.3 | P41: 7.3 | Q41: 14.4 | R41: 15.5 | S41: 14.1 | T41: 15 | U41: 14 | V41: 7 | W41: 13.1 | X41: 14.6 | Y41: 13.8 | Z41: 14.1 | AA41: 3.4 | AB41: 12.2 | AC41: 11.15 | AD41: 6.15 | AE41: 75.4 | AF41: 0 | AJ41: 330.92
...

Sheet D%_SEM
C2: PROMEDIOS GENERALES EQUIPOS PRODUCCION DE MTBF / MTTR SEM 30 | G2: 1 | H2: 2 | I2: 3 | J2: 4 | K2: 5 | L2: 6 | M2: 7 | N2: 8 | O2: 9 | P2: 1 | Q2: 2 | R2: 3 | S2: 4 | T2: 5 | U2: 6 | V2: 7 | W2: 8 | X2: 9 | Y2: 10 | Z2: 11 | AA2: 12
C3: PROMEDIOS GENERALES EQUIPOS PRODUCCION DE MTBF / MTTR SEM 30
B4: =C3 -> PROMEDIOS GENERALES EQUIPOS PRODUCCION DE MTBF / MTTR SEM 30 | IG4: PROMEDIOS GENERALES DE MTBF / MTTR SEM 30 | IW4: ANUAL - 2020
B5: TIPO | C5: KPI | D5: UM | E5: PROM 2017 | F5: OBI. | G5: ABRIL | H5: MAYO | I5: JUNIO | J5: JULIO | K5: AGOSTO | L5: SETIEMBRE | M5: OCTUBRE | N5: NOVIEMBRE | O5: DICIEMBRE | P5: ENE | Q5: FEB | R5: MAR | S5: ABR | T5: MAY | U5: JUN | V5: JUL | W5: AGO | X5: SEP | Y5: OCT | Z5: NOV | AA5: DIC | AB5: PROM 2018 | AC5: ENE | AD5: FEB | AE5: MAR | AF5: ABR | AG5: MAY | AH5: JUN | AI5: JUL | AJ5: AGO | AK5: SEP | AL5: OCT | AM5: NOV | AN5: DIC | AO5: SEP | AP5: OCT | AQ5: NOV | AR5: DIC | AS5: PROM 2023 | AT5: SEM 01 | AU5: FEB | AV5: MAR | AW5: JUL | AX5: AGO | AY5: SEP | AZ5: OCT | BA5: NOV | BB5: DIC | BC5: SEM 02 | BD5: SEM 03 | BE5: SEM 04 | BF5: SEM 05 | BG5: SEM 06 | BH5: SEM 07 | BI5: SEM 08 | BJ5: SEM 09 | BK5: SEM 10 | BL5: SEM 11 | BM5: SEM 17 | BN5: SEM 18 | BO5: SEM 19 | BP5: SEM 20 | BQ5: SEM 21 | BR5: SEM 22 | BS5: SEM 23 | BT5: SEM 24 | BU5: SEM 25 | BV5: SEM 26 | BW5: SEM 27 | BX5: SEM 28 | BY5: SEM 29 | BZ5: SEM 30 | CA5: SEM 31 | CB5: SEM 32 | CC5: SEM 33 | CD5: SEM 34 | CE5: SEM 35 | CF5: SEM 36 | CG5: SEM 37 | CH5: SEM 38 | CI5: SEM 39 | CJ5: SEM 40 | CK5: SEM 41 | CL5: SEM 42 | CM5: SEM 43 | CN5: SEM 44 | CO5: SEM 45 | CP5: SEM 46 | CQ5: SEM 47 | CR5: SEM 48 | CS5: SEM 49 | CT5: SEM 50 | CU5: SEM 51 | CV5: SEM 52 | CW5: SEM 01 | CX5: SEM 02 | CY5: SEM 03 | CZ5: SEM 04 | DA5: SEM 05 | DB5: SEM 06 | DC5: SEM 07 | DD5: SEM 08 | DE5: SEM 09 | DF5: SEM 10 | DG5: SEM 11 | DH5: SEM 12 | DI5: SEM 13 | DJ5: SEM 14 | DK5: SEM 15 | DL5: SEM 16 | DM5: SEM 17 | DN5: SEM 18 | DO5: SEM 19 | DP5: SEM 20 | DQ5: SEM 21 | DR5: SEM 22 | DS5: SEM 23 | DT5: SEM 24 | DU5: SEM 25 | DV5: SEM 26 | DW5: SEM 27 | DX5: SEM 28 | DY5: SEM 29 | DZ5: SEM 30 | EA5: SEM 31 | EB5: SEM 32 | EC5: SEM 33 | ED5: SEM 34 | EE5: SEM 35 | EF5: SEM 36 | EG5: SEM 37 | EH5: SEM 38 | EI5: SEM 39 | EJ5: SEM 40 | EK5: SEM 41 | EL5: SEM 42 | EM5: SEM 43 | EN5: SEM 44 | EO5: SEM 45 | EP5: SEM 46 | EQ5: SEM 47 | ER5: SEM 48 | ES5: SEM 49 | ET5: SEM 50 | EU5: SEM 51 | EV5: SEM 52 | EW5: SEM 01 | EX5: SEM 02 | EY5: SEM 03 | EZ5: SEM 04 | FA5: SEM 05 | FB5: SEM 06 | FC5: SEM 07 | FD5: SEM 08 | FE5: SEM 09 | FF5: SEM 10 | FG5: SEM 11 | FH5: SEM 12 | FI5: SEM 13 | FJ5: SEM 14 | FK5: SEM 15 | FL5: SEM 16 | FM5: SEM 17 | FN5: SEM 18 | FO5: SEM 19 | FP5: SEM 20 | FQ5: SEM 21 | FR5: SEM 22 | FS5: SEM 23 | FT5: SEM 24 | FU5: SEM 25 | FV5: SEM 26 | FW5: SEM 27 | FX5: SEM 28 | FY5: SEM 29 | FZ5: SEM 30 | GA5: SEM 31 | GB5: SEM 32 | GC5: SEM 33 | GD5: SEM 34 | GE5: SEM 35 | GF5: SEM 36 | GG5: SEM 37 | GH5: SEM 38 | GI5: SEM 39 | GJ5: SEM 40 | GK5: SEM 41 | GL5: SEM 42 | GM5: SEM 43 | GN5: SEM 44 | GO5: SEM 45 | GP5: SEM 46 | GQ5: SEM 47 | GR5: SEM 48 | GS5: SEM 49 | GT5: SEM 50 | GU5: SEM 51 | GV5: SEM 52 | GW5: SEM 01 | GX5: SEM 02 | GY5: SEM 03 | GZ5: SEM 04 | HA5: SEM 05 | HB5: SEM 06 | HC5: SEM 07 | HD5: SEM 08 | HE5: SEM 09 | HF5: SEM 10 | HG5: SEM 11 | HH5: SEM 12 | HI5: SEM 13 | HJ5: SEM 14 | HK5: SEM 15 | HL5: SEM 16 | HM5: SEM 17 | HN5: SEM 18 | HO5: SEM 19 | HP5: SEM 20 | HQ5: SEM 21 | HR5: SEM 22 | HS5: SEM 23 | HT5: SEM 24 | HU5: SEM 25 | HV5: SEM 26 | HW5: SEM 27 | HX5: SEM 28 | HY5: SEM 29 | HZ5: SEM 30 | IA5: PROM 2024 | IB5: STATUS | IG5: SC-PROD | IH5: JU-PROD | II5: JU-SOST | IJ5: JU-TA/LA | IK5: MX-CNNC | IL5: BZ-ANFO | IM5: LA-CNNC | IT5: SC-PROD | IU5: SC-SERV | IV5: JU-PROD | IW5: JU-SOST | IX5: JU-TA/LA | IY5: MX-CNNC | IZ5: BX-ANFO | JA5: LA-CNNC
B6: SCOOPTRAMS - PRODTCCION | C6: MTBF | F6: 50 | G6: 0.7984 | H6: 0.6473 | I6: 0.7056 | J6: 0.689 | K6: 0.7304 | L6: 0.7086 | M6: 0.8195 | N6: 0.7522 | O6: 0.8156 | P6: 0.92820988 | Q6: 0.81211667 | R6: 0.82006667 | S6: 0.90726667 | T6: 0.87465 | U6: 0.76716667 | V6: 0.80876667 | W6: 0.90046667 | X6: 0.84891667 | Y6: 0.76015 | Z6: 0.78256667 | AA6: 0.84055 | AB6: =AVERAGE(P6:AA6) -> 0.83757443 | AC6: 0.73135 | AD6: 0.75676667 | AE6: 0.88453333 | AF6: 0.8108 | AG6: 0.85235215 | AH6: 0.8828 | AI6: 0.86945084 | AJ6: 0.74834286 | AO6: 0.71352315 | AP6: 0.70494168 | AQ6: 0.73969643 | AR6: 0.7621 | AS6: 41.079902 | BK6: 36.988095 | BL6: 22.242024 | BM6: 1.0557143 | BN6: 36.16 | BO6: 42.026929 | BP6: 31.25619 | BQ6: 31.735238 | BR6: 58.11449 | BS6: 38.808571 | BT6: 29.112857 | BU6: 41.167857 | BV6: 53.27 | BW6: 35.368571 | BX6: 43.566667 | BY6: 38.145714 | BZ6: 79.094524 | CA6: 110.74679 | CB6: 49.761429 | CC6: 39.264286 | CD6: 42.691905 | CE6: 69.277619 | CF6: 42.454286 | CG6: 61.568571 | CH6: 48.648571 | CI6: 18.245 | CJ6: 25.369286 | CK6: 19.734048 | CL6: 50.178571 | CM6: 37.89381 | CN6: 50.314286 | CO6: ='S-P_SEM'!#REF! -> #REF! | CP6: 41.342857 | CQ6: 34.838333 | CR6: 35.968367 | CS6: 27.129592 | CT6: 37.842857 | CU6: 70.618571 | CV6: 29.4875 | CW6: 27.525476 | CX6: 36.114286 | CY6: 21.364286 | CZ6: 28.334683 | DA6: ='S-P_SEM'!H147 -> 26.778929 | DB6: 16.589435 | DC6: 41.59375 | DD6: 28.519588 | DE6: 43.628571 | DF6: 31.699286 | DG6: 31.100762 | DH6: 25.119048 | DI6: 14.177143 | DJ6: 30.706974 | DK6: 43.561429 | DL6: ='S-P_SEM'!S147 -> 20.696667 | DM6: 20.408095 | DN6: 28.845 | DO6: 36.421429 | DP6: ='S-P_SEM'!AA147 -> 53.30375 | DQ6: 28.284286 | DR6: 32.806905 | DS6: 27.163542 | DT6: 53.30375 | DU6: 32.186875 | DV6: 30.848739 | DW6: 36.09625 | DX6: 20.772917 | DY6: 31.148078 | DZ6: 40.595625 | EA6: 26.890833 | EB6: 43.888333 | EC6: 40.23875 | ED6: 44.158125 | EE6: 32.289349 | EF6: 33.795833 | EG6: 28.840625 | EH6: 47.64375 | EI6: 32.763866 | EJ6: 46.65 | EK6: 33.111019 | EL6: 46.849375 | EM6: ='S-P_SEM'!AT147 -> 36.907143 | EN6: 47.64375 | EO6: 30.788571 | EP6: 50.04381 | EQ6: 41.364762 | ER6: 32.888095 | ES6: 37.33 | ET6: 36.434881 | EU6: 39.61 | EV6: 24.498129 | EW6: 52.428571 | EX6: 42.917857 | EY6: 33.83 | EZ6: 31.666667 | FA6: 42.764524 | FB6: 52.296429 | FC6: 36.490476 | FD6: 55.335714 | FE6: 34.871429 | FF6: 36.678571 | FG6: 37.733095 | FH6: 36.842619 | FI6: 38.185714 | FJ6: 40.395493 | FK6: 43.372857 | FL6: 32.732143 | FM6: 33.329762 | FN6: 39.823426 | FO6: 42.633333 | FP6: 58.247143 | FQ6: 33.686429 | FR6: 37.072381 | FS6: 44.812143 | FT6: 39.943476 | FU6: 31.378571 | FV6: 34.437517 | FW6: 40.257143 | FX6: 17.740476 | FY6: 24.85 | FZ6: 37.933071 | GA6: 51.053571 | GB6: 62.891429 | GC6: 35.045238 | GD6: 54.2825 | GE6: 64.782857 | GF6: 31.738095 | GG6: 60.157143 | GH6: 60.484286 | GI6: 33.579714 | GJ6: 47.860714 | GK6: 48.75 | GL6: 22.873452 | GM6: 26.321071 | GN6: 52.377857 | GO6: 32.893571 | GP6: 41.838452 | GQ6: 43.28 | GR6: ='S-P_SEM'!CZ147 -> 52.477619 | GS6: 52.477619 | GT6: 52.477619 | GU6: 25.524762 | GV6: 40.679587 | GW6: 50 | GX6: 19.265816 | GY6: 32.070034 | GZ6: 47.231429 | HA6: 25.777755 | HB6: 35.714286 | HC6: 55.934762 | HD6: 52.019048 | HE6: 38.601429 | HF6: 45.223333 | HG6: 39.527381 | HH6: 46.21 | HI6: 37.95 | HJ6: 27.633163 | HK6: 44.432143 | HL6: 58.255 | HM6: 35.938095 | HN6: 39.221429 | HO6: 60.202143 | HP6: 32.788214 | HQ6: 32.911905 | HR6: 41.951848 | HS6: 48.191905 | HT6: 44.733333 | HU6: 42.435817 | HV6: 34.347222 | HW6: 55.533333 | HX6: 44.245556 | HY6: 38.49875 | HZ6: ='S-P_SEM'!EG147 -> 42.032143 | IA6: =AVERAGE(GW6:HZ6) -> 41.629242 | IB6: =IF(HZ6>=F6,"J",IF(HZ6>F6/2,"K","L")) -> K | IF6: OBI MTBF | IG6: =+F6 -> 50 | IH6: =+F8 -> 20 | II6: =+F10 -> 20 | IJ6: =+F12 -> 20 | IK6: =+F14 -> 30 | IL6: =+F16 -> 30 | IM6: =+F18 -> 30 | IS6: OBI DF | IT6: 0.85 | IU6: 0.85 | IV6: 0.85 | IW6: 0.85 | IX6: 0.85 | IY6: 0.85 | IZ6: 0.85 | JA6: 0.85
C7: MTTR | F7: 5 | G7: 0.2884 | H7: 0.3094 | I7: 0.359 | J7: 0.3056 | K7: 0.3701 | L7: 0.3238 | M7: 0.3512 | N7: 0.3601 | O7: 0.397 | P7: 0.42408219 | Q7: 0.51706667 | R7: 0.46296667 | S7: 0.42908333 | T7: 0.43161667 | U7: 0.42066667 | V7: 0.44918333 | W7: 0.45921667 | X7: 0.43971667 | Y7: 0.42003333 | Z7: 0.39868333 | AA7: 0.40018333 | AB7: =AVERAGE(P7:AA7) -> 0.43770824 | AC7: 0.32683333 | AD7: 0.43478333 | AE7: 0.41571667 | AF7: 0.4518 | AG7: 0.41505442 | AH7: 0.42761667 | AI7: 0.37761794 | AJ7: 0.38492857 | AO7: 0.33786152 | AP7: 0.4288145 | AQ7: 0.44764279 | AR7: 0.37821429 | AS7: 15.058128 | BK7: 4.0090476 | BL7: 11.512381 | BM7: 1.2857143 | BN7: 3.0714286 | BO7: 2.3464286 | BP7: 27.875 | BQ7: 26.710952 | BR7: 20.587086 | BS7: 0.71428571 | BT7: 2.0835714 | BU7: 2.4761905 | BV7: 2.0507143 | BW7: 18.785714 | BX7: 30.85119 | BY7: 7.1785714 | BZ7: 1.3250238 | CA7: 2.5210714 | CB7: 26.942857 | CC7: 4.7614286 | CD7: 2.4085714 | CE7: 8.4071429 | CF7: 2.1071429 | CG7: 4.9640476 | CH7: 17.763929 | CI7: 12.928571 | CJ7: 0.87309524 | CK7: 7.9642857 | CL7: 2.9642857 | CM7: 2.2380952 | CN7: 1.6071429 | CO7: ='S-P_SEM'!#REF! -> #REF! | CP7: 26.440476 | CQ7: 28.563333 | CR7: 26.059286 | CS7: 18.898129 | CT7: 17.862143 | CU7: 17.798095 | CV7: 35.575119 | CW7: 40.881429 | CX7: 53.905 | CY7: 65.086905 | CZ7: 53.291111 | DA7: ='S-P_SEM'!H148 -> 52.654643 | DB7: 27.682292 | DC7: 39.610417 | DD7: 47.238533 | DE7: 38.232143 | DF7: 62.513929 | DG7: 66.536762 | DH7: 27.956395 | DI7: 30.458762 | DJ7: 45.757592 | DK7: 32.047143 | DL7: ='S-P_SEM'!S148 -> 30.61181 | DM7: 34.153333 | DN7: 32.976429 | DO7: 33.689048 | DP7: ='S-P_SEM'!AA148 -> 57.53125 | DQ7: 52.525595 | DR7: 43.15619 | DS7: 46.877708 | DT7: 57.53125 | DU7: 44.946333 | DV7: 43.770664 | DW7: 52.09375 | DX7: 46.501458 | DY7: 44.24072 | DZ7: 38.270625 | EA7: 1.92 | EB7: 31.28125 | EC7: 35.948125 | ED7: 4.421875 | EE7: 40.72457 | EF7: 34.793125 | EG7: 32.338437 | EH7: 24.01625 | EI7: 39.603467 | EJ7: 31.96875 | EK7: 39.444548 | EL7: 18.8125 | EM7: ='S-P_SEM'!AT148 -> 27.285714 | EN7: 24.01625 | EO7: 20.080238 | EP7: 18.942857 | EQ7: 1.9261905 | ER7: 2.4304762 | ES7: 8.5742857 | ET7: 6.4521429 | EU7: 27.446429 | EV7: 26.373214 | EW7: 7.2742857 | EX7: 2.3839286 | EY7: 3.0982143 | EZ7: 1.3621429 | FA7: 22.63119 | FB7: 48.407143 | FC7: 50.204524 | FD7: 49.910714 | FE7: 49.785714 | FF7: 54.113571 | FG7: 7.4642857 | FH7: 19.563095 | FI7: 21.672024 | FJ7: 26.033733 | FK7: 24.667143 | FL7: 6.554881 | FM7: 6.6267857 | FN7: 22.455933 | FO7: 1.7428571 | FP7: 1.75 | FQ7: 4.11 | FR7: 5.4964286 | FS7: 3.6428571 | FT7: 17.73499 | FU7: 6.0355238 | FV7: 5.1198299 | FW7: 6 | FX7: 9.3669048 | FY7: 5.5039286 | FZ7: 15.492011 | GA7: 5.9290476 | GB7: 6.2857143 | GC7: 1.2767857 | GD7: 2.4107143 | GE7: 3.4761905 | GF7: 3.8604762 | GG7: 3.2357143 | GH7: 7.4357143 | GI7: 5.4000952 | GJ7: 9.7071429 | GK7: 3.4428571 | GL7: 4.9742857 | GM7: 8.0453571 | GN7: 28.428571 | GO7: 32.285714 | GP7: 24.71869 | GQ7: 4.6166667 | GR7: ='S-P_SEM'!CZ148 -> 35.52381 | GS7: 35.52381 | GT7: 35.52381 | GU7: 27.76181 | GV7: 14.53836 | GW7: 5 | GX7: 30.12002 | GY7: 33.403102 | GZ7: 25.964286 | HA7: 28.422687 | HB7: 7.707 | HC7: 16.461905 | HD7: 29.180952 | HE7: 11.057857 | HF7: 14.82381 | HG7: 23.903571 | HH7: 38.43 | HI7: 17.61 | HJ7: 18.980561 | HK7: 14.833214 | HL7: 3.3616667 | HM7: 1.9070476 | HN7: 4.3625 | HO7: 6.1242857 | HP7: 16.370214 | HQ7: 5.779381 | HR7: 17.790163 | HS7: 1.9209524 | HT7: 24.88381 | HU7: 17.806391 | HV7: 4.7075 | HW7: 3.96 | HX7: 16.456936 | HY7: 7.6058333 | HZ7: ='S-P_SEM'!EH148 -> 15.71807 | IA7: =AVERAGE(GW7:HZ7) -> 15.488457 | IB7: =IF(HZ7<=F7,"J",IF(HZ7>F7*2,"L","K")) -> L | IF7: OBI MTTR | IG7: =+F7 -> 5 | IH7: =+F9 -> 4 | II7: =+F11 -> 4 | IJ7: =+F13 -> 4 | IK7: =+F15 -> 4 | IL7: =+F17 -> 4 | IM7: =+F19 -> 4 | IS7: OBI UT | IT7: 0.5 | IU7: 0.5 | IV7: 0.2 | IW7: 0.2 | IX7: 0.2 | IY7: 0.3 | IZ7: 0.18 | JA7: 0.18
