Workbook

Sheet D%_MES
G1: #NAME?
C2: DISPONIBILIDAD Y UTILIZACION - ANUAL 2023 | G2: 1 | H2: 2 | I2: 3 | J2: 4 | K2: 5 | L2: 6 | M2: 7 | N2: 8 | O2: 9 | P2: 1 | Q2: 2 | R2: 3 | S2: 4 | T2: 5 | U2: 6 | V2: 7 | W2: 8 | X2: 9 | Y2: 10 | Z2: 11 | AA2: 12
C3: DISPONIBILIDAD Y UTILIZACION - DICIEMBRE 2023 | BG3: 0.85 | BH3: 0.85 | BI3: 0.85 | BJ3: 0.85 | BK3: 0.85 | BL3: 0.85 | BM3: 0.85 | BN3: 0.85 | BO3: 0.85 | BP3: 0.85 | BQ3: 0.85 | BR3: 0.85 | BS3: 0.85 | BT3: 0.85 | BU3: 0.85 | BV3: 0.85 | BW3: 0.85 | BX3: 0.85 | BY3: 0.85 | BZ3: 0.85 | CA3: 0.85 | CB3: 0.85 | CC3: 0.85 | CD3: 0.85 | CE3: 0.85
B4: PROMEDIOS GENERALES DE DF / UTIL ANUAL 2023 | CT4: 44866 | DE4: ANUAL - 2022
B5: TIPO | C5: KPI | D5: UM | E5: PROM 2017 | F5: OBJ. | G5: ABRIL | H5: MAYO | I5: JUNIO | J5: JULIO | K5: AGOSTO | L5: SETIEMBRE | M5: OCTUBRE | N5: NOVIEMBRE | O5: DICIEMBRE | P5: ENE | Q5: FEB | R5: MAR | S5: ABR | T5: MAY | U5: JUN | V5: JUL | W5: AGO | X5: SEP | Y5: OCT | Z5: NOV | AA5: DIC | AB5: PROM 2018 | AC5: ENE | AD5: FEB | AE5: MAR | AF5: ABR | AG5: MAY | AH5: JUN | AI5: JUL | AJ5: AGO | AK5: SEP | AL5: OCT | AM5: NOV | AN5: DIC | AO5: SEP | AP5: OCT | AQ5: NOV | AR5: DIC | AS5: PROM 2020 | AT5: 44197 | AU5: 44228 | AV5: 44256 | AW5: 44287 | AX5: 44317 | AY5: 44348 | AZ5: 44378 | BA5: 44409 | BB5: 44440 | BC5: 44470 | BD5: 44501 | BE5: 44531 | BF5: PROM 2022 | BG5: 44562 | BH5: 44593 | BI5: 44621 | BJ5: 44652 | BK5: 44682 | BL5: 44713 | BM5: 44743 | BN5: 44774 | BO5: 44805 | BP5: 44835 | BQ5: 44866 | BR5: 44896 | BS5: 44927 | BT5: 44958 | BU5: 44986 | BV5: 45017 | BW5: 45047 | BX5: 45078 | BY5: 45108 | BZ5: 45139 | CA5: 45170 | CB5: 45200 | CC5: 45231 | CD5: 45261 | CE5: PROM 2023 | CF5: STATUS | CI5: SC-PROD | CJ5: SC-SERV | CK5: JU-PROD | CL5: JU-SOST | CM5: JU-TA/LA | CN5: MX-CONC | CO5: CA-ANFO | CP5: LA-CONC | CQ5: EQ-VIAS | CR5: VOLQ | CV5: SC-PROD | CW5: SC-SERV | CX5: JU-PROD | CY5: JU-SOST | CZ5: JU-TA/LA | DA5: MX-CONC | DB5: CA-ANFO | DC5: LA-CONC | DD5: EQ-VIAS | DE5: VOLQ | DH5: SCOOPTRAMS - PRODUCCION | DI5: SCOOPTRAMS - SERVICIOS | DJ5: JUMBOS PRODUCCION | DK5: JUMBOS SOSTENIMIENTO | DL5: JUMBOS TALACROS LARGOS | DM5: MEZCLACOR DE CONCRETO | DN5: CARGACOR DE ANFO | DO5: LANZACOR DE CONCRETO
B6: SCOOPTRAMS - PRODUCCION | C6: DF | D6: % | E6: =+AVERAGE(G6:O6) -> 0.74073333 | F6: 0.85 | G6: 0.7984 | H6: 0.6473 | I6: 0.7056 | J6: 0.689 | K6: 0.7304 | L6: 0.7086 | M6: 0.8195 | N6: 0.7522 | O6: 0.8156 | P6: 0.92820988 | Q6: 0.81211667 | R6: 0.82006667 | S6: 0.90726667 | T6: 0.87465 | U6: 0.76716667 | V6: 0.80876667 | W6: 0.90046667 | X6: 0.84891667 | Y6: 0.76015 | Z6: 0.78256667 | AA6: 0.84055 | AB6: 0.83757443 | AC6: 0.73135 | AD6: 0.75676667 | AE6: 0.88453333 | AF6: 0.8108 | AG6: 0.85235215 | AH6: 0.8828 | AI6: 0.86945084 | AJ6: 0.74834286 | AO6: 0.71352315 | AP6: 0.70494168 | AQ6: 0.73969643 | AR6: 0.7621 | AS6: 0.73372082 | AT6: 0.83968126 | AU6: 0.936 | AV6: 0.93626728 | AW6: 0.99375 | AX6: 0.86298579 | AY6: 0.94864286 | AZ6: 0.85141582 | BA6: 0.85412708 | BB6: 0.88791241 | BC6: 0.91214077 | BD6: 0.832461 | BE6: 0.76923413 | BF6: 0.72841413 | BG6: 0.64283929 | BH6: 0.70953896 | BI6: 0.63660906 | BJ6: 0.72023611 | BK6: 0.68933053 | BL6: 0.65551215 | BM6: 0.67007224 | BN6: 0.77066532 | BO6: 0.75266319 | BP6: 0.80535882 | BQ6: 0.86400794 | BR6: 0.82413594 | BS6: ='S-P'!AC146 -> 0.9059831 | BT6: ='S-P'!AD146 -> 0.67126488 | BU6: ='S-P'!AE146 -> 0.7493894 | BV6: 0.83552778 | BW6: 0.92959101 | BX6: 0.8618373 | BY6: 0.86437212 | BZ6: 0.91825077 | CA6: 0.9010604 | CB6: 0.87223502 | CC6: 0.81124802 | CD6: ='S-P'!AN146 -> 0.7150288 | CE6: =AVERAGE(BS6:CD6) -> 0.83631572 | CF6: =IF(CD6>=F6,"J","L") -> L | CH6: OBJ DF | CI6: 0.85 | CJ6: 0.85 | CK6: 0.85 | CL6: 0.85 | CM6: 0.85 | CN6: 0.85 | CO6: 0.85 | CP6: 0.85 | CQ6: 0.85 | CR6: 0.85 | CU6: OBJ DF | CV6: 0.85 | CW6: 0.85 | CX6: 0.85 | CY6: 0.85 | CZ6: 0.85 | DA6: 0.85 | DB6: 0.85 | DC6: 0.85 | DD6: 0.85 | DE6: 0.85 | DG6: KPI | DH6: DF | DI6: DF | DJ6: DF | DK6: DF | DL6: DF | DM6: DF | DN6: DF | DO6: DF
C7: UT | D7: % | E7: =+AVERAGE(G7:O7) -> 0.34051111 | F7: 0.5 | G7: 0.2884 | H7: 0.3094 | I7: 0.359 | J7: 0.3056 | K7: 0.3701 | L7: 0.3238 | M7: 0.3512 | N7: 0.3601 | O7: 0.397 | P7: 0.42408219 | Q7: 0.51706667 | R7: 0.46296667 | S7: 0.42908333 | T7: 0.43161667 | U7: 0.42066667 | V7: 0.44918333 | W7: 0.45921667 | X7: 0.43971667 | Y7: 0.42003333 | Z7: 0.39868333 | AA7: 0.40018333 | AB7: 0.43770824 | AC7: 0.32683333 | AD7: 0.43478333 | AE7: 0.41571667 | AF7: 0.4518 | AG7: 0.41505442 | AH7: 0.42761667 | AI7: 0.37761794 | AJ7: 0.38492857 | AO7: 0.33786152 | AP7: 0.4288145 | AQ7: 0.44764279 | AR7: 0.37821429 | AS7: 0.39549233 | AT7: 0.29695491 | AU7: 0.243 | AV7: 0.2431537 | AW7: 0.028434784 | AX7: 0.32027755 | AY7: 0.33542872 | AZ7: 0.38320324 | BA7: 0.37949375 | BB7: 0.38269608 | BC7: 0.30510244 | BD7: 0.39299973 | BE7: 0.41683615 | BF7: 0.37586514 | BG7: 0.29933205 | BH7: 0.33207778 | BI7: 0.391443 | BJ7: 0.36742951 | BK7: 0.36534386 | BL7: 0.42072086 | BM7: 0.41025582 | BN7: 0.36891031 | BO7: 0.37632711 | BP7: 0.3917471 | BQ7: 0.38386629 | BR7: 0.40292794 | BS7: ='S-P'!AC147 -> 0.3956928 | BT7: ='S-P'!AD147 -> 0.41882728 | BU7: ='S-P'!AE147 -> 0.42987849 | BV7: 0.37865297 | BW7: 0.38226999 | BX7: 0.42448035 | BY7: 0.42035255 | BZ7: 0.44134867 | CA7: 0.40672045 | CB7: 0.40381266 | CC7: 0.44080198 | CD7: ='S-P'!AN147 -> 0.40160715 | CE7: =AVERAGE(BS7:CD7) -> 0.41203711 | CF7: =IF(CD7>=F7,"J","L") -> L | CH7: OBJ UT | CI7: 0.5 | CJ7: 0.5 | CK7: 0.2 | CL7: 0.2 | CM7: 0.2 | CN7: 0.3 | CO7: 0.18 | CP7: 0.18 | CQ7: 0.15 | CR7: 0.15 | CU7: OBJ UT | CV7: 0.5 | CW7: 0.5 | CX7: 0.2 | CY7: 0.2 | CZ7: 0.2 | DA7: 0.3 | DB7: 0.18 | DC7: 0.18 | DD7: 0.18 | DE7: 0.18 | DG7: UM | DH7: 0.0070724415 | DI7: 1.1018222 | DJ7: 0.86391082 | DK7: 0.73484236 | DL7: 1.0116948 | DM7: 0.88522637 | DN7: 0.8694215 | DO7: 0.84730279
B8: SCOOPTRAMS - SERVICIOS | C8: DF | D8: % | E8: =+AVERAGE(G8:O8) -> 0.83851111 | F8: 0.85 | G8: 0.9786 | H8: 0.9628 | I8: 0.9 | J8: 0.793 | K8: 0.9523 | L8: 0.9535 | M8: 0.7816 | N8: 0.7663 | O8: 0.4585 | P8: 0.75545 | Q8: 0.97785 | R8: 0.9048 | S8: 0.9674 | T8: 0.7252 | U8: 0.905 | V8: 0.9718 | W8: 0.90435 | X8: 0.86345 | Y8: 0.94315 | Z8: 0.95125 | AA8: 0.6953 | AB8: 0.88041667 | AC8: 0.4868 | AD8: 0.7056 | AE8: 0.8712 | AF8: 0.48505 | AG8: 0.68379704 | AH8: 0.9565 | AI8: 0.97580645 | AJ8: 0.88015 | AO8: 0.50972222 | AP8: 0.91274866 | AQ8: 0.98472222 | AR8: 0.98095 | AS8: 0.85365862 | AT8: 0.94354839 | AU8: 0.977 | AV8: 0.97748656 | AW8: 0.97916667 | AX8: 0.97647849 | AY8: 1 | AZ8: 0.9303125 | BA8: 0.88888889 | BB8: 0.96205357 | BC8: 0.65497076 | BD8: 0.95905172 | BE8: 0.98333333 | BF8: 0.98225433 | BG8: 0.96736111 | BH8: 1 | BI8: 0.98991935 | BJ8: 1 | BK8: 0.99861111 | BL8: 1 | BM8: 0.9952957 | BN8: 1 | BO8: 1 | BP8: 0.88844086 | BQ8: 0.99513889 | BR8: 0.95228495 | BS8: ='S-S'!AC34 -> 0.99327957 | BT8: ='S-S'!AD34 -> 0.95758929 | BU8: ='S-S'!AE34 -> 1 | BV8: 0.98333333 | BW8: 0.98991935 | BX8: 0.99236111 | BY8: 0.99596774 | BZ8: 0.96774194 | CA8: 0.98611111 | CB8: 0.98319892 | CC8: 0.99305556 | CD8: ='S-S'!AN34 -> 1 | CE8: =AVERAGE(BS8:CD8) -> 0.98687983 | CF8: =IF(CD8>=F8,"J","L") -> J | CH8: DF | CI8: =+CD6 -> 0.7150288 | CJ8: =+CD8 -> 1 | CK8: =+CD10 -> 0.90416331 | CL8: =+CD12 -> 0.84445075 | CM8: =+CD14 -> 0.95766129 | CN8: =+CD16 -> 0.9147267 | CO8: =+CD18 -> 0.63876941 | CP8: =+CD20 -> 0.67276882 | CQ8: =+CD22 -> 0.97647849 | CR8: =+CD24 -> 0.72116935 | CU8: DF PR-23 | CV8: =CE6 -> 0.83631572 | CW8: =CE8 -> 0.98687983 | CX8: =CE10 -> 0.88098447 | CY8: =CE12 -> 0.80276532 | CZ8: =CE14 -> 0.89142258 | DA8: =CE16 -> 0.91002109 | DB8: =+CE18 -> 0.82901493 | DC8: =+CE20 -> 0.85169412 | DD8: =+CE22 -> 0.97415323 | DE8: =+CE24 -> 0.78783521
C9: UT | D9: % | E9: =+AVERAGE(G9:O9) -> 0.13757778 | F9: 0.5 | G9: 0.1554 | H9: 0.1736 | I9: 0.076 | J9: 0.1409 | K9: 0.1866 | L9: 0.1429 | M9: 0.137 | N9: 0.1012 | O9: 0.1246 | P9: 0.0784 | Q9: 0.1206 | R9: 0.11565 | S9: 0.07885 | T9: 0.1394 | U9: 0.0875 | V9: 0.09895 | W9: 0.0651 | X9: 0.09735 | Y9: 0.07815 | Z9: 0.1073 | AA9: 0.05445 | AB9: 0.093475 | AC9: 0.0813 | AD9: 0.13065 | AE9: 0.07865 | AF9: 0.05605 | AG9: 0.076097019 | AH9: 0.12675 | AI9: 0.043280235 | AJ9: 0.122 | AO9: 0.35864979 | AP9: 0.10064134 | AQ9: 0.051402003 | AR9: 0.04935 | AS9: 0.13640863 | AT9: 0.056965812 | AU9: 0.056 | AV9: 0.05632176 | AW9: 0 | AX9: 0.11330392 | AY9: 0.0455 | AZ9: 0.07452373 | BA9: 0.007125 | BB9: 0 | BC9: 0.037946429 | BD9: 0.039355805 | BE9: 0.13112994 | BF9: 0.0231621 | BG9: 0.047394113 | BH9: 0.027272727 | BI9: 0.013360489 | BJ9: 0.0032638889 | BK9: 0 | BL9: 0.0083333333 | BM9: 0.049831195 | BN9: 0.034677419 | BO9: 0 | BP9: 0 | BQ9: 0.053021633 | BR9: 0.040790402 | BS9: ='S-S'!AC35 -> 0.041271989 | BT9: ='S-S'!AD35 -> 0.067599068 | BU9: ='S-S'!AE35 -> 0 | BV9: 0 | BW9: 0.0091106585 | BX9: 0.0055843247 | BY9: 0.010796221 | BZ9: 0 | CA9: 0.014366197 | CB9: 0.016404648 | CC9: 0 | CD9: ='S-S'!AN35 -> 0 | CE9: =AVERAGE(BS9:CD9) -> 0.013761092 | CF9: =IF(CD9>=F9,"J","L") -> L | CH9: UT | CI9: =+CD7 -> 0.40160715 | CJ9: =+CD9 -> 0 | CK9: =+CD11 -> 0.085471953 | CL9: =+CD13 -> 0.056251567 | CM9: =+CD15 -> 0.014202745 | CN9: =+CD17 -> 0.31677531 | CO9: =+CD19 -> 0.029817305 | CP9: =+CD21 -> 0.081960304 | CQ9: =+CD23 -> 0.15139711 | CR9: =+CD25 -> 0.37517534 | CU9: UT PR-23 | CV9: =CE7 -> 0.41203711 | CW9: =CE9 -> 0.013761092 | CX9: =CE11 -> 0.085392351 | CY9: =CE13 -> 0.06670193 | CZ9: =CE15 -> 0.012625931 | DA9: =CE17 -> 0.32136353 | DB9: =+CE19 -> 0.039013339 | DC9: =+CE21 -> 0.081651767 | DD9: =+CE23 -> 0.25906688 | DE9: =+CE25 -> 0.48090882 | DH9: SCOOPTRAMS - PRODUCCION | DI9: 0.0070724415
B10: JUMBOS PRODUCCION | C10: DF | D10: % | E10: =+AVERAGE(G10:O10) -> 0.85201111 | F10: 0.85 | G10: 0.9162 | H10: 0.9355 | I10: 0.8625 | J10: 0.904 | K10: 0.8881 | L10: 0.7615 | M10: 0.8677 | N10: 0.7204 | O10: 0.8122 | P10: 0.8056 | Q10: 0.8795 | R10: 0.8579 | S10: 0.96083333 | T10: 0.86656667 | U10: 0.876725 | V10: 0.91775 | W10: 0.943225 | X10: 0.8543 | Y10: 0.70075 | Z10: 0.669875 | AA10: 0.68125 | AB10: 0.83452292 | AC10: 0.8273 | AD10: 0.89745 | AE10: 0.88195 | AF10: 0.91325 | AG10: 0.965 | AH10: 0.92255 | AI10: 0.82327957 | AJ10: 0.8806 | AO10: 0.80749306 | AP10: 0.91990591 | AQ10: 0.96145833 | AR10: 0.7805 | AS10: 0.86999146 | AT10: 0.85935524 | AU10: 0.719 | AV10: 0.71878024 | AW10: 0.78056806 | AX10: 0.76355175 | AY10: 0.72268403 | AZ10: 0.8503006 | BA10: 0.86319444 | BB10: 0.87680804 | BC10: 0.8431652 | BD10: 0.89604526 | BE10: 0.82880208 | BF10: 0.83902047 | BG10: 0.73896528 | BH10: 0.86974321 | BI10: 0.89570228 | BJ10: 0.87687847 | BK10: 0.89730903 | BL10: 0.86660417 | BM10: 0.85269489 | BN10: 0.87629368 | BO10: 0.77302778 | BP10: 0.74169019 | BQ10: 0.83714583 | BR10: 0.84219086 | BS10: ='J-P'!AC66 -> 0.84101815 | BT10: ='J-P'!AD66 -> 0.88758557 | BU10: ='J-P'!AE66 -> 0.89080981 | BV10: 0.79665972 | BW10: 0.91207997 | BX10: 0.91181597 | BY10: 0.86838374 | BZ10: 0.87082661 | CA10: 0.88462153 | CB10: 0.89306452 | CC10: 0.91078472 | CD10: ='J-P'!AN66 -> 0.90416331 | CE10: =AVERAGE(BS10:CD10) -> 0.88098447 | CF10: =IF(CD10>=F10,"J","L") -> J | CH10: DF PR-22 | CI10: =+BF6 -> 0.72841413 | CJ10: =+BF8 -> 0.98225433 | CK10: =+BF10 -> 0.83902047 | CL10: =+BF12 -> 0.7684855 | CM10: =+BF14 -> 0.96932128 | CN10: =+BF16 -> 0.92606837 | CO10: =+BF18 -> 0.87470146 | CP10: =+BF20 -> 0.86780094 | CU10: DF PR-22 | CV10: =BF6 -> 0.72841413 | CW10: =BF8 -> 0.98225433 | CX10: =BF10 -> 0.83902047 | CY10: =BF12 -> 0.7684855 | CZ10: =BF14 -> 0.96932128 | DA10: =BF16 -> 0.92606837 | DB10: =+BF18 -> 0.87470146 | DC10: =+BF20 -> 0.86780094 | DH10: SCOOPTRAMS - SERVICIOS | DI10: 1.1018222
C11: UT | D11: % | E11: =+AVERAGE(G11:O11) -> 0.17362222 | F11: 0.2 | G11: 0.2614 | H11: 0.2707 | I11: 0.2768 | J11: 0.1193 | K11: 0.1105 | L11: 0.1109 | M11: 0.1248 | N11: 0.1547 | O11: 0.1335 | P11: 0.12455 | Q11: 0.1141 | R11: 0.13435 | S11: 0.10156667 | T11: 0.13056667 | U11: 0.129325 | V11: 0.09775 | W11: 0.11415 | X11: 0.3108 | Y11: 0.259075 | Z11: 0.250225 | AA11: 0.23865 | AB11: 0.16709236 | AC11: 0.223325 | AD11: 0.22595 | AE11: 0.0482 | AF11: 0.0621 | AG11: 0.044786535 | AH11: 0.061575 | AI11: 0.15806507 | AJ11: 0.063525 | AO11: 0.069454287 | AP11: 0.059032382 | AQ11: 0.055005904 | AR11: 0.0753 | AS11: 0.064463515 | AT11: 0.052432537 | AU11: 0.058 | AV11: 0.058357963 | AW11: 0.0094566344 | AX11: 0.090904864 | AY11: 0.083600997 | AZ11: 0.088038652 | BA11: 0.075839826 | BB11: 0.067845652 | BC11: 0.061478355 | BD11: 0.069628826 | BE11: 0.070106243 | BF11: 0.079115878 | BG11: 0.067261692 | BH11: 0.077381424 | BI11: 0.080861223 | BJ11: 0.088640006 | BK11: 0.081768676 | BL11: 0.096047477 | BM11: 0.08602298 | BN11: 0.078070116 | BO11: 0.076274717 | BP11: 0.079435598 | BQ11: 0.084633504 | BR11: 0.052993122 | BS11: ='J-P'!AC67 -> 0.077241739 | BT11: ='J-P'!AD67 -> 0.085871141 | BU11: ='J-P'!AE67 -> 0.083073859 | BV11: 0.090271379 | BW11: 0.082548259 | BX11: 0.087304088 | BY11: 0.086852214 | BZ11: 0.10133322 | CA11: 0.064765986 | CB11: 0.08174121 | CC11: 0.09823316 | CD11: ='J-P'!AN67 -> 0.085471953 | CE11: =AVERAGE(BS11:CD11) -> 0.085392351 | CF11: =IF(CD11>=F11,"J","L") -> L | CU11: UT PR-22 | CV11: =BF7 -> 0.37586514 | CW11: =BF9 -> 0.0231621 | CX11: =BF11 -> 0.079115878 | CY11: =BF13 -> 0.070853278 | CZ11: =BF15 -> 0.008924797 | DA11: =BF17 -> 0.26304026 | DB11: =+BF19 -> 0.035841051 | DC11: =+BF21 -> 0.060755161 | DH11: JUMBOS PRODUCCION | DI11: 0.86391082
B12: JUMBOS SOSTENIMIENTO | C12: DF | D12: % | E12: =+AVERAGE(G12:O12) -> 0.65717778 | F12: 0.85 | G12: 0.89 | H12: 0.6593 | I12: 0.613 | J12: 0.548 | K12: 0.5797 | L12: 0.7646 | M12: 0.7602 | N12: 0.6192 | O12: 0.4806 | P12: 0.75825 | Q12: 0.67685 | R12: 0.61275 | S12: 0.44095 | T12: 0.68553333 | U12: 0.713 | V12: 0.62436667 | W12: 0.87303333 | X12: 0.72076667 | Y12: 0.88392 | Z12: 0.78674 | AA12: 0.875 | AB12: 0.72093 | AC12: 0.93942 | AD12: 0.8867 | AE12: 0.88375 | AF12: 0.881075 | AG12: 0.87916667 | AH12: 0.755775 | AI12: 0.67213038 | AJ12: 0.721925 | AO12: 0.704375 | AP12: 0.81514113 | AQ12: 0.67675347 | AR12: 0.669975 | AS12: 0.71763392 | AT12: 0.80821237 | AU12: 0.864 | AV12: 0.86397513 | AW12: 0.99305556 | AX12: 0.65049731 | AY12: 0.63632292 | AZ12: 0.79481027 | BA12: 0.81463194 | BB12: 0.83522321 | BC12: 0.85380848 | BD12: 0.73733836 | BE12: 0.83972917 | BF12: 0.7684855 | BG12: 0.83631944 | BH12: 0.74991667 | BI12: 0.64873656 | BJ12: 0.779625 | BK12: 0.83909028 | BL12: 0.72971528 | BM12: 0.79689852 | BN12: 0.80552419 | BO12: 0.66183333 | BP12: 0.60721102 | BQ12: 0.88969097 | BR12: 0.87726478 | BS12: ='J-S'!AC98 -> 0.68768145 | BT12: ='J-S'!AD98 -> 0.76555804 | BU12: ='J-S'!AE98 -> 0.65741599 | BV12: 0.66322569 | BW12: 0.81093078 | BX12: 0.88645139 | BY12: 0.84572581 | BZ12: 0.79456481 | CA12: 0.901135 | CB12: 0.9198414 | CC12: 0.85620278 | CD12: ='J-S'!AN98 -> 0.84445075 | CE12: =AVERAGE(BS12:CD12) -> 0.80276532 | CF12: =IF(CD12>=F12,"J","L") -> L | CU12: DF PR-21 | CV12: =+AS6 -> 0.73372082 | CW12: =+AS8 -> 0.85365862 | CX12: =+AS10 -> 0.86999146 | CY12: =+AS12 -> 0.71763392 | CZ12: =+AS14 -> 0.53605853 | DA12: =+AS16 -> 0.90294778 | DB12: =+AS18 -> 0.7911578 | DC12: =+AS20 -> 0.89716939 | DH12: JUMBOS SOSTENIMIENTO | DI12: 0.73484236
C13: UT | D13: % | E13: =+AVERAGE(G13:O13) -> 0.13096667 | F13: 0.2 | G13: 0.1859 | H13: 0.1906 | I13: 0.306 | J13: 0.0487 | K13: 0.062 | L13: 0.0568 | M13: 0.08 | N13: 0.1414 | O13: 0.1073 | P13: 0.10805 | Q13: 0.28665 | R13: 0.26915 | S13: 0.08145 | T13: 0.11976667 | U13: 0.064666667 | V13: 0.23313333 | W13: 0.11626667 | X13: 0.26233333 | Y13: 0.17246 | Z13: 0.18118 | AA13: 0.17418 | AB13: 0.17244056 | AC13: 0.14502 | AD13: 0.3539 | AE13: 0.050075 | AF13: 0.06075 | AG13: 0.054206301 | AH13: 0.056025 | AI13: 0.05530039 | AJ13: 0.079075 | AO13: 0.079171553 | AP13: 0.064070589 | AQ13: 0.076630425 | AR13: 0.046825 | AS13: 0.069154513 | AT13: 0.022660389 | AU13: 0.042 | AV13: 0.042342277 | AW13: 0.005067216 | AX13: 0.057451513 | AY13: 0.07444646 | AZ13: 0.067121752 | BA13: 0.06565505 | BB13: 0.058440043 | BC13: 0.056286128 | BD13: 0.08075023 | BE13: 0.063227541 | BF13: 0.070853278 | BG13: 0.058434628 | BH13: 0.075788885 | BI13: 0.077605752 | BJ13: 0.076518152 | BK13: 0.068794638 | BL13: 0.078881216 | BM13: 0.072678556 | BN13: 0.080717326 | BO13: 0.080802022 | BP13: 0.062580293 | BQ13: 0.065764321 | BR13: 0.051673547 | BS13: ='J-S'!AC99 -> 0.047259297 | BT13: ='J-S'!AD99 -> 0.060978611 | BU13: ='J-S'!AE99 -> 0.069020582 | BV13: 0.059571932 | BW13: 0.074167885 | BX13: 0.068813729 | BY13: 0.06125925 | BZ13: 0.074092717 | CA13: 0.050682095 | CB13: 0.041416631 | CC13: 0.13690887 | CD13: ='J-S'!AN99 -> 0.056251567 | CE13: =AVERAGE(BS13:CD13) -> 0.06670193 | CF13: =IF(CD13>=F13,"J","L") -> L | CU13: UT PR-21 | CV13: =+AS7 -> 0.39549233 | CW13: =+AS9 -> 0.13640863 | CX13: =+AS11 -> 0.064463515 | CY13: =+AS13 -> 0.069154513 | CZ13: =+AS15 -> 0.029051825 | DA13: =+AS17 -> 0.31108623 | DB13: =+AS19 -> 0.046897457 | DC13: =+AS21 -> 0.038382326 | DH13: JUMBOS TALACROS LARGOS | DI13: 1.0116948
B14: JUMBOS TALACROS LARGOS | C14: DF | D14: % | E14: =+AVERAGE(G14:O14) -> 0.61605556 | F14: 0.85 | G14: 0.2819 | H14: 0.5161 | I14: 0.8302 | J14: 0.947 | K14: 0.8808 | L14: 0.7081 | M14: 0.428 | N14: 0.2471 | O14: 0.7053 | P14: 0.445 | Q14: 0.66925 | R14: 0.66785 | S14: 0.61145 | T14: 0.3615 | U14: 0.4485 | V14: 0.5389 | W14: 0.86195 | X14: 0.53775 | Y14: 0.7026 | Z14: 0.87255 | AA14: 0.96365 | AB14: 0.64007917 | AC14: 0.6053 | AD14: 0.3825 | AE14: 0.7059 | AF14: 0.79035 | AG14: 0.37757392 | AH14: 0.4489 | AI14: 0.46421371 | AJ14: 0.42205 | AO14: 0.48397222 | AP14: 0.91297043 | AQ14: 0.575 | AR14: 0.2863 | AS14: 0.53605853 | AT14: 0.50351102 | AU14: 0.464 | AV14: 0.46401989 | AW14: 0.5 | AX14: 0.9469086 | AY14: 0.96597222 | AZ14: 0.96106151 | BA14: 0.99652778 | BB14: 0.98921958 | BC14: 0.99361155 | BD14: 0.82891656 | BE14: 0.95486111 | BF14: 0.96932128 | BG14: 0.92291667 | BH14: 0.99753788 | BI14: 0.97110215 | BJ14: 0.99565972 | BK14: 0.95243056 | BL14: 0.9491875 | BM14: 0.98180108 | BN14: 0.97013441 | BO14: 0.96128472 | BP14: 0.9952957 | BQ14: 0.97673611 | BR14: 0.95776882 | BS14: ='J-TL'!AC50 -> 0.97849462 | BT14: ='J-TL'!AD50 -> 0.9936756 | BU14: ='J-TL'!AE50 -> 0.98252688 | BV14: 0.98854167 | BW14: 0.72848118 | BX14: 0.50729167 | BY14: 0.69153226 | BZ14: 0.95317876 | CA14: 0.97164583 | CB14: 0.98084677 | CC14: 0.96319444 | CD14: ='J-TL'!AN50 -> 0.95766129 | CE14: =AVERAGE(BS14:CD14) -> 0.89142258 | CF14: =IF(CD14>=F14,"J","L") -> J | DH14: MEZCLACOR DE CONCRETO | DI14: 0.88522637
C15: UT | D15: % | E15: =+AVERAGE(G15:O15) -> 0.10412222 | F15: 0.2 | G15: 0.17 | H15: 0.1553 | I15: 0.1228 | J15: 0.0894 | K15: 0.0827 | L15: 0.1498 | M15: 0.0692 | N15: 0.0698 | O15: 0.0281 | P15: 0.0329 | Q15: 0.00045 | R15: 0.07215 | S15: 0.06485 | T15: 0.0757 | U15: 0.0275 | V15: 0.05435 | W15: 0.02545 | X15: 0.05555 | Y15: 0.14615 | Z15: 0.10425 | AA15: 0.11405 | AB15: 0.064445833 | AC15: 0.08345 | AD15: 0.08515 | AE15: 0.014 | AF15: 0.01675 | AG15: 0.015177945 | AH15: 0.01985 | AI15: 0.14488797 | AJ15: 0.01785 | AO15: 0.03207737 | AP15: 0.081670161 | AQ15: 0.012261594 | AR15: 0.0014 | AS15: 0.029051825 | AT15: 0.47784902 | AU15: 0.008 | AV15: 0.0078373508 | AW15: 0.046296296 | AX15: 0.0071271608 | AY15: 0.074730845 | AZ15: 0.20998972 | BA15: 0.2520268 | BB15: 0.98568948 | BC15: 0.99269006 | BD15: 0.76851852 | BE15: 0.1093181 | BF15: 0.008924797 | BG15: 0.0091958412 | BH15: 0.0022509121 | BI15: 0.0047218391 | BJ15: 0.014465558 | BK15: 0.0059314228 | BL15: 0.015246058 | BM15: 0.016321903 | BN15: 0.0085974439 | BO15: 0.0099660184 | BP15: 0.005455113 | BQ15: 0.0076035826 | BR15: 0.0073418724 | BS15: ='J-TL'!AC51 -> 0.015520439 | BT15: ='J-TL'!AD51 -> 0.0033438267 | BU15: ='J-TL'!AE51 -> 0.0054338149 | BV15: 0.012063054 | BW15: 0.0062934244 | BX15: 0.0075351171 | BY15: 0.014637305 | BZ15: 0.022543972 | CA15: 0.012274741 | CB15: 0.015092985 | CC15: 0.022569748 | CD15: ='J-TL'!AN51 -> 0.014202745 | CE15: =AVERAGE(BS15:CD15) -> 0.012625931 | CF15: =IF(CD15>=F15,"J","L") -> L | DH15: CARGACOR DE ANFO | DI15: 0.8694215
B16: MEZCLACOR DE CONCRETO | C16: DF | D16: % | E16: =+AVERAGE(G16:O16) -> 0.87502222 | F16: 0.85 | G16: 0.9738 | H16: 0.9449 | I16: 0.9629 | J16: 0.953 | K16: 0.8499 | L16: 0.6729 | M16: 0.888 | N16: 0.7403 | O16: 0.8895 | P16: 0.7299 | Q16: 0.73613333 | R16: 0.97933333 | S16: 0.8867 | T16: 0.95936667 | U16: 0.92066667 | V16: 0.68213333 | W16: 0.96046667 | X16: 0.90726667 | Y16: 0.91566667 | Z16: 0.78346667 | AA16: 0.83953333 | AB16: 0.85838611 | AC16: 0.91896667 | AD16: 0.92656667 | AE16: 0.6891 | AF16: 0.6356 | AG16: 0.83771505 | AH16: 0.96396667 | AI16: 0.9527957 | AJ16: 0.7784 | AO16: 0.96929167 | AP16: 0.92041667 | AQ16: 0.91326389 | AR16: 0.93336667 | AS16: 0.90294778 | AT16: 0.91220341 | AU16: 0.945 | AV16: 0.94515233 | AW16: 1 | AX16: 0.88119624 | AY16: 0.88993056 | AZ16: 0.92209821 | BA16: 0.87893519 | BB16: 0.91687996 | BC16: 0.93028752 | BD16: 0.9623228 | BE16: 0.95243056 | BF16: 0.92606837 | BG16: 0.94081481 | BH16: 0.92844949 | BI16: 0.91326613 | BJ16: 0.93673148 | BK16: 0.87025463 | BL16: 0.96907407 | BM16: 0.86674731 | BN16: 0.93828405 | BO16: 0.94201389 | BP16: 0.94459229 | BQ16: 0.93036111 | BR16: 0.93223118 | BS16: =MX!AC50 -> 0.94896057 | BT16: =MX!AD50 -> 0.93790675 | BU16: =MX!AE50 -> 0.89339158 | BV16: 0.95122222 | BW16: 0.92983871 | BX16: 0.93237037 | BY16: 0.9015457 | BZ16: 0.91974462 | CA16: 0.95462963 | CB16: 0.77501344 | CC16: 0.86090278 | CD16: =MX!AN50 -> 0.9147267 | CE16: =AVERAGE(BS16:CD16) -> 0.91002109 | CF16: =IF(CD16>=F16,"J","L") -> J | DH16: LANZACOR DE CONCRETO | DI16: 0.84730279
C17: UT | D17: % | E17: =+AVERAGE(G17:O17) -> 0.26215556 | F17: 0.3 | G17: 0.2396 | H17: 0.2498 | I17: 0.2253 | J17: 0.1967 | K17: 0.2111 | L17: 0.2144 | M17: 0.4133 | N17: 0.3144 | O17: 0.2948 | P17: 0.23653333 | Q17: 0.2849 | R17: 0.23686667 | S17: 0.2956 | T17: 0.22673333 | U17: 0.26933333 | V17: 0.24236667 | W17: 0.2142 | X17: 0.31236667 | Y17: 0.31456667 | Z17: 0.3495 | AA17: 0.3055 | AB17: 0.27403889 | AC17: 0.296 | AD17: 0.20706667 | AE17: 0.27456667 | AF17: 0.28146667 | AG17: 0.29663178 | AH17: 0.263 | AI17: 0.28863644 | AJ17: 0.3199 | AO17: 0.29858356 | AP17: 0.31626236 | AQ17: 0.31915192 | AR17: 0.30153333 | AS17: 0.31108623 | AT17: 0.19958649 | AU17: 0.176 | AV17: 0.17635654 | AW17: 0 | AX17: 0.22049424 | AY17: 0.21151592 | AZ17: 0.31082756 | BA17: 0.25821596 | BB17: 0.21268387 | BC17: 0.29198505 | BD17: 0.29988177 | BE17: 0.27010679 | BF17: 0.26304026 | BG17: 0.18544396 | BH17: 0.19732769 | BI17: 0.26727121 | BJ17: 0.27665026 | BK17: 0.35449587 | BL17: 0.29424083 | BM17: 0.27461315 | BN17: 0.24282835 | BO17: 0.23686634 | BP17: 0.30156253 | BQ17: 0.32441421 | BR17: 0.20076866 | BS17: =MX!AC51 -> 0.20993636 | BT17: =MX!AD51 -> 0.32353526 | BU17: =MX!AE51 -> 0.3650967 | BV17: 0.3287704 | BW17: 0.36533686 | BX17: 0.35529551 | BY17: 0.33399843 | BZ17: 0.34985854 | CA17: 0.30024416 | CB17: 0.29796577 | CC17: 0.30954909 | CD17: =MX!AN51 -> 0.31677531 | CE17: =AVERAGE(BS17:CD17) -> 0.32136353 | CF17: =IF(CD17>=F17,"J","L") -> J
B18: CARGACOR DE ANFO | C18: DF | D18: % | E18: =+AVERAGE(G18:O18) -> 0.90031111 | F18: 0.85 | G18: 0.9514 | H18: 0.8294 | I18: 0.9604 | J18: 0.908 | K18: 0.9524 | L18: 0.7364 | M18: 0.9036 | N18: 0.9482 | O18: 0.913 | P18: 0.6341 | Q18: 0.60943333 | R18: 0.60256667 | S18: 0.63946667 | T18: 0.62193333 | U18: 0.62633333 | V18: 0.63586667 | W18: 0.89293333 | X18: 0.94423333 | Y18: 0.88603333 | Z18: 0.93153333 | AA18: 0.9458 | AB18: 0.74751944 | AC18: 0.89933333 | AD18: 0.81453333 | AE18: 0.85613333 | AF18: 0.67156667 | AG18: 0.9578853 | AH18: 0.8779 | AI18: 0.95339606 | AJ18: 0.97186667 | AO18: 0.95588889 | AP18: 0.63952509 | AQ18: 0.61354167 | AR18: 0.77496667 | AS18: 0.7911578 | AT18: 0.76555556 | AU18: 0.945 | AV18: 0.94485663 | AW18: 0.99768519 | AX18: 0.96461022 | AY18: 0.95524074 | AZ18: 0.96143849 | BA18: 0.95038426 | BB18: 0.91398313 | BC18: 0.85702729 | BD18: 0.92519619 | BE18: 0.79922685 | BF18: 0.87470146 | BG18: 0.87703704 | BH18: 0.95492424 | BI18: 0.93317204 | BJ18: 0.91080093 | BK18: 0.96118981 | BL18: 0.90811389 | BM18: 0.74601703 | BN18: 0.62174283 | BO18: 0.83431019 | BP18: 0.87375 | BQ18: 0.91461574 | BR18: 0.96074373 | BS18: =AF!AC50 -> 0.92880824 | BT18: =AF!AD50 -> 0.88730159 | BU18: =AF!AE50 -> 0.72733871 | BV18: 0.81298148 | BW18: 0.95026882 | BX18: 0.94645833 | BY18: 0.94785842 | BZ18: 0.89329301 | CA18: 0.93776389 | CB18: 0.63766129 | CC18: 0.63967593 | CD18: =AF!AN50 -> 0.63876941 | CE18: =AVERAGE(BS18:CD18) -> 0.82901493 | CF18: =IF(CD18>=F18,"J","L") -> L
C19: UT | D19: % | E19: =+AVERAGE(G19:O19) -> 0.1208 | F19: 0.18 | G19: 0.1853 | H19: 0.1719 | I19: 0.1474 | J19: 0.0795 | K19: 0.1052 | L19: 0.0923 | M19: 0.1035 | N19: 0.1098 | O19: 0.0923 | P19: 0.070966667 | Q19: 0.067333333 | R19: 0.1221 | S19: 0.0671 | T19: 0.070866667 | U19: 0.087333333 | V19: 0.092766667 | W19: 0.1036 | X19: 0.07 | Y19: 0.069733333 | Z19: 0.0768 | AA19: 0.0725 | AB19: 0.080925 | AC19: 0.067933333 | AD19: 0.072133333 | AE19: 0.030366667 | AF19: 0.032066667 | AG19: 0.028786982 | AH19: 0.030733333 | AI19: 0.03739813 | AJ19: 0.035366667 | AO19: 0.02897434 | AP19: 0.050918122 | AQ19: 0.089328154 | AR19: 0.0299 | AS19: 0.046897457 | AT19: 0.044711361 | AU19: 0.019 | AV19: 0.018538945 | AW19: 0.0067977108 | AX19: 0.032429288 | AY19: 0.034019806 | AZ19: 0.037197131 | BA19: 0.037178971 | BB19: 0.031481324 | BC19: 0.024034526 | BD19: 0.037309282 | BE19: 0.044308127 | BF19: 0.035841051 | BG19: 0.033708166 | BH19: 0.034437154 | BI19: 0.036805806 | BJ19: 0.028901703 | BK19: 0.032327468 | BL19: 0.036292437 | BM19: 0.032210799 | BN19: 0.037517921 | BO19: 0.042118616 | BP19: 0.042747318 | BQ19: 0.041416305 | BR19: 0.031608922 | BS19: =AF!AC51 -> 0.037420373 | BT19: =AF!AD51 -> 0.037641051 | BU19: =AF!AE51 -> 0.051663516 | BV19: 0.030397314 | BW19: 0.045032082 | BX19: 0.032550158 | BY19: 0.035589893 | BZ19: 0.041081775 | CA19: 0.03847803 | CB19: 0.055938202 | CC19: 0.032550367 | CD19: =AF!AN51 -> 0.029817305 | CE19: =AVERAGE(BS19:CD19) -> 0.039013339 | CF19: =IF(CD19>=F19,"J","L") -> L
B20: LANZACOR DE CONCRETO | C20: DF | D20: % | E20: =+AVERAGE(G20:O20) -> 0.83686667 | F20: 0.85 | G20: 0.8802 | H20: 0.8029 | I20: 0.8778 | J20: 0.95 | K20: 0.794 | L20: 0.5388 | M20: 0.9258 | N20: 0.9366 | O20: 0.8257 | P20: 0.9236 | Q20: 0.90045 | R20: 0.65935 | S20: 0.9361 | T20: 0.87145 | U20: 0.838 | V20: 0.94525 | W20: 0.88945 | X20: 0.9247 | Y20: 0.93115 | Z20: 0.7292 | AA20: 0.9114 | AB20: 0.871675 | AC20: 0.928 | AD20: 0.9206 | AE20: 0.8616 | AF20: 0.78735 | AG20: 0.8772379 | AH20: 0.94265 | AI20: 0.93299059 | AJ20: 0.9236 | AO20: 0.89507639 | AP20: 0.76038082 | AQ20: 0.95208976 | AR20: 0.9547 | AS20: 0.89716939 | AT20: 0.73484123 | AU20: 0.891 | AV20: 0.89112903 | AW20: 0.98923611 | AX20: 0.85685484 | AY20: 0.89872917 | AZ20: 0.8859747 | BA20: 0.89759028 | BB20: 0.90959821 | BC20: 0.84685673 | BD20: 0.89771552 | BE20: 0.65475 | BF20: 0.86780094 | BG20: 0.92956944 | BH20: 0.62214394 | BI20: 0.77434812 | BJ20: 0.90318056 | BK20: 0.871875 | BL20: 0.86120139 | BM20: 0.90450269 | BN20: 0.9044086 | BO20: 0.87540278 | BP20: 0.94836022 | BQ20: 0.89675694 | BR20: 0.92186156 | BS20: =LC!AC50 -> 0.90627016 | BT20: =LC!AD50 -> 0.71880952 | BU20: =LC!AE50 -> 0.91700941 | BV20: 0.89359722 | BW20: 0.91601478 | BX20: 0.90160417 | BY20: 0.92473118 | BZ20: 0.80499328 | CA20: 0.89047222 | CB20: 0.88094758 | CC20: 0.79311111 | CD20: =LC!AN50 -> 0.67276882 | CE20: =AVERAGE(BS20:CD20) -> 0.85169412 | CF20: =IF(CD20>=F20,"J","L") -> L
C21: UT | D21: % | E21: =+AVERAGE(G21:O21) -> 0.091711111 | F21: 0.18 | G21: 0.1479 | H21: 0.1551 | I21: 0.1593 | J21: 0.0503 | K21: 0.0565 | L21: 0.0607 | M21: 0.0533 | N21: 0.0744 | O21: 0.0679 | P21: 0.053 | Q21: 0.111 | R21: 0.1332 | S21: 0.10085 | T21: 0.08345 | U21: 0.241 | V21: 0.14555 | W21: 0.0686 | X21: 0.13655 | Y21: 0.1272 | Z21: 0.15055 | AA21: 0.1579 | AB21: 0.1257375 | AC21: 0.16645 | AD21: 0.132 | AE21: 0.0521 | AF21: 0.06105 | AG21: 0.060311196 | AH21: 0.04925 | AI21: 0.07634319 | AJ21: 0.07405 | AO21: 0.039425673 | AP21: 0.036110523 | AQ21: 0.015925435 | AR21: 0.0264 | AS21: 0.038382326 | AT21: 0.032513363 | AU21: 0.054 | AV21: 0.054346619 | AW21: 0.013589674 | AX21: 0.050965308 | AY21: 0.084059597 | AZ21: 0.080619294 | BA21: 0.06312343 | BB21: 0.043384575 | BC21: 0.055196323 | BD21: 0.087909838 | BE21: 0.06120916 | BF21: 0.060755161 | BG21: 0.038379895 | BH21: 0.037877756 | BI21: 0.069567502 | BJ21: 0.062562547 | BK21: 0.063213733 | BL21: 0.087041037 | BM21: 0.051016074 | BN21: 0.070175819 | BO21: 0.061167487 | BP21: 0.063541184 | BQ21: 0.073553889 | BR21: 0.050965012 | BS21: =LC!AC51 -> 0.057180304 | BT21: =LC!AD51 -> 0.086659789 | BU21: =LC!AE51 -> 0.066092973 | BV21: 0.069120046 | BW21: 0.082804314 | BX21: 0.085981412 | BY21: 0.094868546 | BZ21: 0.10203228 | CA21: 0.08483966 | CB21: 0.0857524 | CC21: 0.082529172 | CD21: =LC!AO51 -> 0.081960304 | CE21: =AVERAGE(BS21:CD21) -> 0.081651767 | CF21: =IF(CD21>=F21,"J","L") -> L
B22: EQUIPOS PARA VIAS | C22: DF | D22: % | E22: =+AVERAGE(G22:O22) -> 0.65472222 | F22: 0.85 | G22: 0.9986 | H22: 0.4997 | I22: 0.4952 | J22: 0 | K22: 0.4642 | L22: 0.866 | M22: 0.9402 | N22: 0.7563 | O22: 0.8723 | P22: 0.89865 | Q22: 0.9222 | R22: 0.84925 | S22: 0.89835 | T22: 0.58425 | U22: 0.729 | V22: 0.7389 | W22: 0.93455 | X22: 0.92715 | Y22: 0.92915 | Z22: 0.83035 | AA22: 0.76635 | AB22: 0.8340125 | AC22: 0.8882 | AD22: 0.672 | AE22: 0.32825 | AF22: 0.38645 | AG22: 0.48655914 | AH22: 0.49065 | AI22: 0.5 | AJ22: 0.5 | AO22: 0.53601559 | AP22: 0.85 | AQ22: 0 | AS22: 0.53201386 | BU22: =EV!F18 -> 0.98655914 | BV22: =EV!G18 -> 0.97043011 | BW22: =EV!H18 -> 0.97715054 | BX22: =EV!I18 -> 0.97513441 | BY22: =EV!J18 -> 0.96572581 | BZ22: 0.97043011 | CA22: 0.95138889 | CB22: 0.99462366 | CC22: 0.97361111 | CD22: =EV!O18 -> 0.97647849 | CE22: =AVERAGE(BS22:CD22) -> 0.97415323 | CF22: =IF(CD22>=F22,"J","L") -> J
C23: UT | D23: % | E23: =+AVERAGE(G23:O23) -> 0.066633333 | F23: 0.15 | G23: 0.0052 | H23: 0.0321 | I23: 0.0278 | J23: 0 | K23: 0.1123 | L23: 0.1112 | M23: 0.098 | N23: 0.1237 | O23: 0.0894 | P23: 0.1546 | Q23: 0.17765 | R23: 0.2032 | S23: 0.28555 | T23: 0.11755 | U23: 0.019 | V23: 0.1248 | W23: 0.62285 | X23: 0.12525 | Y23: 0.20595 | Z23: 0.18265 | AA23: 0.1259 | AB23: 0.1954125 | AC23: 0.30605 | AD23: 0.1658 | AE23: 0.0149 | AF23: 0.13185 | AG23: 0.064060773 | AH23: 0.02865 | AI23: 0.037634409 | AJ23: 0 | AO23: 0.10699217 | AP23: 0.15 | AQ23: 0 | AS23: 0.09510415 | BU23: =EV!F19 -> 0.35418256 | BV23: =EV!G19 -> 0.26036011 | BW23: =EV!H19 -> 0.35090784 | BX23: =EV!I19 -> 0.34425913 | BY23: =EV!J19 -> 0.31565762 | BZ23: 0.18855956 | CA23: 0.20732847 | CB23: 0.2295 | CC23: 0.18851641 | CD23: =EV!O19 -> 0.15139711 | CE23: =AVERAGE(BS23:CD23) -> 0.25906688 | CF23: =IF(CD23>=F23,"J","L") -> J
B24: VOLQUETES | C24: DF | D24: % | E24: =+AVERAGE(G24:O24) -> 0.65472222 | F24: 0.85 | G24: 0.9986 | H24: 0.4997 | I24: 0.4952 | J24: 0 | K24: 0.4642 | L24: 0.866 | M24: 0.9402 | N24: 0.7563 | O24: 0.8723 | P24: 0.89865 | Q24: 0.9222 | R24: 0.84925 | S24: 0.89835 | T24: 0.58425 | U24: 0.729 | V24: 0.7389 | W24: 0.93455 | X24: 0.92715 | Y24: 0.92915 | Z24: 0.83035 | AA24: 0.76635 | AB24: 0.8340125 | AC24: 0.8882 | AD24: 0.672 | AE24: 0.32825 | AF24: 0.38645 | AG24: 0.48655914 | AH24: 0.49065 | AI24: 0.5 | AJ24: 0.5 | AO24: 0.53601559 | AP24: 0.85 | AQ24: 0 | AS24: 0.53201386 | BU24: =VOLQ!F82 -> 0.97597446 | BV24: =VOLQ!G82 -> 0.97043011 | BW24: =VOLQ!H82 -> 0.72069892 | BX24: =VOLQ!I82 -> 0.97076613 | BY24: =VOLQ!J82 -> 0.80846438 | BZ24: 0.68390457 | CA24: 0.62609722 | CB24: 0.69732191 | CC24: 0.703525 | CD24: =VOLQ!O82 -> 0.72116935 | CE24: =AVERAGE(BS24:CD24) -> 0.78783521 | CF24: =IF(CD24>=F24,"J","L") -> L
C25: UT | D25: % | E25: =+AVERAGE(G25:O25) -> 0.066633333 | F25: 0.15 | G25: 0.0052 | H25: 0.0321 | I25: 0.0278 | J25: 0 | K25: 0.1123 | L25: 0.1112 | M25: 0.098 | N25: 0.1237 | O25: 0.0894 | P25: 0.1546 | Q25: 0.17765 | R25: 0.2032 | S25: 0.28555 | T25: 0.11755 | U25: 0.019 | V25: 0.1248 | W25: 0.62285 | X25: 0.12525 | Y25: 0.20595 | Z25: 0.18265 | AA25: 0.1259 | AB25: 0.1954125 | AC25: 0.30605 | AD25: 0.1658 | AE25: 0.0149 | AF25: 0.13185 | AG25: 0.064060773 | AH25: 0.02865 | AI25: 0.037634409 | AJ25: 0 | AO25: 0.10699217 | AP25: 0.15 | AQ25: 0 | AS25: 0.09510415 | BU25: 0.58117326 | BV25: 0.58117326 | BW25: 0.58117326 | BX25: 0.58117326 | BY25: 0.58117326 | BZ25: 0.44849642 | CA25: 0.35919318 | CB25: 0.37075692 | CC25: 0.3496 | CD25: =VOLQ!O83 -> 0.37517534 | CE25: =AVERAGE(BS25:CD25) -> 0.48090882 | CF25: =IF(CD25>=F25,"J","L") -> J

Sheet KPIS 
B2: DISPONIBILIDAD FISICA / UTILIZACION DIARIA
B3: FLOTA | AM3: INDICADORES DE CONFIABILIDAD EQUIPOS MINA DICIEMBRE
B4: TIPO | C4: KPIs | D4: UM | E4: 44317 | F4: 44318 | G4: 44319 | H4: 44320 | I4: 44321 | J4: 44322 | K4: 44323 | L4: 44324 | M4: 44325 | N4: 44326 | O4: 44327 | P4: 44328 | Q4: 44329 | R4: 44330 | S4: 44331 | T4: 44332 | U4: 44333 | V4: 44334 | W4: 44335 | X4: 44336 | Y4: 44337 | Z4: 44338 | AA4: 44339 | AB4: 44340 | AC4: 44341 | AD4: 44342 | AE4: 44343 | AF4: 44344 | AG4: 44345 | AH4: 44346 | AI4: 44347 | AJ4: Total | AM4: SC-PROD | AN4: SC-SERV | AO4: JU-PROD | AP4: JU-SOST | AQ4: JU-TA/LA | AR4: MX-CONC | AS4: CA-ANFO | AT4: LA-CONC | AU4: EQ-VIAS | AV4: VOLQ
B5: CAT-02 | C5: H.T | E5: 14.33 | F5: 14.33 | G5: 14.33 | H5: 5.35 | I5: 5.35 | J5: 5.65 | K5: 5.65 | L5: 13 | M5: 13.8 | N5: 12.7 | O5: 12.7 | P5: 6.3 | Q5: 10.5 | R5: 20.9 | S5: 0 | T5: 13.1 | U5: 13 | V5: 8.6 | W5: 4.6 | X5: 10 | Y5: 19 | Z5: 11.4 | AA5: 10.9 | AB5: 10.4 | AC5: 14.4 | AD5: 14.4 | AE5: 10.47 | AF5: 8.8 | AJ5: 303.96 | AK5: 0 | AL5: DF | AM5: ='S-P'!AN146 -> 0.7150288 | AN5: =+'S-S'!AN34 -> 1 | AO5: =+'J-P'!AN66 -> 0.90416331 | AP5: =+'J-S'!AN98 -> 0.84445075 | AQ5: =+'J-TL'!AN50 -> 0.95766129 | AR5: =+MX!AN50 -> 0.9147267 | AS5: =+AF!AN50 -> 0.63876941 | AT5: =LC!AN50 -> 0.67276882 | AU5: =EV!O18 -> 0.97647849 | AV5: =VOLQ!O82 -> 0.72116935
C6: N°.I | E6: 0 | F6: 0 | G6: 0 | H6: 0 | I6: 0 | J6: 0 | K6: 0 | L6: 0 | M6: 0 | N6: 2 | O6: 1 | P6: 0 | Q6: 1 | R6: 0 | S6: 1 | T6: 0 | U6: 0 | V6: 0 | W6: 0 | X6: 0 | Y6: 0 | Z6: 0 | AA6: 1 | AB6: 1 | AC6: 0 | AD6: 0 | AE6: 1 | AF6: 0 | AJ6: 8 | AK6: 0 | AL6: MTBF | AM6: ='S-P'!AN148 -> 35.586921 | AN6: ='S-S'!AN36 -> 0 | AO6: =+'J-P'!AN68 -> 5.6135908 | AP6: =+'J-S'!AN100 -> 2.9972016 | AQ6: =+'J-TL'!AN52 -> 1.9344139 | AR6: =+MX!AN52 -> 42.705608 | AS6: =+AF!AN52 -> 2.8496955 | AT6: =LC!AN52 -> 4.040161 | AU6: =EV!O20 -> 109.99 | AV6: =VOLQ!O84 -> 53.242857
C7: DF | D7: % | E7: 100 | F7: 100 | G7: 100 | H7: 100 | I7: 62.5 | J7: 100 | K7: 100 | L7: 100 | M7: 100 | N7: 70.833333 | O7: 93.75 | P7: 100 | Q7: 88.208333 | R7: 100 | S7: 29.25 | T7: 100 | U7: 100 | V7: 100 | W7: 100 | X7: 56.25 | Y7: 100 | Z7: 100 | AA7: 55.541667 | AB7: 97.916667 | AC7: 100 | AD7: 100 | AE7: 85.416667 | AF7: 89.583333 | AJ7: 0.90330357 | AL7: MTTR | AM7: ='S-P'!AN149 -> 113.28122 | AN7: =+'S-S'!AN37 -> 0 | AO7: =+'J-P'!AN69 -> 4.2425714 | AP7: =+'J-S'!AN101 -> 12.490942 | AQ7: =+'J-TL'!AN53 -> 1.5 | AR7: =+MX!AN53 -> 5.9080167 | AS7: =+AF!AN53 -> 62.7 | AT7: =LC!AN53 -> 22.728194 | AU7: =EV!O21 -> 0 | AV7: =VOLQ!O85 -> 48.281964
C8: UT | D8: % | E8: 59.708333 | F8: 59.708333 | G8: 59.708333 | H8: 22.291667 | I8: 35.666667 | J8: 23.541667 | K8: 23.541667 | L8: 54.166667 | M8: 57.5 | N8: 74.705882 | O8: 56.444444 | P8: 26.25 | Q8: 49.598488 | R8: 87.083333 | S8: 0 | T8: 54.583333 | U8: 54.166667 | V8: 35.833333 | W8: 19.166667 | X8: 74.074074 | Y8: 79.166667 | Z8: 47.5 | AA8: 81.770443 | AB8: 44.255319 | AC8: 60 | AD8: 60 | AE8: 51.073171 | AF8: 40.930233 | AJ8: 0.50074133 | AL8: OBJ MTBF | AM8: 50 | AN8: 50 | AO8: 20 | AP8: 20 | AQ8: 20 | AR8: 30 | AS8: 30 | AT8: 30 | AU8: 50 | AV8: 50
C9: MTBF | E9: 14.33 | F9: 14.33 | G9: 14.33 | H9: 5.35 | I9: 5.35 | J9: 5.65 | K9: 5.65 | L9: 13 | M9: 13.8 | N9: 6.35 | O9: 12.7 | P9: 6.3 | Q9: 10.5 | R9: 20.9 | S9: 0 | T9: 13.1 | U9: 13 | V9: 8.6 | W9: 4.6 | X9: 10 | Y9: 19 | Z9: 11.4 | AA9: 10.9 | AB9: 10.4 | AC9: 14.4 | AD9: 14.4 | AE9: 10.47 | AF9: 8.8 | AJ9: 37.995 | AL9: OBJ MTTR | AM9: 5 | AN9: 5 | AO9: 4 | AP9: 4 | AQ9: 4 | AR9: 4 | AS9: 4 | AT9: 4 | AU9: 5 | AV9: 5
C10: MTTR | E10: 0 | F10: 0 | G10: 0 | H10: 0 | I10: 0 | J10: 0 | K10: 0 | L10: 0 | M10: 0 | N10: 3.5 | O10: 1.5 | P10: 0 | Q10: 2.83 | R10: 0 | S10: 16.98 | T10: 0 | U10: 0 | V10: 0 | W10: 0 | X10: 0 | Y10: 0 | Z10: 0 | AA10: 10.67 | AB10: 0.5 | AC10: 0 | AD10: 0 | AE10: 3.5 | AF10: 2.5 | AJ10: 5.685 | AL10: $/h | AM10: 30.389972 | AN10: 0 | AO10: 165.06265 | AP10: 460.56241 | AQ10: 647.97617 | AR10: 22.490401 | AS10: 69.667084 | AT10: 302.55455 | AU10: 0 | AV10: 12.8
B11: CAT-03 | C11: H.T | E11: 2.5 | F11: 12.5 | G11: 12.5 | H11: 17 | I11: 12 | J11: 8.73 | K11: 8.73 | L11: 8.73 | M11: 11.07 | N11: 11.07 | O11: 11.07 | P11: 12.3 | Q11: 13.2 | R11: 20.2 | S11: 13 | T11: 7.4 | U11: 15.4 | V11: 13 | W11: 4.1 | X11: 10.1 | Y11: 12.6 | Z11: 6.2 | AA11: 12.9 | AB11: 18.5 | AC11: 0 | AD11: 0 | AE11: 12.55 | AF11: 6.8 | AJ11: 294.15 | AL11: $/ hora
C12: N°.I | E12: 0 | F12: 0 | G12: 0 | H12: 0 | I12: 0 | J12: 0 | K12: 0 | L12: 0 | M12: 0 | N12: 0 | O12: 0 | P12: 0 | Q12: 1 | R12: 0 | S12: 0 | T12: 0 | U12: 0 | V12: 0 | W12: 0 | X12: 1 | Y12: 0 | Z12: 1 | AA12: 0 | AB12: 0 | AC12: 0 | AD12: 0 | AE12: 1 | AF12: 0 | AJ12: 4
C13: DF | D13: % | E13: 37.5 | F13: 100 | G13: 100 | H13: 100 | I13: 100 | J13: 100 | K13: 100 | L13: 100 | M13: 100 | N13: 100 | O13: 100 | P13: 100 | Q13: 89.583333 | R13: 100 | S13: 100 | T13: 100 | U13: 75 | V13: 100 | W13: 70.833333 | X13: 91.666667 | Y13: 100 | Z13: 89.583333 | AA13: 100 | AB13: 100 | AC13: 66.666667 | AD13: 0 | AE13: 89.583333 | AF13: 95.833333 | AJ13: 0.89508929
C14: UT | D14: % | E14: 27.777778 | F14: 52.083333 | G14: 52.083333 | H14: 70.833333 | I14: 50 | J14: 36.375 | K14: 36.375 | L14: 36.375 | M14: 46.125 | N14: 46.125 | O14: 46.125 | P14: 51.25 | Q14: 61.395349 | R14: 84.166667 | S14: 54.166667 | T14: 30.833333 | U14: 85.555556 | V14: 54.166667 | W14: 24.117647 | X14: 45.909091 | Y14: 52.5 | Z14: 28.837209 | AA14: 53.75 | AB14: 77.083333 | AC14: 0 | AD14: 0 | AE14: 58.372093 | AF14: 29.565217 | AJ14: 0.48902743
C15: MTBF | E15: 2.5 | F15: 12.5 | G15: 12.5 | H15: 17 | I15: 12 | J15: 8.73 | K15: 8.73 | L15: 8.73 | M15: 11.07 | N15: 11.07 | O15: 11.07 | P15: 12.3 | Q15: 13.2 | R15: 20.2 | S15: 13 | T15: 7.4 | U15: 15.4 | V15: 13 | W15: 4.1 | X15: 10.1 | Y15: 12.6 | Z15: 6.2 | AA15: 12.9 | AB15: 18.5 | AC15: 0 | AD15: 0 | AE15: 12.55 | AF15: 6.8 | AJ15: 73.5375
A16: =13.84/#REF! -> #REF! | C16: MTTR | E16: 0 | F16: 0 | G16: 0 | H16: 0 | I16: 0 | J16: 0 | K16: 0 | L16: 0 | M16: 0 | N16: 0 | O16: 0 | P16: 0 | Q16: 2.5 | R16: 0 | S16: 0 | T16: 0 | U16: 6 | V16: 0 | W16: 7 | X16: 2 | Y16: 0 | Z16: 2.5 | AA16: 0 | AB16: 0 | AC16: 0 | AD16: 0 | AE16: 2.5 | AF16: 1 | AJ16: 5.875
B17: CAT-04 | C17: H.T | E17: 9.9 | F17: 9.9 | G17: 5.9 | H17: 1.4 | I17: 12.1 | J17: 12.35 | K17: 12.35 | L17: 16.7 | M17: 7.4 | N17: 16 | O17: 16 | P17: 8.1 | Q17: 11.7 | R17: 21.2 | S17: 14.2 | T17: 11.7 | U17: 10.6 | V17: 12 | W17: 4.4 | X17: 12.2 | Y17: 12.6 | Z17: 5.3 | AA17: 11.4 | AB17: 12.9 | AC17: 9.1 | AD17: 9.1 | AE17: 0 | AF17: 0 | AJ17: 286.5
C18: N°.I | E18: 1 | F18: 0 | G18: 0 | H18: 0 | I18: 0 | J18: 0 | K18: 0 | L18: 0 | M18: 0 | N18: 0 | O18: 0 | P18: 1 | Q18: 1 | R18: 1 | S18: 0 | T18: 0 | U18: 2 | V18: 1 | W18: 0 | X18: 0 | Y18: 1 | Z18: 0 | AA18: 0 | AB18: 1 | AC18: 0 | AD18: 0 | AE18: 0 | AF18: 0 | AJ18: 9
C19: DF | D19: % | E19: 97.916667 | F19: 100 | G19: 29.166667 | H19: 31.25 | I19: 100 | J19: 100 | K19: 100 | L19: 100 | M19: 100 | N19: 100 | O19: 100 | P19: 95.833333 | Q19: 79.166667 | R19: 95.833333 | S19: 100 | T19: 100 | U19: 63.875 | V19: 95.833333 | W19: 81.916667 | X19: 100 | Y19: 84.375 | Z19: 33.333333 | AA19: 100 | AB19: 95.833333 | AC19: 100 | AD19: 100 | AE19: 100 | AF19: 100 | AJ19: 0.8872619
C20: UT | D20: % | E20: 42.12766 | F20: 41.25 | G20: 84.285714 | H20: 18.666667 | I20: 50.416667 | J20: 51.458333 | K20: 51.458333 | L20: 69.583333 | M20: 30.833333 | N20: 66.666667 | O20: 66.666667 | P20: 35.217391 | Q20: 61.578947 | R20: 92.173913 | S20: 59.166667 | T20: 48.75 | U20: 69.145466 | V20: 52.173913 | W20: 22.380468 | X20: 50.833333 | Y20: 62.222222 | Z20: 66.25 | AA20: 47.5 | AB20: 56.086957 | AC20: 37.916667 | AD20: 37.916667 | AE20: 0 | AF20: 0 | AJ20: 0.4805112
C21: MTBF | E21: 9.9 | F21: 9.9 | G21: 5.9 | H21: 1.4 | I21: 12.1 | J21: 12.35 | K21: 12.35 | L21: 16.7 | M21: 7.4 | N21: 16 | O21: 16 | P21: 8.1 | Q21: 11.7 | R21: 21.2 | S21: 14.2 | T21: 11.7 | U21: 5.3 | V21: 12 | W21: 4.4 | X21: 12.2 | Y21: 12.6 | Z21: 5.3 | AA21: 11.4 | AB21: 12.9 | AC21: 9.1 | AD21: 9.1 | AE21: 0 | AF21: 0 | AJ21: 31.833333
C22: MTTR | E22: 0.5 | F22: 0 | G22: 0 | H22: 0 | I22: 0 | J22: 0 | K22: 0 | L22: 0 | M22: 0 | N22: 0 | O22: 0 | P22: 1 | Q22: 5 | R22: 1 | S22: 0 | T22: 0 | U22: 4.335 | V22: 1 | W22: 4.34 | X22: 0 | Y22: 3.75 | Z22: 0 | AA22: 0 | AB22: 1 | AC22: 0 | AD22: 0 | AE22: 0 | AF22: 0 | AJ22: 2.9177778
B23: CAT-05 | C23: H.T | E23: 0 | F23: 0 | K23: 6.58 | L23: 14 | M23: 10 | N23: 15.6 | O23: 15.6 | P23: 0 | Q23: 7.3 | R23: 20.3 | S23: 14.1 | T23: 5.5 | U23: 13.6 | V23: 4 | W23: 13.3 | X23: 5.8 | Y23: 11.6 | Z23: 6.3 | AA23: 14.2 | AB23: 13.4 | AC23: 8.2 | AD23: 8.2 | AE23: 11.67 | AF23: 9.8 | AJ23: 229.05
C24: N°.I | E24: 0 | F24: 0 | G24: 0 | H24: 0 | I24: 0 | J24: 0 | K24: 0 | L24: 0 | M24: 1 | N24: 0 | O24: 0 | P24: 1 | Q24: 0 | R24: 0 | S24: 0 | T24: 0 | U24: 0 | V24: 0 | W24: 0 | X24: 1 | Y24: 0 | Z24: 0 | AA24: 0 | AB24: 0 | AC24: 0 | AD24: 0 | AE24: 0 | AF24: 0 | AJ24: 3
C25: DF | D25: % | E25: 0 | F25: 0 | G25: 0 | H25: 0 | I25: 0 | J25: 0 | K25: 83 | L25: 100 | M25: 83.333333 | N25: 100 | O25: 100 | P25: 29.166667 | Q25: 41.666667 | R25: 100 | S25: 100 | T25: 100 | U25: 100 | V25: 29.166667 | W25: 83.333333 | X25: 95.833333 | Y25: 83.333333 | Z25: 100 | AA25: 100 | AB25: 100 | AC25: 100 | AD25: 100 | AE25: 100 | AF25: 69.791667 | AJ25: 0.67808036
C26: UT | D26: % | E26: 0 | F26: 0 | G26: 0 | H26: 0 | I26: 0 | J26: 0 | K26: 33.032129 | L26: 58.333333 | M26: 50 | N26: 65 | O26: 65 | P26: 0 | Q26: 73 | R26: 84.583333 | S26: 58.75 | T26: 22.916667 | U26: 56.666667 | V26: 57.142857 | W26: 66.5 | X26: 25.217391 | Y26: 58 | Z26: 26.25 | AA26: 59.166667 | AB26: 55.833333 | AC26: 34.166667 | AD26: 34.166667 | AE26: 48.625 | AF26: 58.507463 | AJ26: 0.5026664
C27: MTBF | E27: 0 | F27: 0 | G27: 0 | H27: 0 | I27: 0 | J27: 0 | K27: 6.58 | L27: 14 | M27: 10 | N27: 15.6 | O27: 15.6 | P27: 0 | Q27: 7.3 | R27: 20.3 | S27: 14.1 | T27: 5.5 | U27: 13.6 | V27: 4 | W27: 13.3 | X27: 5.8 | Y27: 11.6 | Z27: 6.3 | AA27: 14.2 | AB27: 13.4 | AC27: 8.2 | AD27: 8.2 | AE27: 11.67 | AF27: 9.8 | AJ27: 76.35
C28: MTTR | E28: 24 | F28: 24 | G28: 24 | H28: 24 | I28: 24 | J28: 24 | K28: 4.08 | L28: 0 | M28: 4 | N28: 0 | O28: 0 | P28: 17 | Q28: 14 | R28: 0 | S28: 0 | T28: 0 | U28: 0 | V28: 0 | W28: 0 | X28: 1 | Y28: 0 | Z28: 0 | AA28: 0 | AB28: 0 | AC28: 0 | AD28: 0 | AE28: 0 | AF28: 7.25 | AJ28: 63.776667
B29: CAT-06 | C29: H.T | E29: 11.13 | F29: 11.13 | G29: 11.13 | H29: 5.9 | I29: 12.2 | J29: 3.5 | K29: 3.5 | L29: 0.74 | M29: 0.74 | N29: 0.74 | O29: 0.74 | P29: 0.74 | Q29: 0 | R29: 0 | S29: 0 | T29: 0 | U29: 0 | V29: 0 | W29: 0 | X29: 0.74 | Y29: 0.74 | Z29: 0.74 | AA29: 0.74 | AB29: 0.74 | AC29: 0.74 | AD29: 0.74 | AE29: 11.08 | AF29: 13.2 | AJ29: 91.65
C30: N°.I | E30: 0 | F30: 0 | G30: 1 | H30: 0 | I30: 0 | J30: 0 | K30: 0 | L30: 0 | M30: 0 | N30: 0 | O30: 0 | P30: 0 | Q30: 0 | R30: 0 | S30: 0 | T30: 0 | U30: 0 | V30: 0 | W30: 0 | X30: 0 | Y30: 0 | Z30: 0 | AA30: 0 | AB30: 0 | AC30: 0 | AD30: 0 | AE30: 0 | AF30: 0 | AJ30: 1
C31: DF | D31: % | E31: 100 | F31: 100 | G31: 91.666667 | H31: 96.208333 | I31: 100 | J31: 100 | K31: 29.166667 | L31: 83.333333 | M31: 100 | N31: 100 | O31: 100 | P31: 100 | Q31: 25 | R31: 0 | S31: 0 | T31: 0 | U31: 0 | V31: 0 | W31: 0 | X31: 50 | Y31: 50 | Z31: 50 | AA31: 50 | AB31: 50 | AC31: 50 | AD31: 45.833333 | AE31: 100 | AF31: 97.208333 | AJ31: 0.5958631
C32: UT | D32: % | E32: 46.375 | F32: 46.375 | G32: 50.590909 | H32: 25.552187 | I32: 50.833333 | J32: 14.583333 | K32: 50 | L32: 3.7 | M32: 3.0833333 | N32: 3.0833333 | O32: 3.0833333 | P32: 3.0833333 | Q32: 0 | R32: 0 | S32: 0 | T32: 0 | U32: 0 | V32: 0 | W32: 0 | X32: 6.1666667 | Y32: 6.1666667 | Z32: 6.1666667 | AA32: 6.1666667 | AB32: 6.1666667 | AC32: 6.1666667 | AD32: 6.7272727 | AE32: 46.166667 | AF32: 56.579511 | AJ32: 0.22888467
C33: MTBF | E33: 11.13 | F33: 11.13 | G33: 11.13 | H33: 5.9 | I33: 12.2 | J33: 3.5 | K33: 3.5 | L33: 0.74 | M33: 0.74 | N33: 0.74 | O33: 0.74 | P33: 0.74 | Q33: 0 | R33: 0 | S33: 0 | T33: 0 | U33: 0 | V33: 0 | W33: 0 | X33: 0.74 | Y33: 0.74 | Z33: 0.74 | AA33: 0.74 | AB33: 0.74 | AC33: 0.74 | AD33: 0.74 | AE33: 11.08 | AF33: 13.2 | AJ33: 91.65
C34: MTTR | E34: 0 | F34: 0 | G34: 2 | H34: 0 | I34: 0 | J34: 0 | K34: 0 | L34: 0 | M34: 0 | N34: 0 | O34: 0 | P34: 0 | Q34: 18 | R34: 24 | S34: 24 | T34: 24 | U34: 24 | V34: 24 | W34: 24 | X34: 0 | Y34: 0 | Z34: 0 | AA34: 0 | AB34: 0 | AC34: 0 | AD34: 1 | AE34: 0 | AF34: 0.67 | AJ34: 165.67
B35: ST-1030 | C35: H.T | E35: 6.7 | F35: 14.75 | G35: 14.75 | H35: 16 | I35: 12 | J35: 6.6 | K35: 6.6 | L35: 2.11 | M35: 2.11 | N35: 2.11 | O35: 2.11 | P35: 2.11 | Q35: 0 | R35: 0 | S35: 0 | T35: 0 | U35: 0 | V35: 0 | W35: 0 | X35: 2.11 | Y35: 2.11 | Z35: 2.11 | AA35: 2.11 | AB35: 2.11 | AC35: 2.11 | AD35: 2.11 | AE35: 14.77 | AF35: 10.5 | AJ35: 127.99
C36: N°.I | E36: 1 | F36: 0 | G36: 0 | H36: 0 | I36: 2 | J36: 0 | K36: 0 | L36: 0 | M36: 0 | N36: 0 | O36: 0 | P36: 0 | Q36: 0 | R36: 0 | S36: 0 | T36: 0 | U36: 0 | V36: 0 | W36: 0 | X36: 0 | Y36: 0 | Z36: 0 | AA36: 0 | AB36: 0 | AC36: 0 | AD36: 0 | AE36: 0 | AF36: 0 | AJ36: 3
C37: DF | D37: % | E37: 69.458333 | F37: 100 | G37: 100 | H37: 99.666667 | I37: 91.666667 | J37: 100 | K37: 100 | L37: 100 | M37: 100 | N37: 66.666667 | O37: 100 | P37: 100 | Q37: 66.666667 | R37: 0 | S37: 0 | T37: 0 | U37: 0 | V37: 0 | W37: 0 | X37: 50 | Y37: 50 | Z37: 50 | AA37: 50 | AB37: 50 | AC37: 50 | AD37: 50 | AE37: 50 | AF37: 100 | AJ37: 0.58650735
C38: UT | D38: % | E38: 40.191962 | F38: 61.458333 | G38: 61.458333 | H38: 66.889632 | I38: 54.545455 | J38: 27.5 | K38: 27.5 | L38: 8.7916667 | M38: 8.7916667 | N38: 13.1875 | O38: 8.7916667 | P38: 8.7916667 | Q38: 0 | R38: 0 | S38: 0 | T38: 0 | U38: 0 | V38: 0 | W38: 0 | X38: 17.583333 | Y38: 17.583333 | Z38: 17.583333 | AA38: 17.583333 | AB38: 17.583333 | AC38: 17.583333 | AD38: 17.583333 | AE38: 17.583333 | AF38: 43.75 | AJ38: 0.26743141
C39: MTBF | E39: 6.7 | F39: 14.75 | G39: 14.75 | H39: 16 | I39: 6 | J39: 6.6 | K39: 6.6 | L39: 2.11 | M39: 2.11 | N39: 2.11 | O39: 2.11 | P39: 2.11 | Q39: 0 | R39: 0 | S39: 0 | T39: 0 | U39: 0 | V39: 0 | W39: 0 | X39: 2.11 | Y39: 2.11 | Z39: 2.11 | AA39: 2.11 | AB39: 2.11 | AC39: 2.11 | AD39: 2.11 | AE39: 14.77 | AF39: 10.5 | AJ39: 42.663333
C40: MTTR | E40: 7.33 | F40: 0 | G40: 0 | H40: 0 | I40: 1 | J40: 0 | K40: 0 | L40: 0 | M40: 0 | N40: 0 | O40: 0 | P40: 0 | Q40: 8 | R40: 24 | S40: 24 | T40: 24 | U40: 24 | V40: 24 | W40: 24 | X40: 12 | Y40: 12 | Z40: 12 | AA40: 12 | AB40: 12 | AC40: 12 | AD40: 12 | AE40: 84 | AF40: 0 | AJ40: 109.77667
B41: ST-1030_2 | C41: H.T | E41: 7.38 | F41: 7.38 | G41: 7.38 | H41: 7.38 | I41: 6.7 | J41: 6.9 | K41: 6.9 | L41: 7.8 | M41: 7.3 | N41: 7.3 | O41: 7.3 | P41: 7.3 | Q41: 14.4 | R41: 15.5 | S41: 14.1 | T41: 15 | U41: 14 | V41: 7 | W41: 13.1 | X41: 14.6 | Y41: 13.8 | Z41: 14.1 | AA41: 3.4 | AB41: 12.2 | AC41: 11.15 | AD41: 6.15 | AE41: 75.4 | AF41: 0 | AJ41: 330.92
C42: N°.I | E42: 0 | F42: 0 | G42: 0 | H42: 0 | I42: 0 | J42: 0 | K42: 0 | L42: 0 | M42: 0 | N42: 0 | O42: 0 | P42: 0 | Q42: 0 | R42: 0 | S42: 0 | T42: 0 | U42: 0 | V42: 0 | W42: 0 | X42: 0 | Y42: 0 | Z42: 0 | AA42: 0 | AB42: 1 | AC42: 0 | AD42: 0 | AE42: 1 | AF42: 0 | AJ42: 2
C43: DF | D43: % | E43: 100 | F43: 100 | G43: 100 | H43: 100 | I43: 95.833333 | J43: 100 | K43: 100 | L43: 58.333333 | M43: 100 | N43: 100 | O43: 100 | P43: 100 | Q43: 100 | R43: 100 | S43: 100 | T43: 100 | U43: 100 | V43: 87.5 | W43: 100 | X43: 100 | Y43: 100 | Z43: 100 | AA43: 29.166667 | AB43: 90.958333 | AC43: 100 | AD43: 100 | AE43: 88.589286 | AF43: 45.833333 | AJ43: 0.91992647
C44: UT | D44: % | E44: 30.75 | F44: 30.75 | G44: 30.75 | H44: 30.75 | I44: 29.130435 | J44: 28.75 | K44: 28.75 | L44: 55.714286 | M44: 30.416667 | N44: 30.416667 | O44: 30.416667 | P44: 30.416667 | Q44: 60 | R44: 64.583333 | S44: 58.75 | T44: 62.5 | U44: 58.333333 | V44: 33.333333 | W44: 54.583333 | X44: 60.833333 | Y44: 57.5 | Z44: 58.75 | AA44: 48.571429 | AB44: 55.886395 | AC44: 46.458333 | AD44: 25.625 | AE44: 50.661829 | AF44: 0 | AJ44: 0.44083873
C45: MTBF | E45: 7.38 | F45: 7.38 | G45: 7.38 | H45: 7.38 | I45: 6.7 | J45: 6.9 | K45: 6.9 | L45: 7.8 | M45: 7.3 | N45: 7.3 | O45: 7.3 | P45: 7.3 | Q45: 14.4 | R45: 15.5 | S45: 14.1 | T45: 15 | U45: 14 | V45: 7 | W45: 13.1 | X45: 14.6 | Y45: 13.8 | Z45: 14.1 | AA45: 3.4 | AB45: 12.2 | AC45: 11.15 | AD45: 6.15 | AE45: 75.4 | AF45: 0 | AJ45: 165.46
C46: MTTR | E46: 0 | F46: 0 | G46: 0 | H46: 0 | I46: 0 | J46: 0 | K46: 0 | L46: 0 | M46: 0 | N46: 0 | O46: 0 | P46: 0 | Q46: 0 | R46: 0 | S46: 0 | T46: 0 | U46: 0 | V46: 3 | W46: 0 | X46: 0 | Y46: 0 | Z46: 0 | AA46: 0 | AB46: 0.67 | AC46: 0 | AD46: 0 | AE46: 0.67 | AF46: 13 | AJ46: 8.67
B47: SCOOPTRAMS - PRODUCCION | C47: DF | D47: % | E47: =AVERAGE(E7,E13,E19,E25,E31,E37,E43) -> 72.125 | F47: =AVERAGE(F7,F13,F19,F25,F31,F37,F43) -> 85.714286 | G47: =AVERAGE(G7,G13,G19,G25,G31,G37,G43) -> 74.404762 | H47: =AVERAGE(H7,H13,H19,H25,H31,H37,H43) -> 75.303571 | I47: =AVERAGE(I7,I13,I19,I25,I31,I37,I43) -> 78.571429 | J47: =AVERAGE(J7,J13,J19,J25,J31,J37,J43) -> 85.714286 | K47: =AVERAGE(K7,K13,K19,K25,K31,K37,K43) -> 87.452381 | L47: =AVERAGE(L7,L13,L19,L25,L31,L37,L43) -> 91.666667 | ... AF47: =AVERAGE(AF7,AF13,AF19,AF25,AF31,AF37,AF43) -> 85.464286 | AJ47: =AVERAGE(AJ7,AJ13,AJ19,AJ25,AJ31,AJ37,AJ43) -> 0.78086172
C48: UT | D48: % | E48: =AVERAGE(E8,E14,E20,E26,E32,E38,E44) -> 35.275819 | F48: =AVERAGE(F8,F14,F20,F26,F32,F38,F44) -> 41.660714 | G48: =AVERAGE(G8,G14,G20,G26,G32,G38,G44) -> 48.410946 | H48: =AVERAGE(H8,H14,H20,H26,H32,H38,H44) -> 33.569069 | I48: =AVERAGE(I8,I14,I20,I26,I32,I38,I44) -> 38.656079 | J48: =AVERAGE(J8,J14,J20,J26,J32,J38,J44) -> 26.029762 | K48: =AVERAGE(K8,K14,K20,K26,K32,K38,K44) -> 35.808161 | L48: =AVERAGE(L8,L14,L20,L26,L32,L38,L44) -> 40.952041 | ... AF48: =AVERAGE(AF8,AF14,AF20,AF26,AF32,AF38,AF44) -> 32.761775 | AJ48: =AVERAGE(AJ8,AJ14,AJ20,AJ26,AJ32,AJ38,AJ44) -> 0.41572874
C49: MTBF | E49: =AVERAGE(E9,E15,E21,E27,E33,E39,E45) -> 7.42 | F49: =AVERAGE(F9,F15,F21,F27,F33,F39,F45) -> 9.9985714 | G49: =AVERAGE(G9,G15,G21,G27,G33,G39,G45) -> 9.4271429 | H49: =AVERAGE(H9,H15,H21,H27,H33,H39,H45) -> 7.5757143 | I49: =AVERAGE(I9,I15,I21,I27,I33,I39,I45) -> 7.7642857 | J49: =AVERAGE(J9,J15,J21,J27,J33,J39,J45) -> 6.2471429 | K49: =AVERAGE(K9,K15,K21,K27,K33,K39,K45) -> 7.1871429 | L49: =AVERAGE(L9,L15,L21,L27,L33,L39,L45) -> 9.0114286 | ... AF49: =AVERAGE(AF9,AF15,AF21,AF27,AF33,AF39,AF45) -> 7.0142857 | AJ49: =AVERAGE(AJ9,AJ15,AJ21,AJ27,AJ33,AJ39,AJ45) -> 74.212738
C50: MTTR | E50: =AVERAGE(E10,E16,E22,E28,E34,E40,E46) -> 4.5471429 | F50: =AVERAGE(F10,F16,F22,F28,F34,F40,F46) -> 3.4285714 | G50: =AVERAGE(G10,G16,G22,G28,G34,G40,G46) -> 3.7142857 | H50: =AVERAGE(H10,H16,H22,H28,H34,H40,H46) -> 3.4285714 | I50: =AVERAGE(I10,I16,I22,I28,I34,I40,I46) -> 3.5714286 | J50: =AVERAGE(J10,J16,J22,J28,J34,J40,J46) -> 3.4285714 | K50: =AVERAGE(K10,K16,K22,K28,K34,K40,K46) -> 0.58285714 | L50: =AVERAGE(L10,L16,L22,L28,L34,L40,L46) -> 0 | ... AF50: =AVERAGE(AF10,AF16,AF22,AF28,AF34,AF40,AF46) -> 3.4885714 | AJ50: =AVERAGE(AJ10,AJ16,AJ22,AJ28,AJ34,AJ40,AJ46) -> 51.767302
B51: ST - 1000 | C51: H.T | E51: 6 | F51: 1.5 | G51: 1.5 | H51: 3 | I51: 0 | J51: 0 | K51: 3.05 | L51: 3.05 | M51: 3.05 | N51: 3.05 | O51: 3.05 | P51: 3.05 | Q51: 3.05 | R51: 3.33 | S51: 3.33 | T51: 3.33 | U51: 3.33 | V51: 3.33 | W51: 3.33 | X51: 0 | Y51: 3.33 | Z51: 3.33 | AA51: 3.33 | AB51: 3.33 | AC51: 3.33 | AD51: 3.33 | AE51: 0 | AF51: 0 | AJ51: 73.31
C52: N°.I | E52: 0 | F52: 0 | G52: 0 | H52: 0 | I52: 0 | J52: 0 | K52: 0 | L52: 0 | M52: 0 | N52: 0 | O52: 0 | P52: 0 | Q52: 0 | R52: 0 | S52: 0 | T52: 0 | U52: 0 | V52: 0 | W52: 0 | X52: 0 | Y52: 0 | Z52: 0 | AA52: 0 | AB52: 0 | AC52: 0 | AD52: 0 | AE52: 0 | AF52: 0 | AJ52: 0
C53: DF | D53: % | E53: 100 | F53: 100 | G53: 100 | H53: 100 | I53: 100 | J53: 100 | K53: 100 | L53: 75 | M53: 100 | N53: 100 | O53: 100 | P53: 100 | Q53: 100 | R53: 100 | S53: 100 | T53: 100 | U53: 100 | V53: 100 | W53: 100 | X53: 100 | Y53: 100 | Z53: 100 | AA53: 100 | AB53: 100 | AC53: 100 | AD53: 100 | AE53: 100 | AF53: 100 | AJ53: 0.99166667
C54: UT | D54: % | E54: 25 | F54: 6.25 | G54: 6.25 | H54: 12.5 | I54: 0 | J54: 0 | K54: 12.708333 | L54: 16.944444 | M54: 12.708333 | N54: 12.708333 | O54: 12.708333 | P54: 12.708333 | Q54: 12.708333 | R54: 13.875 | S54: 13.875 | T54: 13.875 | U54: 13.875 | V54: 13.875 | W54: 13.875 | X54: 0 | Y54: 13.875 | Z54: 13.875 | AA54: 13.875 | AB54: 13.875 | AC54: 13.875 | AD54: 13.875 | AE54: 0 | AF54: 0 | AJ54: 0.10267507
C55: MTBF | E55: 6 | F55: 1.5 | G55: 1.5 | H55: 3 | I55: 0 | J55: 0 | K55: 3.05 | L55: 3.05 | M55: 3.05 | N55: 3.05 | O55: 3.05 | P55: 3.05 | Q55: 3.05 | R55: 3.33 | S55: 3.33 | T55: 3.33 | U55: 3.33 | V55: 3.33 | W55: 3.33 | X55: 0 | Y55: 3.33 | Z55: 3.33 | AA55: 3.33 | AB55: 3.33 | AC55: 3.33 | AD55: 3.33 | AE55: 0 | AF55: 0 | AJ55: 73.31
C56: MTTR | E56: 0 | F56: 0 | G56: 0 | H56: 0 | I56: 0 | J56: 0 | K56: 0 | L56: 0 | M56: 0 | N56: 0 | O56: 0 | P56: 0 | Q56: 0 | R56: 0 | S56: 0 | T56: 0 | U56: 0 | V56: 0 | W56: 0 | X56: 0 | Y56: 0 | Z56: 0 | AA56: 0 | AB56: 0 | AC56: 0 | AD56: 0 | AE56: 0 | AF56: 0 | AJ56: 0
B57: ST - 39 | C57: H.T | E57: 4.67 | F57: 4.67 | G57: 4.67 | H57: 4.67 | I57: 4.67 | J57: 4.67 | K57: 4.67 | L57: 6 | M57: 11 | N57: 4.29 | O57: 4.29 | P57: 4.29 | Q57: 0 | R57: 0 | S57: 0 | T57: 0 | U57: 0 | V57: 0 | W57: 0 | X57: 4.29 | Y57: 4.29 | Z57: 4.29 | AA57: 4.29 | AB57: 4.29 | AC57: 4.29 | AD57: 4.29 | AE57: 30.03 | AF57: 0 | AJ57: 122.62
C58: N°.I | E58: 0 | F58: 1 | G58: 0 | H58: 0 | I58: 0 | J58: 1 | K58: 0 | L58: 0 | M58: 1 | N58: 1 | O58: 0 | P58: 0 | Q58: 0 | R58: 0 | S58: 0 | T58: 0 | U58: 0 | V58: 1 | W58: 0 | X58: 0 | Y58: 0 | Z58: 0 | AA58: 0 | AB58: 0 | AC58: 0 | AD58: 0 | AE58: 0 | AF58: 0 | AJ58: 5
C59: DF | D59: % | E59: 100 | F59: 91.666667 | G59: 100 | H59: 100 | I59: 100 | J59: 95.833333 | K59: 100 | L59: 100 | M59: 85.416667 | N59: 95.833333 | O59: 100 | P59: 100 | Q59: 100 | R59: 100 | S59: 100 | T59: 100 | U59: 100 | V59: 97.916667 | W59: 100 | X59: 87.5 | Y59: 100 | Z59: 70.833333 | AA59: 100 | AB59: 100 | AC59: 100 | AD59: 93.75 | AE59: 93.154762 | AF59: 60.416667 | AJ59: 0.95036765
C60: UT | D60: % | E60: 19.458333 | F60: 21.227273 | G60: 19.458333 | H60: 19.458333 | I60: 19.458333 | J60: 20.304348 | K60: 19.458333 | L60: 25 | M60: 53.658537 | N60: 18.652174 | O60: 17.875 | P60: 17.875 | Q60: 0 | R60: 0 | S60: 0 | T60: 0 | U60: 0 | V60: 0 | W60: 0 | X60: 20.428571 | Y60: 17.875 | Z60: 25.235294 | AA60: 17.875 | AB60: 17.875 | AC60: 17.875 | AD60: 19.066667 | AE60: 19.188498 | AF60: 0 | AJ60: 0.15811734
C61: MTBF | E61: 4.67 | F61: 4.67 | G61: 4.67 | H61: 4.67 | I61: 4.67 | J61: 4.67 | K61: 4.67 | L61: 6 | M61: 11 | N61: 4.29 | O61: 4.29 | P61: 4.29 | Q61: 0 | R61: 0 | S61: 0 | T61: 0 | U61: 0 | V61: 0 | W61: 0 | X61: 4.29 | Y61: 4.29 | Z61: 4.29 | AA61: 4.29 | AB61: 4.29 | AC61: 4.29 | AD61: 4.29 | AE61: 30.03 | AF61: 0 | AJ61: 24.524
C62: MTTR | E62: 0 | F62: 2 | G62: 0 | H62: 0 | I62: 0 | J62: 1 | K62: 0 | L62: 0 | M62: 3.5 | N62: 1 | O62: 0 | P62: 0 | Q62: 0 | R62: 0 | S62: 0 | T62: 0 | U62: 0 | V62: 0.5 | W62: 0 | X62: 3 | Y62: 0 | Z62: 0 | AA62: 0 | AB62: 0 | AC62: 0 | AD62: 1.5 | AE62: 4.5 | AF62: 9.5 | AJ62: 5.3
B63: SCOOPTRAMS - SERVICIOS | C63: DF | D63: % | E63: =AVERAGE(E53,E59) -> 100 | F63: =AVERAGE(F53,F59) -> 95.833333 | G63: =AVERAGE(G53,G59) -> 100 | H63: =AVERAGE(H53,H59) -> 100 | I63: =AVERAGE(I53,I59) -> 100 | J63: =AVERAGE(J53,J59) -> 97.916667 | K63: =AVERAGE(K53,K59) -> 100 | L63: =AVERAGE(L53,L59) -> 87.5 | ... AF63: =AVERAGE(AF53,AF59) -> 80.208333 | AJ63: =AVERAGE(AJ59) -> 0.95036765
C64: UT | D64: % | E64: =AVERAGE(E54,E60) -> 22.229167 | F64: =AVERAGE(F54,F60) -> 13.738636 | G64: =AVERAGE(G54,G60) -> 12.854167 | H64: =AVERAGE(H54,H60) -> 15.979167 | I64: =AVERAGE(I54,I60) -> 9.7291667 | J64: =AVERAGE(J54,J60) -> 10.152174 | K64: =AVERAGE(K54,K60) -> 16.083333 | L64: =AVERAGE(L54,L60) -> 20.972222 | ... AF64: =AVERAGE(AF54,AF60) -> 0 | AJ64: =AVERAGE(AJ60) -> 0.15811734
C65: MTBF | E65: =AVERAGE(E55,E61) -> 5.335 | F65: =AVERAGE(F55,F61) -> 3.085 | G65: =AVERAGE(G55,G61) -> 3.085 | H65: =AVERAGE(H55,H61) -> 3.835 | I65: =AVERAGE(I55,I61) -> 2.335 | J65: =AVERAGE(J55,J61) -> 2.335 | K65: =AVERAGE(K55,K61) -> 3.86 | L65: =AVERAGE(L55,L61) -> 4.525 | ... AF65: =AVERAGE(AF55,AF61) -> 0 | AJ65: =AVERAGE(AJ61) -> 24.524
C66: MTTR | E66: =AVERAGE(E56,E62) -> 0 | F66: =AVERAGE(F56,F62) -> 1 | G66: =AVERAGE(G56,G62) -> 0 | H66: =AVERAGE(H56,H62) -> 0 | I66: =AVERAGE(I56,I62) -> 0 | J66: =AVERAGE(J56,J62) -> 0.5 | K66: =AVERAGE(K56,K62) -> 0 | L66: =AVERAGE(L56,L62) -> 0 | ... AF66: =AVERAGE(AF56,AF62) -> 4.75 | AJ66: =AVERAGE(AJ62) -> 5.3
B67: BOOMER | C67: H.T | E67: 1.18 | F67: 1.18 | G67: 1.18 | H67: 1.18 | I67: 1.18 | J67: 1.18 | K67: 1.18 | L67: 1.18 | M67: 1.18 | N67: 1.18 | O67: 1.18 | P67: 3.59 | Q67: 5.14 | R67: 3.38 | S67: 2.81 | T67: 7.03 | U67: 3.96 | V67: 3.96 | W67: 3.96 | X67: 5.12 | Y67: 3.24 | Z67: 6.5 | AA67: 13.22 | AB67: 8.09 | AC67: 5.47 | AD67: 5.47 | AE67: 1.6322581 | AF67: 3.0992308 | AJ67: 32.091611
C68: N°.I | E68: 0 | F68: 0 | G68: 0 | H68: 0 | I68: 0 | J68: 0 | K68: 0 | L68: 0 | M68: 0 | N68: 0 | O68: 0 | P68: 1 | Q68: 0 | R68: 0 | S68: 0 | T68: 0 | U68: 0 | V68: 0 | W68: 1 | X68: 1 | Y68: 0 | Z68: 0 | AA68: 2 | AB68: 1 | AC68: 0 | AD68: 0 | AE68: 0 | AF68: 0 | AJ68: 6
C69: DF | D69: % | E69: 100 | F69: 100 | G69: 100 | H69: 29.166667 | I69: 83.333333 | J69: 100 | K69: 100 | L69: 100 | M69: 100 | N69: 100 | O69: 100 | P69: 97.208333 | Q69: 100 | R69: 85.416667 | S69: 100 | T69: 100 | U69: 100 | V69: 100 | W69: 95.833333 | X69: 94.458333 | Y69: 100 | Z69: 100 | AA69: 89.583333 | AB69: 93.75 | AC69: 100 | AD69: 100 | AE69: 100 | AF69: 100 | AJ69: 0.953125
C70: UT | D70: % | E70: 4.9166667 | F70: 4.9166667 | G70: 4.9166667 | H70: 16.857143 | I70: 5.9 | J70: 4.9166667 | K70: 4.9166667 | L70: 4.9166667 | M70: 4.9166667 | N70: 4.9166667 | O70: 4.9166667 | P70: 15.387913 | Q70: 21.416667 | R70: 16.487805 | S70: 11.708333 | T70: 29.291667 | U70: 16.5 | V70: 16.5 | W70: 17.217391 | X70: 22.584914 | Y70: 13.5 | Z70: 27.083333 | AA70: 61.488372 | AB70: 35.955556 | AC70: 22.791667 | AD70: 22.791667 | AE70: 6.8010753 | AF70: 12.913462 | AJ70: 0.050103999
C71: MTBF | E71: 1.18 | F71: 1.18 | G71: 1.18 | H71: 1.18 | I71: 1.18 | J71: 1.18 | K71: 1.18 | L71: 1.18 | M71: 1.18 | N71: 1.18 | O71: 1.18 | P71: 3.59 | Q71: 5.14 | R71: 3.38 | S71: 2.81 | T71: 7.03 | U71: 3.96 | V71: 3.96 | W71: 3.96 | X71: 5.12 | Y71: 3.24 | Z71: 6.5 | AA71: 6.61 | AB71: 8.09 | AC71: 5.47 | AD71: 5.47 | AE71: 1.6322581 | AF71: 3.0992308 | AJ71: 5.3486019
C72: MTTR | E72: 0 | F72: 0 | G72: 0 | H72: 0 | I72: 0 | J72: 0 | K72: 0 | L72: 0 | M72: 0 | N72: 0 | O72: 0 | P72: 0.67 | Q72: 0 | R72: 3.5 | S72: 0 | T72: 0 | U72: 0 | V72: 0 | W72: 1 | X72: 1.33 | Y72: 0 | Z72: 0 | AA72: 1.25 | AB72: 1.5 | AC72: 0 | AD72: 0 | AE72: 0 | AF72: 0 | AJ72: 1.75
B73: TAMROCK-12 | C73: H.T | E73: 17.7 | F73: 13.58 | G73: 13.58 | H73: 6.25 | I73: 13.6 | J73: 7.67 | K73: 7.67 | L73: 5.36 | M73: 14.95 | N73: 6.3 | O73: 2.3 | P73: 3.8 | Q73: 2.2321512 | R73: 0 | S73: 2.2321512 | T73: 0.78571429 | U73: 0.78571429 | V73: 0 | W73: 3 | X73: 4.3 | Y73: 12.2 | Z73: 5.45 | AA73: 5.45 | AB73: 9.5 | AC73: 7.75 | AD73: 7.75 | AE73: 2.7286707 | AF73: 2.8923204 | AJ73: 31.640985
C74: N°.I | E74: 1 | F74: 2 | G74: 0 | H74: 0 | I74: 1 | J74: 0 | K74: 0 | L74: 3 | M74: 1 | N74: 2 | O74: 0 | P74: 0 | Q74: 1 | R74: 0 | S74: 0 | T74: 0 | U74: 0 | V74: 2 | W74: 0 | X74: 1 | Y74: 0 | Z74: 1 | AA74: 0 | AB74: 0 | AC74: 0 | AD74: 0 | AE74: 0 | AF74: 0 | AJ74: 15
C75: DF | D75: % | E75: 95.5 | F75: 87.5 | G75: 100 | H75: 100 | I75: 95.833333 | J75: 100 | K75: 100 | L75: 88.875 | M75: 75 | N75: 62.5 | O75: 100 | P75: 100 | Q75: 87.5 | R75: 100 | S75: 100 | T75: 100 | U75: 100 | V75: 91.666667 | W75: 100 | X75: 47.916667 | Y75: 93.75 | Z75: 96.875 | AA75: 100 | AB75: 100 | AC75: 100 | AD75: 95.833333 | AE75: 0 | AF75: 0 | AJ75: 0.86383929
C76: UT | D76: % | E76: 77.225131 | F76: 64.666667 | G76: 56.583333 | H76: 26.041667 | I76: 59.130435 | J76: 31.958333 | K76: 31.958333 | L76: 25.128926 | M76: 83.055556 | N76: 42 | O76: 9.5833333 | P76: 15.833333 | Q76: 10.629291 | R76: 0 | S76: 9.3006298 | T76: 3.2738095 | U76: 3.2738095 | V76: 0 | W76: 12.5 | X76: 37.391304 | Y76: 54.222222 | Z76: 23.44086 | AA76: 22.708333 | AB76: 39.583333 | AC76: 32.291667 | AD76: 33.695652 | AE76: #DIV/0! | AF76: #DIV/0! | AJ76: 0.054506434
C77: MTBF | E77: 17.7 | F77: 6.79 | G77: 13.58 | H77: 6.25 | I77: 13.6 | J77: 7.67 | K77: 7.67 | L77: 1.7866667 | M77: 14.95 | N77: 3.15 | O77: 2.3 | P77: 3.8 | Q77: 2.2321512 | R77: 0 | S77: 2.2321512 | T77: 0.78571429 | U77: 0.78571429 | V77: 0 | W77: 3 | X77: 4.3 | Y77: 12.2 | Z77: 5.45 | AA77: 5.45 | AB77: 9.5 | AC77: 7.75 | AD77: 7.75 | AE77: 2.7286707 | AF77: 2.8923204 | AJ77: 2.109399
C78: MTTR | E78: 1 | F78: 1.5 | G78: 0 | H78: 0 | I78: 1 | J78: 0 | K78: 0 | L78: 0.89 | M78: 6 | N78: 4.5 | O78: 0 | P78: 0 | Q78: 3 | R78: 0 | S78: 0 | T78: 0 | U78: 0 | V78: 1 | W78: 0 | X78: 4.5 | Y78: 1.5 | Z78: 0.75 | AA78: 0 | AB78: 0 | AC78: 0 | AD78: 1 | AE78: 24 | AF78: 24 | AJ78: 5.5613333
B79: FURUKAWA-01 | C79: H.T | E79: 3.7 | F79: 3.7 | G79: 3.7 | H79: 2.4 | I79: 5.58 | J79: 2.9 | K79: 2.9 | L79: 2.8 | M79: 3.43 | N79: 3.43 | O79: 3.43 | P79: 3.43 | Q79: 1.2854406 | R79: 1.2731719 | S79: 1.067287 | T79: 0.93836626 | U79: 0.99749373 | V79: 0.92016969 | W79: 1.1649269 | X79: 2.17 | Y79: 4.65 | Z79: 0.73 | AA79: 1.8 | AB79: 1.07 | AC79: 0 | AD79: 0 | AE79: 2.2321529 | AF79: 1.9061185 | AJ79: 35.394188
C80: N°.I | E80: 0 | F80: 0 | G80: 0 | H80: 0 | I80: 2 | J80: 1 | K80: 0 | L80: 0 | M80: 1 | N80: 1 | O80: 1 | P80: 1 | Q80: 1 | R80: 2 | S80: 1 | T80: 0 | U80: 0 | V80: 0 | W80: 0 | X80: 1 | Y80: 0 | Z80: 0 | AA80: 0 | AB80: 2 | AC80: 1 | AD80: 0 | AE80: 1 | AF80: 0 | AJ80: 16
C81: DF | D81: % | E81: 100 | F81: 100 | G81: 100 | H81: 100 | I81: 83.333333 | J81: 95.833333 | K81: 100 | L81: 100 | M81: 89.583333 | N81: 95.833333 | O81: 83.333333 | P81: 95.833333 | Q81: 92.708333 | R81: 89.583333 | S81: 95.833333 | T81: 100 | U81: 29.166667 | V81: 100 | W81: 100 | X81: 97.208333 | Y81: 100 | Z81: 100 | AA81: 100 | AB81: 87.5 | AC81: 97.916667 | AD81: 100 | AE81: 89.583333 | AF81: 98.958333 | AJ81: 0.93650298
C82: UT | D82: % | E82: 15.416667 | F82: 15.416667 | G82: 15.416667 | H82: 10 | I82: 27.9 | J82: 12.608696 | K82: 12.083333 | L82: 11.666667 | M82: 15.953488 | N82: 14.913043 | O82: 17.15 | P82: 14.913043 | Q82: 5.7772612 | R82: 5.9217296 | S82: 4.6403785 | T82: 3.9098594 | U82: 14.24991 | V82: 3.8340404 | W82: 4.8538622 | X82: 9.3013288 | Y82: 19.375 | Z82: 3.0416667 | AA82: 7.5 | AB82: 5.0952381 | AC82: 0 | AD82: 0 | AE82: 10.382106 | AF82: 8.025762 | AJ82: 0.056241063
C83: MTBF | E83: 3.7 | F83: 3.7 | G83: 3.7 | H83: 2.4 | I83: 2.79 | J83: 2.9 | K83: 2.9 | L83: 2.8 | M83: 3.43 | N83: 3.43 | O83: 3.43 | P83: 3.43 | Q83: 1.2854406 | R83: 0.63658593 | S83: 1.067287 | T83: 0.93836626 | U83: 0.99749373 | V83: 0.92016969 | W83: 1.1649269 | X83: 2.17 | Y83: 4.65 | Z83: 0.73 | AA83: 1.8 | AB83: 0.535 | AC83: 0 | AD83: 0 | AE83: 2.2321529 | AF83: 1.9061185 | AJ83: 2.2121368
C84: MTTR | E84: 0 | F84: 0 | G84: 0 | H84: 0 | I84: 2 | J84: 1 | K84: 0 | L84: 0 | M84: 2.5 | N84: 1 | O84: 4 | P84: 1 | Q84: 1.75 | R84: 1.25 | S84: 1 | T84: 0 | U84: 0 | V84: 0 | W84: 0 | X84: 0.67 | Y84: 0 | Z84: 0 | AA84: 0 | AB84: 1.5 | AC84: 0.5 | AD84: 0 | AE84: 2.5 | AF84: 0.25 | AJ84: 1.604375
B85: FURUKAWA-02 | C85: H.T | E85: 7.52 | F85: 2.79 | G85: 2.79 | H85: 2.95 | I85: 1.4 | J85: 4.76 | K85: 4.76 | L85: 1.82 | M85: 1.82 | N85: 5.25 | O85: 5.25 | P85: 5.87 | Q85: 2.565812 | R85: 2.7421488 | S85: 3.6923077 | T85: 2.3505155 | U85: 1.3989583 | V85: 2.2982833 | W85: 2.2982833 | X85: 5.88 | Y85: 4.17 | Z85: 7.8 | AA85: 8.4 | AB85: 11.25 | AC85: 6.83 | AD85: 6.83 | AE85: 0 | AF85: 0 | AJ85: 35.512195
C86: N°.I | E86: 0 | F86: 1 | G86: 0 | H86: 0 | I86: 1 | J86: 0 | K86: 0 | L86: 0 | M86: 0 | N86: 1 | O86: 1 | P86: 0 | Q86: 0 | R86: 0 | S86: 2 | T86: 0 | U86: 1 | V86: 0 | W86: 0 | X86: 0 | Y86: 0 | Z86: 1 | AA86: 0 | AB86: 0 | AC86: 0 | AD86: 0 | AE86: 0 | AF86: 0 | AJ86: 8
C87: DF | D87: % | E87: 100 | F87: 81.583333 | G87: 100 | H87: 100 | I87: 95.833333 | J87: 100 | K87: 100 | L87: 100 | M87: 100 | N87: 94.458333 | O87: 97.916667 | P87: 100 | Q87: 50 | R87: 50 | S87: 39.583333 | T87: 50 | U87: 47.291667 | V87: 50 | W87: 50 | X87: 50 | Y87: 50 | Z87: 47.916667 | AA87: 50 | AB87: 50 | AC87: 50 | AD87: 50 | AE87: 0 | AF87: 0 | AJ87: 0.66235119
C88: UT | D88: % | E88: 31.333333 | F88: 14.249234 | G88: 11.625 | H88: 12.291667 | I88: 6.0869565 | J88: 19.833333 | K88: 19.833333 | L88: 7.5833333 | M88: 7.5833333 | N88: 23.158359 | O88: 22.340426 | P88: 24.458333 | Q88: 21.381766 | R88: 22.85124 | S88: 38.866397 | T88: 19.587629 | U88: 12.325624 | V88: 19.152361 | W88: 19.152361 | X88: 49 | Y88: 34.75 | Z88: 67.826087 | AA88: 70 | AB88: 93.75 | AC88: 56.916667 | AD88: 56.916667 | AE88: 0 | AF88: 0 | AJ88: 0.079784757
C89: MTBF | E89: 7.52 | F89: 2.79 | G89: 2.79 | H89: 2.95 | I89: 1.4 | J89: 4.76 | K89: 4.76 | L89: 1.82 | M89: 1.82 | N89: 5.25 | O89: 5.25 | P89: 5.87 | Q89: 2.565812 | R89: 2.7421488 | S89: 1.8461538 | T89: 2.3505155 | U89: 1.3989583 | V89: 2.2982833 | W89: 2.2982833 | X89: 5.88 | Y89: 4.17 | Z89: 7.8 | AA89: 8.4 | AB89: 11.25 | AC89: 6.83 | AD89: 6.83 | AE89: 0 | AF89: 0 | AJ89: 4.4390244
C90: MTTR | E90: 0 | F90: 4.42 | G90: 0 | H90: 0 | I90: 1 | J90: 0 | K90: 0 | L90: 0 | M90: 0 | N90: 1.33 | O90: 0.5 | P90: 0 | Q90: 0 | R90: 0 | S90: 1.25 | T90: 0 | U90: 0.67 | V90: 0 | W90: 0 | X90: 12 | Y90: 12 | Z90: 12.5 | AA90: 12 | AB90: 12 | AC90: 12 | AD90: 12 | AE90: 24 | AF90: 24 | AJ90: 17.865
B91: JUMBOS PRODUCCION | C91: DF | D91: % | E91: =AVERAGE(E69,E75,E81,E87) -> 98.875 | F91: =AVERAGE(F69,F75,F81,F87) -> 92.270833 | G91: =AVERAGE(G69,G75,G81,G87) -> 100 | H91: =AVERAGE(H69,H75,H81,H87) -> 82.291667 | I91: =AVERAGE(I69,I75,I81,I87) -> 89.583333 | J91: =AVERAGE(J69,J75,J81,J87) -> 98.958333 | K91: =AVERAGE(K69,K75,K81,K87) -> 100 | L91: =AVERAGE(L69,L75,L81,L87) -> 97.21875 | ... AF91: =AVERAGE(AF69,AF75,AF81,AF87) -> 49.739583 | AJ91: =AVERAGE(AJ69,AJ75,AJ81,AJ87) -> 0.85395461
C92: UT | D92: % | E92: =AVERAGE(E70,E76,E82,E88) -> 32.222949 | F92: =AVERAGE(F70,F76,F82,F88) -> 24.812308 | G92: =AVERAGE(G70,G76,G82,G88) -> 22.135417 | H92: =AVERAGE(H70,H76,H82,H88) -> 16.297619 | I92: =AVERAGE(I70,I76,I82,I88) -> 24.754348 | J92: =AVERAGE(J70,J76,J82,J88) -> 17.329257 | K92: =AVERAGE(K70,K76,K82,K88) -> 17.197917 | L92: =AVERAGE(L70,L76,L82,L88) -> 12.323898 | ... AF92: =AVERAGE(AF70,AF76,AF82,AF88) -> #DIV/0! | AJ92: =AVERAGE(AJ70,AJ76,AJ82,AJ88) -> 0.060159063
C93: MTBF | E93: =AVERAGE(E71,E77,E83,E89) -> 7.525 | F93: =AVERAGE(F71,F77,F83,F89) -> 3.615 | G93: =AVERAGE(G71,G77,G83,G89) -> 5.3125 | H93: =AVERAGE(H71,H77,H83,H89) -> 3.195 | I93: =AVERAGE(I71,I77,I83,I89) -> 4.7425 | J93: =AVERAGE(J71,J77,J83,J89) -> 4.1275 | K93: =AVERAGE(K71,K77,K83,K89) -> 4.1275 | L93: =AVERAGE(L71,L77,L83,L89) -> 1.8966667 | ... AF93: =AVERAGE(AF71,AF77,AF83,AF89) -> 1.9744174 | AJ93: =AVERAGE(AJ71,AJ77,AJ83,AJ89) -> 3.5272905
C94: MTTR | E94: =AVERAGE(E90,E84,E78,E72) -> 0.25 | F94: =AVERAGE(F90,F84,F78,F72) -> 1.48 | G94: =AVERAGE(G90,G84,G78,G72) -> 0 | H94: =AVERAGE(H90,H84,H78,H72) -> 0 | I94: =AVERAGE(I90,I84,I78,I72) -> 1 | J94: =AVERAGE(J90,J84,J78,J72) -> 0.25 | K94: =AVERAGE(K90,K84,K78,K72) -> 0 | L94: =AVERAGE(L90,L84,L78,L72) -> 0.2225 | ... AF94: =AVERAGE(AF90,AF84,AF78,AF72) -> 12.0625 | AJ94: =AVERAGE(AJ90,AJ84,AJ78,AJ72) -> 6.6951771
B95: ROBOLT-01 | C95: H.T
C96: N°.I
C97: DF | D97: %
C98: UT | D98: %
C99: MTBF
C100: MTTR
B101: ROBOLT-02 | C101: H.T | E101: 9.67 | F101: 3.75 | G101: 3.75 | H101: 1.5 | I101: 1.5 | J101: 2.35 | K101: 2.35 | L101: 4.41 | M101: 2.93 | N101: 2.93 | O101: 2.93 | P101: 2.93 | Q101: 0.6 | R101: 1.2 | S101: 1.1 | T101: 2.4 | U101: 1.6 | V101: 1.2 | W101: 2.3 | X101: 8.71 | Y101: 0.1 | Z101: 9.37 | AA101: 9.3 | AB101: 9.3 | AC101: 3.54 | AD101: 3.54 | AE101: 0 | AF101: 0 | AJ101: 25.298638
...

Sheet D%_SEM
C2: PROMEDIOS GENERALES EQUIPOS PRODUCCION DE MTBF / MTTR SEM 30 | G2: 1 | H2: 2 | I2: 3 | J2: 4 | K2: 5 | L2: 6 | M2: 7 | N2: 8 | O2: 9 | P2: 1 | Q2: 2 | R2: 3 | S2: 4 | T2: 5 | U2: 6 | V2: 7 | W2: 8 | X2: 9 | Y2: 10 | Z2: 11 | AA2: 12
C3: PROMEDIOS GENERALES EQUIPOS PRODUCCION DE MTBF / MTTR SEM 30
B4: =C3 -> PROMEDIOS GENERALES EQUIPOS PRODUCCION DE MTBF / MTTR SEM 30 | IG4: PROMEDIOS GENERALES DE MTBF / MTTR SEM 30 | IW4: ANUAL - 2020
B5: TIPO | C5: KPI | D5: UM | E5: PROM 2017 | F5: OBI. | G5: ABRIL | H5: MAYO | I5: JUNIO | J5: JULIO | K5: AGOSTO | L5: SETIEMBRE | M5: OCTUBRE | N5: NOVIEMBRE | O5: DICIEMBRE | P5: ENE | Q5: FEB | R5: MAR | S5: ABR | T5: MAY | U5: JUN | V5: JUL | W5: AGO | X5: SEP | Y5: OCT | Z5: NOV | AA5: DIC | AB5: PROM 2018 | AC5: ENE | AD5: FEB | AE5: MAR | AF5: ABR | AG5: MAY | AH5: JUN | AI5: JUL | AJ5: AGO | AK5: SEP | AL5: OCT | AM5: NOV | AN5: DIC | AO5: SEP | AP5: OCT | AQ5: NOV | AR5: DIC | AS5: PROM 2023 | AT5: SEM 01 | AU5: FEB | AV5: MAR | AW5: JUL | AX5: AGO | AY5: SEP | AZ5: OCT | BA5: NOV | BB5: DIC | BC5: SEM 02 | BD5: SEM 03 | BE5: SEM 04 | BF5: SEM 05 | BG5: SEM 06 | BH5: SEM 07 | BI5: SEM 08 | BJ5: SEM 09 | BK5: SEM 10 | BL5: SEM 11 | BM5: SEM 17 | BN5: SEM 18 | BO5: SEM 19 | BP5: SEM 20 | BQ5: SEM 21 | BR5: SEM 22 | BS5: SEM 23 | BT5: SEM 24 | BU5: SEM 25 | BV5: SEM 26 | BW5: SEM 27 | BX5: SEM 28 | BY5: SEM 29 | BZ5: SEM 30 | CA5: SEM 31 | CB5: SEM 32 | CC5: SEM 33 | CD5: SEM 34 | CE5: SEM 35 | CF5: SEM 36 | CG5: SEM 37 | CH5: SEM 38 | CI5: SEM 39 | CJ5: SEM 40 | CK5: SEM 41 | CL5: SEM 42 | CM5: SEM 43 | CN5: SEM 44 | CO5: SEM 45 | CP5: SEM 46 | CQ5: SEM 47 | CR5: SEM 48 | CS5: SEM 49 | CT5: SEM 50 | CU5: SEM 51 | CV5: SEM 52 | CW5: SEM 01 | CX5: SEM 02 | CY5: SEM 03 | CZ5: SEM 04 | DA5: SEM 05 | DB5: SEM 06 | DC5: SEM 07 | DD5: SEM 08 | DE5: SEM 09 | DF5: SEM 10 | DG5: SEM 11 | DH5: SEM 12 | DI5: SEM 13 | DJ5: SEM 14 | DK5: SEM 15 | DL5: SEM 16 | DM5: SEM 17 | DN5: SEM 18 | DO5: SEM 19 | DP5: SEM 20 | DQ5: SEM 21 | DR5: SEM 22 | DS5: SEM 23 | DT5: SEM 24 | DU5: SEM 25 | DV5: SEM 26 | DW5: SEM 27 | DX5: SEM 28 | DY5: SEM 29 | DZ5: SEM 30 | EA5: SEM 31 | EB5: SEM 32 | EC5: SEM 33 | ED5: SEM 34 | EE5: SEM 35 | EF5: SEM 36 | EG5: SEM 37 | EH5: SEM 38 | EI5: SEM 39 | EJ5: SEM 40 | EK5: SEM 41 | EL5: SEM 42 | EM5: SEM 43 | EN5: SEM 44 | EO5: SEM 45 | EP5: SEM 46 | EQ5: SEM 47 | ER5: SEM 48 | ES5: SEM 49 | ET5: SEM 50 | EU5: SEM 51 | EV5: SEM 52 | EW5: SEM 01 | EX5: SEM 02 | EY5: SEM 03 | EZ5: SEM 04 | FA5: SEM 05 | FB5: SEM 06 | FC5: SEM 07 | FD5: SEM 08 | FE5: SEM 09 | FF5: SEM 10 | FG5: SEM 11 | FH5: SEM 12 | FI5: SEM 13 | FJ5: SEM 14 | FK5: SEM 15 | FL5: SEM 16 | FM5: SEM 17 | FN5: SEM 18 | FO5: SEM 19 | FP5: SEM 20 | FQ5: SEM 21 | FR5: SEM 22 | FS5: SEM 23 | FT5: SEM 24 | FU5: SEM 25 | FV5: SEM 26 | FW5: SEM 27 | FX5: SEM 28 | FY5: SEM 29 | FZ5: SEM 30 | GA5: SEM 31 | GB5: SEM 32 | GC5: SEM 33 | GD5: SEM 34 | GE5: SEM 35 | GF5: SEM 36 | GG5: SEM 37 | GH5: SEM 38 | GI5: SEM 39 | GJ5: SEM 40 | GK5: SEM 41 | GL5: SEM 42 | GM5: SEM 43 | GN5: SEM 44 | GO5: SEM 45 | GP5: SEM 46 | GQ5: SEM 47 | GR5: SEM 48 | GS5: SEM 49 | GT5: SEM 50 | GU5: SEM 51 | GV5: SEM 52 | GW5: SEM 01 | GX5: SEM 02 | GY5: SEM 03 | GZ5: SEM 04 | HA5: SEM 05 | HB5: SEM 06 | HC5: SEM 07 | HD5: SEM 08 | HE5: SEM 09 | HF5: SEM 10 | HG5: SEM 11 | HH5: SEM 12 | HI5: SEM 13 | HJ5: SEM 14 | HK5: SEM 15 | HL5: SEM 16 | HM5: SEM 17 | HN5: SEM 18 | HO5: SEM 19 | HP5: SEM 20 | HQ5: SEM 21 | HR5: SEM 22 | HS5: SEM 23 | HT5: SEM 24 | HU5: SEM 25 | HV5: SEM 26 | HW5: SEM 27 | HX5: SEM 28 | HY5: SEM 29 | HZ5: SEM 30 | IA5: PROM 2024 | IB5: STATUS | IG5: SC-PROD | IH5: JU-PROD | II5: JU-SOST | IJ5: JU-TA/LA | IK5: MX-CNNC | IL5: BZ-ANFO | IM5: LA-CNNC | IT5: SC-PROD | IU5: SC-SERV | IV5: JU-PROD | IW5: JU-SOST | IX5: JU-TA/LA | IY5: MX-CNNC | IZ5: BX-ANFO | JA5: LA-CNNC
B6: SCOOPTRAMS - PRODTCCION | C6: MTBF | F6: 50 | G6: 0.7984 | H6: 0.6473 | I6: 0.7056 | J6: 0.689 | K6: 0.7304 | L6: 0.7086 | M6: 0.8195 | N6: 0.7522 | O6: 0.8156 | P6: 0.92820988 | Q6: 0.81211667 | R6: 0.82006667 | S6: 0.90726667 | T6: 0.87465 | U6: 0.76716667 | V6: 0.80876667 | W6: 0.90046667 | X6: 0.84891667 | Y6: 0.76015 | Z6: 0.78256667 | AA6: 0.84055 | AB6: =AVERAGE(P6:AA6) -> 0.83757443 | AC6: 0.73135 | AD6: 0.75676667 | AE6: 0.88453333 | AF6: 0.8108 | AG6: 0.85235215 | AH6: 0.8828 | AI6: 0.86945084 | AJ6: 0.74834286 | AO6: 0.71352315 | AP6: 0.70494168 | AQ6: 0.73969643 | AR6: 0.7621 | AS6: 41.079902 | BK6: 36.988095 | BL6: 22.242024 | BM6: 1.0557143 | BN6: 36.16 | BO6: 42.026929 | BP6: 31.25619 | BQ6: 31.735238 | BR6: 58.11449 | BS6: 38.808571 | BT6: 29.112857 | BU6: 41.167857 | BV6: 53.27 | BW6: 35.368571 | BX6: 43.566667 | BY6: 38.145714 | BZ6: 79.094524 | CA6: 110.74679 | CB6: 49.761429 | CC6: 39.264286 | CD6: 42.691905 | CE6: 69.277619 | CF6: 42.454286 | CG6: 61.568571 | CH6: 48.648571 | CI6: 18.245 | CJ6: 25.369286 | CK6: 19.734048 | CL6: 50.178571 | CM6: 37.89381 | CN6: 50.314286 | CO6: ='S-P_SEM'!#REF! -> #REF! | CP6: 41.342857 | CQ6: 34.838333 | CR6: 35.968367 | CS6: 27.129592 | CT6: 37.842857 | CU6: 70.618571 | CV6: 29.4875 | CW6: 27.525476 | CX6: 36.114286 | CY6: 21.364286 | CZ6: 28.334683 | DA6: ='S-P_SEM'!H147 -> 26.778929 | DB6: 16.589435 | DC6: 41.59375 | DD6: 28.519588 | DE6: 43.628571 | DF6: 31.699286 | DG6: 31.100762 | DH6: 25.119048 | DI6: 14.177143 | DJ6: 30.706974 | DK6: 43.561429 | DL6: ='S-P_SEM'!S147 -> 20.696667 | DM6: 20.408095 | DN6: 28.845 | DO6: 36.421429 | DP6: ='S-P_SEM'!AA147 -> 53.30375 | DQ6: 28.284286 | DR6: 32.806905 | DS6: 27.163542 | DT6: 53.30375 | DU6: 32.186875 | DV6: 30.848739 | DW6: 36.09625 | DX6: 20.772917 | DY6: 31.148078 | DZ6: 40.595625 | EA6: 26.890833 | EB6: 43.888333 | EC6: 40.23875 | ED6: 44.158125 | EE6: 32.289349 | EF6: 33.795833 | EG6: 28.840625 | EH6: 47.64375 | EI6: 32.763866 | EJ6: 46.65 | EK6: 33.111019 | EL6: 46.849375 | EM6: ='S-P_SEM'!AT147 -> 36.907143 | EN6: 47.64375 | EO6: 30.788571 | EP6: 50.04381 | EQ6: 41.364762 | ER6: 32.888095 | ES6: 37.33 | ET6: 36.434881 | EU6: 39.61 | EV6: 24.498129 | EW6: 52.428571 | EX6: 42.917857 | EY6: 33.83 | EZ6: 31.666667 | FA6: 42.764524 | FB6: 52.296429 | FC6: 36.490476 | FD6: 55.335714 | FE6: 34.871429 | FF6: 36.678571 | FG6: 37.733095 | FH6: 36.842619 | FI6: 38.185714 | FJ6: 40.395493 | FK6: 43.372857 | FL6: 32.732143 | FM6: 33.329762 | FN6: 39.823426 | FO6: 42.633333 | FP6: 58.247143 | FQ6: 33.686429 | FR6: 37.072381 | FS6: 44.812143 | FT6: 39.943476 | FU6: 31.378571 | FV6: 34.437517 | FW6: 40.257143 | FX6: 17.740476 | FY6: 24.85 | FZ6: 37.933071 | GA6: 51.053571 | GB6: 62.891429 | GC6: 35.045238 | GD6: 54.2825 | GE6: 64.782857 | GF6: 31.738095 | GG6: 60.157143 | GH6: 60.484286 | GI6: 33.579714 | GJ6: 47.860714 | GK6: 48.75 | GL6: 22.873452 | GM6: 26.321071 | GN6: 52.377857 | GO6: 32.893571 | GP6: 41.838452 | GQ6: 43.28 | GR6: ='S-P_SEM'!CZ147 -> 52.477619 | GS6: 52.477619 | GT6: 52.477619 | GU6: 25.524762 | GV6: 40.679587 | GW6: 50 | GX6: 19.265816 | GY6: 32.070034 | GZ6: 47.231429 | HA6: 25.777755 | HB6: 35.714286 | HC6: 55.934762 | HD6: 52.019048 | HE6: 38.601429 | HF6: 45.223333 | HG6: 39.527381 | HH6: 46.21 | HI6: 37.95 | HJ6: 27.633163 | HK6: 44.432143 | HL6: 58.255 | HM6: 35.938095 | HN6: 39.221429 | HO6: 60.202143 | HP6: 32.788214 | HQ6: 32.911905 | HR6: 41.951848 | HS6: 48.191905 | HT6: 44.733333 | HU6: 42.435817 | HV6: 34.347222 | HW6: 55.533333 | HX6: 44.245556 | HY6: 38.49875 | HZ6: ='S-P_SEM'!EG147 -> 42.032143 | IA6: =AVERAGE(GW6:HZ6) -> 41.629242 | IB6: =IF(HZ6>=F6,"J",IF(HZ6>F6/2,"K","L")) -> K | IF6: OBI MTBF | IG6: =+F6 -> 50 | IH6: =+F8 -> 20 | II6: =+F10 -> 20 | IJ6: =+F12 -> 20 | IK6: =+F14 -> 30 | IL6: =+F16 -> 30 | IM6: =+F18 -> 30 | IS6: OBI DF | IT6: 0.85 | IU6: 0.85 | IV6: 0.85 | IW6: 0.85 | IX6: 0.85 | IY6: 0.85 | IZ6: 0.85 | JA6: 0.85
C7: MTTR | F7: 5 | G7: 0.2884 | H7: 0.3094 | I7: 0.359 | J7: 0.3056 | K7: 0.3701 | L7: 0.3238 | M7: 0.3512 | N7: 0.3601 | O7: 0.397 | P7: 0.42408219 | Q7: 0.51706667 | R7: 0.46296667 | S7: 0.42908333 | T7: 0.43161667 | U7: 0.42066667 | V7: 0.44918333 | W7: 0.45921667 | X7: 0.43971667 | Y7: 0.42003333 | Z7: 0.39868333 | AA7: 0.40018333 | AB7: =AVERAGE(P7:AA7) -> 0.43770824 | AC7: 0.32683333 | AD7: 0.43478333 | AE7: 0.41571667 | AF7: 0.4518 | AG7: 0.41505442 | AH7: 0.42761667 | AI7: 0.37761794 | AJ7: 0.38492857 | AO7: 0.33786152 | AP7: 0.4288145 | AQ7: 0.44764279 | AR7: 0.37821429 | AS7: 15.058128 | BK7: 4.0090476 | BL7: 11.512381 | BM7: 1.2857143 | BN7: 3.0714286 | BO7: 2.3464286 | BP7: 27.875 | BQ7: 26.710952 | BR7: 20.587086 | BS7: 0.71428571 | BT7: 2.0835714 | BU7: 2.4761905 | BV7: 2.0507143 | BW7: 18.785714 | BX7: 30.85119 | BY7: 7.1785714 | BZ7: 1.3250238 | CA7: 2.5210714 | CB7: 26.942857 | CC7: 4.7614286 | CD7: 2.4085714 | CE7: 8.4071429 | CF7: 2.1071429 | CG7: 4.9640476 | CH7: 17.763929 | CI7: 12.928571 | CJ7: 0.87309524 | CK7: 7.9642857 | CL7: 2.9642857 | CM7: 2.2380952 | CN7: 1.6071429 | CO7: ='S-P_SEM'!#REF! -> #REF! | CP7: 26.440476 | CQ7: 28.563333 | CR7: 26.059286 | CS7: 18.898129 | CT7: 17.862143 | CU7: 17.798095 | CV7: 35.575119 | CW7: 40.881429 | CX7: 53.905 | CY7: 65.086905 | CZ7: 53.291111 | DA7: ='S-P_SEM'!H148 -> 52.654643 | DB7: 27.682292 | DC7: 39.610417 | DD7: 47.238533 | DE7: 38.232143 | DF7: 62.513929 | DG7: 66.536762 | DH7: 27.956395 | DI7: 30.458762 | DJ7: 45.757592 | DK7: 32.047143 | DL7: ='S-P_SEM'!S148 -> 30.61181 | DM7: 34.153333 | DN7: 32.976429 | DO7: 33.689048 | DP7: ='S-P_SEM'!AA148 -> 57.53125 | DQ7: 52.525595 | DR7: 43.15619 | DS7: 46.877708 | DT7: 57.53125 | DU7: 44.946333 | DV7: 43.770664 | DW7: 52.09375 | DX7: 46.501458 | DY7: 44.24072 | DZ7: 38.270625 | EA7: 1.92 | EB7: 31.28125 | EC7: 35.948125 | ED7: 4.421875 | EE7: 40.72457 | EF7: 34.793125 | EG7: 32.338437 | EH7: 24.01625 | EI7: 39.603467 | EJ7: 31.96875 | EK7: 39.444548 | EL7: 18.8125 | EM7: ='S-P_SEM'!AT148 -> 27.285714 | EN7: 24.01625 | EO7: 20.080238 | EP7: 18.942857 | EQ7: 1.9261905 | ER7: 2.4304762 | ES7: 8.5742857 | ET7: 6.4521429 | EU7: 27.446429 | EV7: 26.373214 | EW7: 7.2742857 | EX7: 2.3839286 | EY7: 3.0982143 | EZ7: 1.3621429 | FA7: 22.63119 | FB7: 48.407143 | FC7: 50.204524 | FD7: 49.910714 | FE7: 49.785714 | FF7: 54.113571 | FG7: 7.4642857 | FH7: 19.563095 | FI7: 21.672024 | FJ7: 26.033733 | FK7: 24.667143 | FL7: 6.554881 | FM7: 6.6267857 | FN7: 22.455933 | FO7: 1.7428571 | FP7: 1.75 | FQ7: 4.11 | FR7: 5.4964286 | FS7: 3.6428571 | FT7: 17.73499 | FU7: 6.0355238 | FV7: 5.1198299 | FW7: 6 | FX7: 9.3669048 | FY7: 5.5039286 | FZ7: 15.492011 | GA7: 5.9290476 | GB7: 6.2857143 | GC7: 1.2767857 | GD7: 2.4107143 | GE7: 3.4761905 | GF7: 3.8604762 | GG7: 3.2357143 | GH7: 7.4357143 | GI7: 5.4000952 | GJ7: 9.7071429 | GK7: 3.4428571 | GL7: 4.9742857 | GM7: 8.0453571 | GN7: 28.428571 | GO7: 32.285714 | GP7: 24.71869 | GQ7: 4.6166667 | GR7: ='S-P_SEM'!CZ148 -> 35.52381 | GS7: 35.52381 | GT7: 35.52381 | GU7: 27.76181 | GV7: 14.53836 | GW7: 5 | GX7: 30.12002 | GY7: 33.403102 | GZ7: 25.964286 | HA7: 28.422687 | HB7: 7.707 | HC7: 16.461905 | HD7: 29.180952 | HE7: 11.057857 | HF7: 14.82381 | HG7: 23.903571 | HH7: 38.43 | HI7: 17.61 | HJ7: 18.980561 | HK7: 14.833214 | HL7: 3.3616667 | HM7: 1.9070476 | HN7: 4.3625 | HO7: 6.1242857 | HP7: 16.370214 | HQ7: 5.779381 | HR7: 17.790163 | HS7: 1.9209524 | HT7: 24.88381 | HU7: 17.806391 | HV7: 4.7075 | HW7: 3.96 | HX7: 16.456936 | HY7: 7.6058333 | HZ7: ='S-P_SEM'!EH148 -> 15.71807 | IA7: =AVERAGE(GW7:HZ7) -> 15.488457 | IB7: =IF(HZ7<=F7,"J",IF(HZ7>F7*2,"L","K")) -> L | IF7: OBI MTTR | IG7: =+F7 -> 5 | IH7: =+F9 -> 4 | II7: =+F11 -> 4 | IJ7: =+F13 -> 4 | IK7: =+F15 -> 4 | IL7: =+F17 -> 4 | IM7: =+F19 -> 4 | IS7: OBI UT | IT7: 0.5 | IU7: 0.5 | IV7: 0.2 | IW7: 0.2 | IX7: 0.2 | IY7: 0.3 | IZ7: 0.18 | JA7: 0.18
B8: JUMBOS PRODTCCION | C8: MTBF | F8: 20 | G8: 0.9162 | H8: 0.9355 | I8: 0.8625 | J8: 0.904 | K8: 0.8881 | L8: 0.7615 | M8: 0.8677 | N8: 0.7204 | O8: 0.8122 | P8: 0.8056 | Q8: 0.8795 | R8: 0.8579 | S8: 0.96083333 | T8: 0.86656667 | U8: 0.876725 | V8: 0.91775 | W8: 0.943225 | X8: 0.8543 | Y8: 0.70075 | Z8: 0.669875 | AA8: 0.68125 | AB8: =AVERAGE(P8:AA8) -> 0.83452292 | AC8: 0.8273 | AD8: 0.89745 | AE8: 0.88195 | AF8: 0.91325 | AG8: 0.965 | AH8: 0.92255 | AI8: 0.82327957 | AJ8: 0.8806 | AO8: 0.80749306 | AP8: 0.91990591 | AQ8: 0.96145833 | AR8: 0.7805 | AS8: 5.8581229 | BK8: 2.9143857 | BL8: 5.3768007 | BM8: 0.53302661 | BN8: 11.18125 | BO8: 7.361375 | BP8: 9.729125 | BQ8: 6.0241316 | BR8: 11.56582 | BS8: 24.82 | BT8: 3.6698603 | BU8: 5.7210952 | BV8: 7.8945 | BW8: 5.5122831 | BX8: 4.9719241 | BY8: 3.2537839 | BZ8: 43.66 | CA8: 98.53125 | CB8: 4.5986751 | CC8: 7.9987834 | CD8: 3.1158498 | CE8: 5.9740348 | CF8: 3.6927529 | CG8: 7.6999201 | CH8: 7.4713921 | CI8: 2.4384089 | CJ8: 2.1740021 | CK8: 4.3474817 | CL8: 5.7923259 | CM8: 14.252864 | CN8: 11.026123 | CO8: ='J-P_SEM'!#REF! -> #REF! | CP8: 4.5356253 | CQ8: 3.8193256 | CR8: 2.0115786 | CS8: 4.8461138 | CT8: 3.4158976 | CU8: 3.1261198 | CV8: 2.8217186 | CW8: 3.2989882 | CX8: 9.3465577 | CY8: 2.9455334 | CZ8: 5.1970265 | DA8: ='J-P_SEM'!H68 -> 2.8165281 | DB8: 3.6148429 | DC8: 3.5617196 | DD8: 3.8946302 | DE8: 7.353636 | DF8: 5.2214718 | DG8: 5.4182568 | DH8: 3.0745001 | DI8: 5.928031 | DJ8: 4.7403872 | DK8: 2.4873662 | DL8: ='J-P_SEM'!S68 -> 3.9581648 | DM8: 3.6774429 | DN8: 2.9295709 | DO8: 3.2759151 | DP8: ='J-P_SEM'!AA68 -> 4.4336008 | DQ8: 3.7908804 | DR8: 5.5580399 | DS8: 5.9279707 | DT8: 4.4336008 | DU8: 3.9289802 | DV8: 4.8436933 | DW8: 6.6150913 | DX8: 2.3579719 | DY8: 4.7427586 | DZ8: 2.8148477 | EA8: 5.8412393 | EB8: 3.7579487 | EC8: 4.3074418 | ED8: 4.1807567 | EE8: 4.5680253 | EF8: 4.8971562 | EG8: 2.3308851 | EH8: 2.6708323 | EI8: 4.396173 | EJ8: 5.1220256 | EK8: 4.4637086 | EL8: 2.7407153 | EM8: ='J-P_SEM'!AT68 -> 1.5738901 | EN8: 2.6708323 | EO8: 5.2882319 | EP8: 8.9475692 | EQ8: 4.7779393 | ER8: 2.263961 | ES8: 7.3666961 | ET8: 3.2154065 | EU8: 3.2171949 | EV8: 4.6981192 | EW8: 5.4544554 | EX8: 5.2650481 | EY8: 4.4077503 | EZ8: 3.3804253 | FA8: 8.7566362 | FB8: 5.877163 | FC8: 3.4399426 | FD8: 9.7753197 | FE8: 4.8132174 | FF8: 2.7677728 | FG8: 3.8218776 | FH8: 20 | FI8: 3.1453328 | FJ8: 5.0203627 | FK8: 6.0187472 | FL8: 3.556475 | FM8: 3.556475 | FN8: 5.1384425 | FO8: 4.3404201 | FP8: 12.269695 | FQ8: 7.6939223 | FR8: 4.6400641 | FS8: 4.5736801 | FT8: 5.4108397 | FU8: 2.9634415 | FV8: 4.883949 | FW8: 5.5968097 | FX8: 2.7977376 | FY8: 1.7637853 | FZ8: 5.0640778 | GA8: 8.5653007 | GB8: 8.3062984 | GC8: 3.1858191 | GD8: 7.0232212 | GE8: 8.1042871 | GF8: 1.8675079 | GG8: 3.6327982 | GH8: 8.9276887 | GI8: 2.9272587 | GJ8: 9.8134102 | GK8: 5.3984605 | GL8: 3.7005457 | GM8: 2.8867007 | GN8: 8.7362174 | GO8: 5.7272097 | GP8: 3.4716012 | GQ8: 14.1919 | GR8: ='J-P_SEM'!DA68 -> 8.473144 | GS8: 8.473144 | GT8: 8.473144 | GU8: 6.6235179 | GV8: 5.5649572 | GW8: 5.9895549 | GX8: 3.5818645 | GY8: 4.0070915 | GZ8: 2.4498549 | HA8: 1.4351857 | HB8: 1.8467787 | HC8: 6.9841983 | HD8: 1.4847061 | HE8: 2.1613194 | HF8: 11.3624 | HG8: 2.7912564 | HH8: 6.62 | HI8: 4.89 | HJ8: 2.8471498 | HK8: 3.2831317 | HL8: 3.9436817 | HM8: 3.3693836 | HN8: 2.9964331 | HO8: 6.3385918 | HP8: 2.9652221 | HQ8: 5.3082781 | HR8: 11.327943 | HS8: 2.0291346 | HT8: 4.6365215 | HU8: 4.3957358 | HV8: 3.385857 | HW8: 6.9123268 | HX8: 7.1152732 | HY8: 2.4249628 | HZ8: ='J-P_SEM'!EH68 -> 2.226153 | IA8: =AVERAGE(GW8:HZ8) -> 4.370333 | IB8: =IF(HZ8>=F8,"J",IF(HZ8>F8/2,"K","L")) -> L | IF8: MTBF | IG8: =+HZ6 -> 42.032143 | IH8: =+HZ8 -> 2.226153 | II8: =+HZ10 -> 9.0252746 | IJ8: =+HZ12 -> 0.75 | IK8: =+HZ14 -> 35.333333 | IL8: =+HZ16 -> 1.3139632 | IM8: =+HZ18 -> 2.1642191 | IS8: DF PR-21 | IT8: =+IA6 -> 41.629242 | IU8: =+#REF! -> #REF! | IV8: =+IA8 -> 4.370333 | IW8: =+IA10 -> 4.0620416 | IX8: =+IA12 -> 1.9518297 | IY8: =+IA14 -> 33.642771 | IZ8: =+IA16 -> 2.7226949 | JA8: =+IA18 -> 5.580767
C9: MTTR | F9: 4 | G9: 0.2614 | H9: 0.2707 | I9: 0.2768 | J9: 0.1193 | K9: 0.1105 | L9: 0.1109 | M9: 0.1248 | N9: 0.1547 | O9: 0.1335 | P9: 0.12455 | Q9: 0.1141 | R9: 0.13435 | S9: 0.10156667 | T9: 0.13056667 | U9: 0.129325 | V9: 0.09775 | W9: 0.11415 | X9: 0.3108 | Y9: 0.259075 | Z9: 0.250225 | AA9: 0.23865 | AB9: =AVERAGE(P9:AA9) -> 0.16709236 | AC9: 0.223325 | AD9: 0.22595 | AE9: 0.0482 | AF9: 0.0621 | AG9: 0.044786535 | AH9: 0.061575 | AI9: 0.15806507 | AJ9: 0.063525 | AO9: 0.069454287 | AP9: 0.059032382 | AQ9: 0.055005904 | AR9: 0.0753 | AS9: 5.2185145 | BK9: 9.5989583 | BL9: 45.354167 | BM9: 1.75 | BN9: 3.2433333 | BO9: 5.815625 | BP9: 8.075 | BQ9: 8.4895833 | BR9: 14.355 | BS9: 24.5 | BT9: 51.479583 | BU9: 10.590643 | BV9: 5.13375 | BW9: 4.58375 | BX9: 12.937292 | BY9: 3.17625 | BZ9: 29.24 | CA9: 4.21875 | CB9: 5.02125 | CC9: 4.3125 | CD9: 12.456667 | CE9: 2.9273333 | CF9: 4.3995833 | CG9: 33.21875 | CH9: 5.46 | CI9: 6.3475 | CJ9: 6.99 | CK9: 3.7935 | CL9: 14.125625 | CM9: 12.6775 | CN9: 9.35375 | CO9: ='J-P_SEM'!#REF! -> #REF! | CP9: 1.375 | CQ9: 7.0104167 | CR9: 2.1294643 | CS9: 2.625 | CT9: 10.548125 | CU9: 10.375208 | CV9: 14.7775 | CW9: 22.643542 | CX9: 37.0425 | CY9: 44.135625 | CZ9: 34.607222 | DA9: ='J-P_SEM'!H69 -> 9.90625 | DB9: 5.471 | DC9: 7.4829167 | DD9: 24.229548 | DE9: 9.14625 | DF9: 5.4264583 | DG9: 0.93208333 | DH9: 4.4118452 | DI9: 2.5119167 | DJ9: 14.229488 | DK9: 2.6149405 | DL9: ='J-P_SEM'!S69 -> 3.1805357 | DM9: 3.43125 | DN9: 5.8075 | DO9: 3.69875 | DP9: ='J-P_SEM'!AA69 -> 1.9339583 | DQ9: 2.8652083 | DR9: 7.9791667 | DS9: 2.8670833 | DT9: 1.9339583 | DU9: 3.4728333 | DV9: 9.5784312 | DW9: 7.3583333 | DX9: 5.0134375 | DY9: 9.1013232 | DZ9: 5.21875 | EA9: 5.69875 | EB9: 16.492321 | EC9: 3.21875 | ED9: 4.4316667 | EE9: 8.6594557 | EF9: 1.82125 | EG9: 44.30875 | EH9: 35.28875 | EI9: 9.931254 | EJ9: 3.801875 | EK9: 10.257323 | EL9: 43.052833 | EM9: ='J-P_SEM'!AT69 -> 44.553571 | EN9: 35.28875 | EO9: 39.969167 | EP9: 6.2895833 | EQ9: 2.705 | ER9: 3.09475 | ES9: 10.7875 | ET9: 3.515625 | EU9: 29.583333 | EV9: 6.094375 | EW9: 9.6975 | EX9: 15.129167 | EY9: 13.268917 | EZ9: 2.5170833 | FA9: 11.903333 | FB9: 3.1533333 | FC9: 2.7826667 | FD9: 4 | FE9: 3.395625 | FF9: 4.7013571 | FG9: 2.0875 | FH9: 4 | FI9: 3.665125 | FJ9: 7.8852338 | FK9: 17.31875 | FL9: 4.1504167 | FM9: 4.1504167 | FN9: 7.7987374 | FO9: 2.664375 | FP9: 7.46875 | FQ9: 10.791667 | FR9: 4.011625 | FS9: 2.3645833 | FT9: 7.0913934 | FU9: 2.7076667 | FV9: 2.9939583 | FW9: 3.3208333 | FX9: 4.5290774 | FY9: 4.4730159 | FZ9: 6.4760164 | GA9: 8 | GB9: 5.9833333 | GC9: 6.4216548 | GD9: 5.21875 | GE9: 5.0833333 | GF9: 7.4765417 | GG9: 2.375 | GH9: 1.7666667 | GI9: 3.17375 | GJ9: 3.703125 | GK9: 1.9375 | GL9: 1.5975 | GM9: 3.241 | GN9: 3.125 | GO9: 5.0833333 | GP9: 3.0270417 | GQ9: 2.8125 | GR9: ='J-P_SEM'!DA69 -> 3.4583333 | GS9: 3.4583333 | GT9: 3.4583333 | GU9: 4.5146429 | GV9: 5.49354 | GW9: 4.875 | GX9: 4.3895833 | GY9: 9.1506944 | GZ9: 18.1875 | HA9: 44.329167 | HB9: 45.259777 | HC9: 49.375 | HD9: 29.61875 | HE9: 3.4350208 | HF9: 3.95 | HG9: 4.702381 | HH9: 4.2 | HI9: 3.74 | HJ9: 3.42625 | HK9: 7.7708333 | HL9: 3.8 | HM9: 2.2650694 | HN9: 2.75625 | HO9: 3.315 | HP9: 11.157333 | HQ9: 3.6266667 | HR9: 11.4175 | HS9: 2.7890625 | HT9: 1.8725 | HU9: 12.695579 | HV9: 3.297619 | HW9: 4.198125 | HX9: 6.8125 | HY9: 3.0566667 | HZ9: ='J-P_SEM'!EH69 -> 41.672917 | IA9: =AVERAGE(GW9:HZ9) -> 11.704758 | IB9: =IF(HZ9<=F9,"J",IF(HZ9>F9*2,"L","K")) -> L | IF9: MTTR | IG9: =+HZ7 -> 15.71807 | IH9: =+HZ9 -> 41.672917 | II9: =+HZ11 -> 3.2959722 | IJ9: =+HZ13 -> 24.1 | IK9: =+HZ15 -> 0.66666667 | IL9: =+HZ17 -> 57.526389 | IM9: =+HZ19 -> 7.1966667 | IS9: UT PR-21 | IT9: =+IA7 -> 15.488457 | IU9: =+#REF! -> #REF! | IV9: =+IA9 -> 11.704758 | IW9: =+IA11 -> 7.2675245 | IX9: =+IA13 -> 52.682829 | IY9: =+IA15 -> 6.5988407 | IZ9: =+IA17 -> 38.466795 | JA9: =+IA19 -> 5.9351629
B10: JUMBOS SOSTENIMIENTO | C10: MTBF | F10: 20 | G10: 0.89 | H10: 0.6593 | I10: 0.613 | J10: 0.548 | K10: 0.5797 | L10: 0.7646 | M10: 0.7602 | N10: 0.6192 | O10: 0.4806 | P10: 0.75825 | Q10: 0.67685 | R10: 0.61275 | S10: 0.44095 | T10: 0.68553333 | U10: 0.713 | V10: 0.62436667 | W10: 0.87303333 | X10: 0.72076667 | Y10: 0.88392 | Z10: 0.78674 | AA10: 0.875 | AB10: =AVERAGE(P10:AA10) -> 0.72093 | AC10: 0.93942 | AD10: 0.8867 | AE10: 0.88375 | AF10: 0.881075 | AG10: 0.87916667 | AH10: 0.755775 | AI10: 0.67213038 | AJ10: 0.721925 | AO10: 0.704375 | AP10: 0.81514113 | AQ10: 0.67675347 | AR10: 0.669975 | AS10: 4.0343984 | BK10: 3.8180495 | BL10: 3.5967374 | BM10: 0.35185185 | BN10: 5.1677083 | BO10: 3.5429167 | BP10: 5.3075 | BQ10: 2.1833562 | BR10: 6.6651743 | BS10: 12.75 | BT10: 3.2257034 | BU10: 4.520625 | BV10: 20.409722 | BW10: 6.6011607 | BX10: 4.6004858 | BY10: 6.35045 | BZ10: 59.645714 | CA10: 47.854167 | CB10: 1.7839686 | CC10: 4.5854489 | CD10: 3.03812 | CE10: 4.6007921 | CF10: 2.0725782 | CG10: 3.8339709 | CH10: 7.2086482 | CI10: 4.038209 | CJ10: 2.9676149 | CK10: 4.127594 | CL10: 4.2703125 | CM10: 7.425 | CN10: 10.141819 | CO10: ='J-S_SEM'!#REF! -> #REF! | CP10: 4.329742 | CQ10: 20 | CR10: 2.8133985 | CS10: 2.5118608 | CT10: 5.2916442 | CU10: 20 | CV10: 3.4826332 | CW10: 2.4711002 | CX10: 4.9221388 | CY10: 3.005993 | CZ10: 3.4664106 | DA10: ='J-S_SEM'!H116 -> 3.3936315 | DB10: 2.7166351 | DC10: 68.0625 | DD10: 12.565348 | DE10: 7.5849269 | DF10: 2.8511163 | DG10: 2.1106238 | DH10: 2.2702826 | DI10: 1.2863224 | DJ10: 7.7282574 | DK10: 1.6294563 | DL10: ='J-S_SEM'!S116 -> 6.6821816 | DM10: 6.7663831 | DN10: 5.1422447 | DO10: 2.7600711 | DP10: ='J-S_SEM'!AA116 -> 5.1111936 | DQ10: 4.9480622 | DR10: 3.6050117 | DS10: 5.1449733 | DT10: 5.1111936 | DU10: 2.304919 | DV10: 6.2806014 | DW10: 4.9023322 | DX10: 4.3174096 | DY10: 6.0595255 | DZ10: 4.7387221 | EA10: 4.5212262 | EB10: 6.2059007 | EC10: 3.398051 | ED10: 7.4808343 | EE10: 5.8082169 | EF10: 2.8664738 | EG10: 5.0033625 | EH10: 2.8765303 | EI10: 5.6113823 | EJ10: 4.6137778 | EK10: 5.5128708 | EL10: 1.886519 | EM10: ='J-S_SEM'!AT116 -> 6.4417995 | EN10: 2.8765303 | EO10: 7.784671 | EP10: 7.5414676 | EQ10: 4.3201619 | ER10: 3.5878659 | ES10: 4.0924865 | ET10: 1.7640979 | EU10: 5.1247973 | EV10: 3.1631895 | EW10: 4.5041131 | EX10: 3.8192182 | EY10: 1.7785972 | EZ10: 1.8909931 | FA10: 2.0863368 | FB10: 2.8218817 | FC10: 2.5594639 | FD10: 3.2463668 | FE10: 3.4306637 | FF10: 2.6876607 | FG10: 2.597194 | FH10: 20 | FI10: 3.3955844 | FJ10: 3.0633783 | FK10: 7.7971171 | FL10: 2.652443 | FM10: 2.652443 | FN10: 3.6027259 | FO10: 2.9893106 | FP10: 4.252905 | FQ10: 11.443121 | FR10: 3.4998216 | FS10: 3.5637841 | FT10: 3.8571902 | FU10: 6.6523316 | FV10: 2.2293442 | FW10: 4.4341805 | FX10: 2.2957623 | FY10: 2.0811914 | FZ10: 3.7685263 | GA10: 2.259739 | GB10: 5.343751 | GC10: 2.0645961 | GD10: 8.8384837 | GE10: 4.4495785 | GF10: 2.5288323 | GG10: 3.5861322 | GH10: 4.6570987 | GI10: 3.3583068 | GJ10: 4.2889622 | GK10: 2.5594821 | GL10: 2.092728 | GM10: 2.6449951 | GN10: 6.147337 | GO10: 4.9380351 | GP10: 3.9254834 | GQ10: 5.5129178 | GR10: ='J-S_SEM'!DA116 -> 3.2394109 | GS10: 3.2394109 | GT10: 3.2394109 | GU10: 2.4816464 | GV10: 3.7771915 | GW10: 2.7241393 | GX10: 1.9834012 | GY10: 2.938764 | GZ10: 4.1087513 | HA10: 3.3515402 | HB10: 2.0376281 | HC10: 1.9530592 | HD10: 4.8294828 | HE10: 3.9709206 | HF10: 2.9808698 | HG10: 2.9932289 | HH10: 4.73 | HI10: 5.06 | HJ10: 1.9801576 | HK10: 3.2003739 | HL10: 4.3454045 | HM10: 1.8020881 | HN10: 2.2245705 | HO10: 5.6719266 | HP10: 3.2075582 | HQ10: 1.9967188 | HR10: 7.7233315 | HS10: 3.2852533 | HT10: 4.50588 | HU10: 3.4675378 | HV10: 6.064601 | HW10: 6.3566451 | HX10: 5.3113371 | HY10: 8.0308026 | HZ10: ='J-S_SEM'!EH116 -> 9.0252746 | IA10: =AVERAGE(GW10:HZ10) -> 4.0620416 | IB10: =IF(HZ10>=F10,"J",IF(HZ10>F10/2,"K","L")) -> L | IF10: MTBF PR-23 | IG10: =+AS6 -> 41.079902 | IH10: =+AS8 -> 5.8581229 | II10: =+AS10 -> 4.0343984 | IJ10: =+AS12 -> 2.4870298 | IK10: =+AS14 -> 34.760521 | IL10: =+AS16 -> 3.415216 | IM10: =+AS18 -> 5.69548 | IS10: DF PR-20 | IT10: =+AS6 -> 41.079902 | IU10: =+#REF! -> #REF! | IV10: =+AS8 -> 5.8581229 | IW10: =+AS10 -> 4.0343984 | IX10: =+AS12 -> 2.4870298 | IY10: =+AS14 -> 34.760521 | IZ10: =+AS16 -> 3.415216 | JA10: =+AS18 -> 5.69548
C11: MTTR | F11: 4 | G11: 0.1859 | H11: 0.1906 | I11: 0.306 | J11: 0.0487 | K11: 0.062 | L11: 0.0568 | M11: 0.08 | N11: 0.1414 | O11: 0.1073 | P11: 0.10805 | Q11: 0.28665 | R11: 0.26915 | S11: 0.08145 | T11: 0.11976667 | U11: 0.064666667 | V11: 0.23313333 | W11: 0.11626667 | X11: 0.26233333 | Y11: 0.17246 | Z11: 0.18118 | AA11: 0.17418 | AB11: =AVERAGE(P11:AA11) -> 0.17244056 | AC11: 0.14502 | AD11: 0.3539 | AE11: 0.050075 | AF11: 0.06075 | AG11: 0.054206301 | AH11: 0.056025 | AI11: 0.05530039 | AJ11: 0.079075 | AO11: 0.079171553 | AP11: 0.064070589 | AQ11: 0.076630425 | AR11: 0.046825 | AS11: 21.311372 | BK11: 19.671 | BL11: 5.46875 | BM11: 3.855 | BN11: 9.6589583 | BO11: 45.931417 | BP11: 46.3125 | BQ11: 51.864 | BR11: 71.375 | BS11: 35.75 | BT11: 45.005982 | BU11: 47.574896 | BV11: 45.156944 | BW11: 4.8503333 | BX11: 10.75 | BY11: 24.139167 | BZ11: 9.3542857 | CA11: 7.2291667 | CB11: 4.0126667 | CC11: 12.110833 | CD11: 9.4666667 | CE11: 6.334375 | CF11: 19.694583 | CG11: 3.1352857 | CH11: 2.4475 | CI11: 7.0416667 | CJ11: 6.50375 | CK11: 14.714792 | CL11: 2.90625 | CM11: 10.675 | CN11: 46.6675 | CO11: ='J-S_SEM'!#REF! -> #REF! | CP11: 51.9825 | CQ11: 2 | CR11: 6.465 | CS11: 5.8080833 | CT11: 5.301875 | CU11: 2 | CV11: 17.167083 | CW11: 2.72375 | CX11: 32.4375 | CY11: 12.645833 | CZ11: 15.935694 | DA11: ='J-S_SEM'!H117 -> 20.762083 | DB11: 8.4589286 | DC11: 0.9725 | DD11: 11.498597 | DE11: 30.855 | DF11: 9.282125 | DG11: 44.619196 | DH11: 44.230833 | DI11: 44.297 | DJ11: 19.525116 | DK11: 11.097917 | DL11: ='J-S_SEM'!S117 -> 6.1659375 | DM11: 6.5833333 | DN11: 9.6975 | DO11: 3.851875 | DP11: ='J-S_SEM'!AA117 -> 12.8475 | DQ11: 12.375625 | DR11: 5.1249107 | DS11: 6.00525 | DT11: 12.8475 | DU11: 45.420804 | DV11: 16.996621 | DW11: 45.1875 | DX11: 10.137857 | DY11: 18.771105 | DZ11: 2.9925 | EA11: 6.8691667 | EB11: 5.51625 | EC11: 44.676875 | ED11: 9.75375 | EE11: 17.461585 | EF11: 7.8900893 | EG11: 56.18125 | EH11: 44.127083 | EI11: 19.713134 | EJ11: 44.493437 | EK11: 20.950605 | EL11: 57.045 | EM11: ='J-S_SEM'!AT117 -> 58.6875 | EN11: 44.127083 | EO11: 13.136667 | EP11: 2.9233333 | EQ11: 4.74125 | ER11: 5.596875 | ES11: 17.605 | ET11: 4.383 | EU11: 3.1583333 | EV11: 4.72375 | EW11: 64.1825 | EX11: 68.59375 | EY11: 43.985 | EZ11: 22.172083 | FA11: 12.99 | FB11: 7.8891667 | FC11: 3.1697917 | FD11: 48.216667 | FE11: 45.194167 | FF11: 45.647708 | FG11: 44.515833 | FH11: 4 | FI11: 46.143583 | FJ11: 39.014601 | FK11: 46.125 | FL11: 44.793375 | FM11: 44.793375 | FN11: 38.452632 | FO11: 12.0125 | FP11: 5.6875 | FQ11: 28.825 | FR11: 4.7604167 | FS11: 6.2333333 | FT11: 31.166137 | FU11: 5.1779167 | FV11: 6.7025 | FW11: 40.895833 | FX11: 8.480375 | FY11: 12.78625 | FZ11: 27.531561 | GA11: 5.0416667 | GB11: 6 | GC11: 37.986571 | GD11: 3.1 | GE11: 31.033333 | GF11: 3.494 | GG11: 3.678 | GH11: 3.3 | GI11: 2.0495 | GJ11: 9.5 | GK11: 5.45 | GL11: 2.4941333 | GM11: 3.5975 | GN11: 15.2 | GO11: 5.1 | GP11: 1.629 | GQ11: 4.5 | GR11: ='J-S_SEM'!DA117 -> 31.81 | GS11: 31.81 | GT11: 31.81 | GU11: 13.020167 | GV11: 20.295842 | GW11: 3.35 | GX11: 4.9057857 | GY11: 3.8797063 | GZ11: 3.3833333 | HA11: 13.92875 | HB11: 6.431119 | HC11: 4.799 | HD11: 2.0885 | HE11: 1.3076667 | HF11: 3.7363636 | HG11: 2.3282 | HH11: 12.9 | HI11: 5.63 | HJ11: 3.628 | HK11: 2.375 | HL11: 13.09 | HM11: 5.5335357 | HN11: 1.975 | HO11: 3.0277778 | HP11: 3.6254167 | HQ11: 13.309722 | HR11: 16.433333 | HS11: 2.64 | HT11: 28.435417 | HU11: 6.7636911 | HV11: 28.6375 | HW11: 4.9172222 | HX11: 3.5697222 | HY11: 8.1 | HZ11: ='J-S_SEM'!EH117 -> 3.2959722 | IA11: =AVERAGE(GW11:HZ11) -> 7.2675245 | IB11: =IF(HZ11<=F11,"J",IF(HZ11>F11*2,"L","K")) -> J | IF11: MTTR PR-23 | IG11: =+AS7 -> 15.058128 | IH11: =+AS9 -> 5.2185145 | II11: =+AS11 -> 21.311372 | IJ11: =+AS13 -> 17.101447 | IK11: =+AS15 -> 6.3976889 | IL11: =+AS17 -> 22.932823 | IM11: =+AS19 -> 12.951789 | IS11: UT PR-20 | IT11: =+AS7 -> 15.058128 | IU11: =+#REF! -> #REF! | IV11: =+AS9 -> 5.2185145 | IW11: =+AS11 -> 21.311372 | IX11: =+AS13 -> 17.101447 | IY11: =+AS15 -> 6.3976889 | IZ11: =+AS17 -> 22.932823 | JA11: =+AS19 -> 12.951789
B12: JUMBOS TALADROS LARGOS | C12: MTBF | F12: 20 | G12: 0.2819 | H12: 0.5161 | I12: 0.8302 | J12: 0.947 | K12: 0.8808 | L12: 0.7081 | M12: 0.428 | N12: 0.2471 | O12: 0.7053 | P12: 0.445 | Q12: 0.66925 | R12: 0.66785 | S12: 0.61145 | T12: 0.3615 | U12: 0.4485 | V12: 0.5389 | W12: 0.86195 | X12: 0.53775 | Y12: 0.7026 | Z12: 0.87255 | AA12: 0.96365 | AB12: =AVERAGE(P12:AA12) -> 0.64007917 | AC12: 0.6053 | AD12: 0.3825 | AE12: 0.7059 | AF12: 0.79035 | AG12: 0.37757392 | AH12: 0.4489 | AI12: 0.46421371 | AJ12: 0.42205 | AO12: 0.48397222 | AP12: 0.91297043 | AQ12: 0.575 | AR12: 0.2863 | AS12: 2.4870298 | BK12: 3.7608152 | BL12: 1.1111111 | BM12: 0 | BN12: 15.75 | BO12: 51.345 | BP12: 41.97 | BQ12: 2.4020141 | BR12: 0 | BS12: 0.01 | BT12: 0.01 | BU12: 6.125 | BV12: 7.2166667 | BW12: 0.821489 | BX12: 0.14 | BY12: 0 | BZ12: 0 | CA12: 0 | CB12: 75.13 | CC12: 52.005 | CD12: 78.715 | CE12: 52.5 | CF12: 47.505 | CG12: 24 | CH12: 60 | CI12: 46 | CJ12: 31.5 | CK12: 6.539604 | CL12: 6.539604 | CM12: 0 | CN12: 30.5 | CO12: ='J-TL_SEM'!#REF! -> #REF! | CP12: 20.995 | CQ12: 20.995 | CR12: 0 | CS12: 22.5 | CT12: 5.6440281 | CU12: 12.972831 | CV12: 15.512556 | CW12: 0 | CX12: 2.5408541 | CY12: 0.28670635 | CZ12: 0.94252014 | DA12: ='J-TL_SEM'!H53 -> 0 | DB12: 0.5 | DC12: 0 | DD12: 0.59544859 | DE12: 7.4355574 | DF12: 0.071428571 | DG12: 0.60357143 | DH12: 1.0585935 | DI12: 0 | DJ12: 0.95266364 | DK12: 0 | DL12: ='J-TL_SEM'!S53 -> 1.9874214 | DM12: 6.6604758 | DN12: 0.73284314 | DO12: 0.68055556 | DP12: ='J-TL_SEM'!AA53 -> 1.1928714 | DQ12: 0 | DR12: 0.84791667 | DS12: 0 | DT12: 1.1928714 | DU12: 0.62159965 | DV12: 1.0706342 | DW12: 0 | DX12: 0 | DY12: 0.95592341 | DZ12: 5.2505538 | EA12: 0.4408284 | EB12: 1.1300176 | EC12: 0.39502075 | ED12: 0.76810811 | EE12: 1.105123 | EF12: 0.4559098 | EG12: 1.6287 | EH12: 1.7196636 | EI12: 1.0977197 | EJ12: 0.97 | EK12: 1.085392 | EL12: 0 | EM12: ='J-TL_SEM'!AT53 -> 1.0494624 | EN12: 1.7196636 | EO12: 0 | EP12: 0 | EQ12: 0.33469388 | ER12: 1.4912432 | ES12: 3.7281432 | ET12: 0.33654993 | EU12: 0 | EV12: 0 | EW12: 0 | EX12: 0 | EY12: 8.2906404 | EZ12: 1.05 | FA12: 0.47206704 | FB12: 0.80765784 | FC12: 1.2092199 | FD12: 0 | FE12: 0 | FF12: 0.048636364 | FG12: 0.075 | FH12: 3.6921249 | FI12: 0 | FJ12: 1.2034882 | FK12: 3.2686115 | FL12: 1.1032258 | FM12: 1.2723915 | FN12: 1.2017031 | FO12: 0.86656442 | FP12: 0.87261146 | FQ12: 41.260541 | FR12: 1.09375 | FS12: 0.10439105 | FT12: 2.7428547 | FU12: 1.1307692 | FV12: 0.82751323 | FW12: 0.77060703 | FX12: 0.6387931 | FY12: 0.85817308 | FZ12: 2.3808286 | GA12: 2.2011799 | GB12: 0.99017886 | GC12: 0.97458009 | GD12: 3.5428571 | GE12: 2.6680851 | GF12: 0.60274893 | GG12: 2.0425164 | GH12: 1.8343786 | GI12: 0.71929924 | GJ12: 2.2856707 | GK12: 2.2502953 | GL12: 0.6720104 | GM12: 1.0060976 | GN12: 4.603626 | GO12: 2.7931734 | GP12: 0.50072254 | GQ12: 3.2907265 | GR12: ='J-TL_SEM'!DA53 -> 8.0525519 | GS12: 8.0525519 | GT12: 8.0525519 | GU12: 0 | GV12: 2.3303442 | GW12: 0 | GX12: 0 | GY12: 1.0149254 | GZ12: 3.0447761 | HA12: 0.26024355 | HB12: 2.5983333 | HC12: 1.292822 | HD12: 0.36666667 | HE12: 1.9166667 | HF12: 4.6529126 | HG12: 1.5 | HH12: 0 | HI12: 4.13 | HJ12: 0.6451049 | HK12: 0.90900693 | HL12: 1.6042932 | HM12: 1.213986 | HN12: 0.66666667 | HO12: 1.6200694 | HP12: 0.60863714 | HQ12: 1.5496647 | HR12: 1.6213214 | HS12: 1.5881661 | HT12: 4.1721854 | HU12: 1.7262259 | HV12: 0 | HW12: 1.5081081 | HX12: 4.0941102 | HY12: 13.5 | HZ12: ='J-TL_SEM'!EG53 -> 0.75 | IA12: =AVERAGE(GW12:HZ12) -> 1.9518297 | IB12: =IF(HZ12>=F12,"J",IF(HZ12>F12/2,"K","L")) -> L
C13: MTTR | F13: 4 | G13: 0.17 | H13: 0.1553 | I13: 0.1228 | J13: 0.0894 | K13: 0.0827 | L13: 0.1498 | M13: 0.0692 | N13: 0.0698 | O13: 0.0281 | P13: 0.0329 | Q13: 0.00045 | R13: 0.07215 | S13: 0.06485 | T13: 0.0757 | U13: 0.0275 | V13: 0.05435 | W13: 0.02545 | X13: 0.05555 | Y13: 0.14615 | Z13: 0.10425 | AA13: 0.11405 | AB13: =AVERAGE(P13:AA13) -> 0.064445833 | AC13: 0.08345 | AD13: 0.08515 | AE13: 0.014 | AF13: 0.01675 | AG13: 0.015177945 | AH13: 0.01985 | AI13: 0.14488797 | AJ13: 0.01785 | AO13: 0.03207737 | AP13: 0.081670161 | AQ13: 0.012261594 | AR13: 0.0014 | AS13: 17.101447 | BK13: 87.75 | BL13: 107 | BM13: 84 | BN13: 29.5 | BO13: 0.5 | BP13: 6 | BQ13: 1 | BR13: 3 | BS13: 0 | BT13: 7.5 | BU13: 6 | BV13: 3 | BW13: 1.1666667 | BX13: 2.5 | BY13: 1.25 | BZ13: 0 | CA13: 0 | CB13: 0 | CC13: 0 | CD13: 0 | CE13: 0 | CF13: 0.5 | CG13: 0 | CH13: 0 | CI13: 0 | CJ13: 0 | CK13: 0 | CL13: 0 | CM13: 0 | CN13: 0 | CO13: ='J-TL_SEM'!#REF! -> #REF! | CP13: 0 | CQ13: 0 | CR13: 84 | CS13: 24 | CT13: 1.25 | CU13: 0.375 | CV13: 1.4375 | CW13: 0 | CX13: 17.25 | CY13: 33 | CZ13: 16.75 | DA13: ='J-TL_SEM'!H54 -> 0.75 | DB13: 0 | DC13: 0 | DD13: 7.3928571 | DE13: 2.5454545 | DF13: 0 | DG13: 1 | DH13: 0.5 | DI13: 7.25 | DJ13: 4.5032468 | DK13: 0 | DL13: ='J-TL_SEM'!S54 -> 2.75 | DM13: 0 | DN13: 2.75 | DO13: 7.5 | DP13: ='J-TL_SEM'!AA54 -> 0.875 | DQ13: 0 | DR13: 0 | DS13: 3 | DT13: 0.875 | DU13: 2.58375 | DV13: 3.4201682 | DW13: 0 | DX13: 0 | DY13: 3.0537216 | DZ13: 0.75 | EA13: 1.335 | EB13: 1.835 | EC13: 0 | ED13: 1.945 | EE13: 2.6868344 | EF13: 1.5 | EG13: 0 | EH13: 0 | EI13: 2.4801719 | EJ13: 0 | EK13: 2.3591879 | EL13: 0 | EM13: ='J-TL_SEM'!AT54 -> 1.5 | EN13: 0 | EO13: 2 | EP13: 0 | EQ13: 0 | ER13: 0 | ES13: 1.96 | ET13: 7.605 | EU13: 4.5 | EV13: 0 | EW13: 2 | EX13: 1.75 | EY13: 2 | EZ13: 11 | FA13: 1.25 | FB13: 1.25 | FC13: 1 | FD13: 0 | FE13: 0 | FF13: 1 | FG13: 1 | FH13: 3 | FI13: 0 | FJ13: 1.9423077 | FK13: 0 | FL13: 0.5 | FM13: 1.6647059 | FN13: 1.6722222 | FO13: 2.73 | FP13: 3 | FQ13: 39.405405 | FR13: 84 | FS13: 87.5 | FT13: 13.822309 | FU13: 84 | FV13: 84.75 | FW13: 84 | FX13: 84 | FY13: 47.5 | FZ13: 26.707847 | GA13: 91.5 | GB13: 88.5 | GC13: 2.445 | GD13: 2 | GE13: 0 | GF13: 0.58333333 | GG13: 0 | GH13: 0 | GI13: 0.75 | GJ13: 2 | GK13: 0 | GL13: 1.1775 | GM13: 0.77 | GN13: 0 | GO13: 0 | GP13: 2.0625 | GQ13: 0 | GR13: ='J-TL_SEM'!DA54 -> 2 | GS13: 2 | GT13: 2 | GU13: 0 | GV13: 19.20879 | GW13: 0 | GX13: 0 | GY13: 4.6666667 | GZ13: 14 | HA13: 63.45 | HB13: 30.778333 | HC13: 95.75 | HD13: 88 | HE13: 24 | HF13: 101.25 | HG13: 85.067 | HH13: 139 | HI13: 86 | HJ13: 87.4375 | HK13: 86.3 | HL13: 65.565522 | HM13: 131.25 | HN13: 86.65 | HO13: 69.610085 | HP13: 85.35375 | HQ13: 67.306923 | HR13: 64.32479 | HS13: 1.4575 | HT13: 1 | HU13: 59.066786 | HV13: 0 | HW13: 6.1 | HX13: 9 | HY13: 4 | HZ13: ='J-TL_SEM'!EG54 -> 24.1 | IA13: =AVERAGE(GW13:HZ13) -> 52.682829 | IB13: =IF(HZ13<=F13,"J",IF(HZ13>F13*2,"L","K")) -> L
B14: MEZCLADOR DE CONCRETO | C14: MTBF | F14: 30 | G14: 0.9738 | H14: 0.9449 | I14: 0.9629 | J14: 0.953 | K14: 0.8499 | L14: 0.6729 | M14: 0.888 | N14: 0.7403 | O14: 0.8895 | P14: 0.7299 | Q14: 0.73613333 | R14: 0.97933333 | S14: 0.8867 | T14: 0.95936667 | U14: 0.92066667 | V14: 0.68213333 | W14: 0.96046667 | X14: 0.90726667 | Y14: 0.91566667 | Z14: 0.78346667 | AA14: 0.83953333 | AB14: =AVERAGE(P14:AA14) -> 0.85838611 | AC14: 0.91896667 | AD14: 0.92656667 | AE14: 0.6891 | AF14: 0.6356 | AG14: 0.83771505 | AH14: 0.96396667 | AI14: 0.9527957 | AJ14: 0.7784 | AO14: 0.96929167 | AP14: 0.92041667 | AQ14: 0.91326389 | AR14: 0.93336667 | AS14: 34.760521 | BK14: 19.949167 | BL14: 30.178333 | BM14: 0 | BN14: 24.523333 | BO14: 29.028333 | BP14: 18.88 | BQ14: 8.2866667 | BR14: 31 | BS14: 21.716667 | BT14: 12.75 | BU14: 30.5 | BV14: 30.467222 | BW14: 34.643333 | BX14: 42.17 | BY14: 38.9 | BZ14: 68.46 | CA14: 84.25 | CB14: 23.27 | CC14: 44.04 | CD14: 10.923333 | CE14: 26.496667 | CF14: 23.083333 | CG14: 55.533333 | CH14: 27.633333 | CI14: 0 | CJ14: 17.8 | CK14: 31.831111 | CL14: 53.663333 | CM14: 38.72 | CN14: 34.608333 | CO14: =MX_SEM!#REF! -> #REF! | CP14: 41.111111 | CQ14: 39.838333 | CR14: 33.166667 | CS14: 43.114444 | CT14: 36.066667 | CU14: 37.86 | CV14: 36.566667 | CW14: 24.903333 | CX14: 23.3 | CY14: 34.776667 | CZ14: 27.66 | DA14: =MX_SEM!H69 -> 22.666667 | DB14: 19.94 | DC14: 10.516667 | DD14: 24.019524 | DE14: 31.666667 | DF14: 41 | DG14: 17.108333 | DH14: 31.213333 | DI14: 24.611111 | DJ14: 27.222341 | DK14: 18.846667 | DL14: =MX_SEM!S69 -> 22.833333 | DM14: 22.768333 | DN14: 30.53 | DO14: 43.95 | DP14: =MX_SEM!AA69 -> 48 | DQ14: 42.23 | DR14: 44.666667 | DS14: 38.833333 | DT14: 48 | DU14: 52.998333 | DV14: 32.042111 | DW14: 27.375 | DX14: 23.027778 | DY14: 32.239484 | DZ14: 38.996667 | EA14: 38.386667 | EB14: 42.666667 | EC14: 26.75 | ED14: 45.6 | EE14: 33.569683 | EF14: 26.996667 | EG14: 30.766667 | EH14: 10.033333 | EI14: 32.829288 | EJ14: 19.756 | EK14: 32.593453 | EL14: 32 | EM14: =MX_SEM!AT69 -> 35.335 | EN14: 10.033333 | EO14: 43.92 | EP14: 61.773333 | EQ14: 36 | ER14: 40 | ES14: 27.826667 | ET14: 22.803333 | EU14: 20.826667 | EV14: 15.61 | EW14: 31 | EX14: 29.996667 | EY14: 33 | EZ14: 32.333333 | FA14: 25.607778 | FB14: 19.918889 | FC14: 30.833333 | FD14: 47.114444 | FE14: 31.166667 | FF14: 30 | FG14: 47.272222 | FH14: 56.666667 | FI14: 26.665 | FJ14: 34.482738 | FK14: 27.333333 | FL14: 25.75 | FM14: 33.034804 | FN14: 34.704167 | FO14: 20.666667 | FP14: 49.66 | FQ14: 41.777778 | FR14: 34.833333 | FS14: 45.36 | FT14: 34.341227 | FU14: 30.448333 | FV14: 55.666667 | FW14: 30.666667 | FX14: 17.788889 | FY14: 26.333333 | FZ14: 34.479889 | GA14: 42.67 | GB14: 24.038889 | GC14: 28.173333 | GD14: 53.263333 | GE14: 59.006667 | GF14: 26.5 | GG14: 49.166667 | GH14: 60.476667 | GI14: 47.8 | GJ14: 41.666667 | GK14: 16.777778 | GL14: 26.954444 | GM14: 21.944444 | GN14: 31.391111 | GO14: 39.965 | GP14: 35.055 | GQ14: 43.356667 | GR14: =MX_SEM!DA69 -> 37.763333 | GS14: 37.763333 | GT14: 37.763333 | GU14: 11.202222 | GV14: 34.974263 | GW14: 35.1 | GX14: 45.166667 | GY14: 38.923333 | GZ14: 36.503333 | HA14: 24.668333 | HB14: 37.333333 | HC14: 36 | HD14: 50.7 | HE14: 25.83 | HF14: 22.333333 | HG14: 38.666667 | HH14: 32.67 | HI14: 26.89 | HJ14: 33.333333 | HK14: 31.5 | HL14: 18.735556 | HM14: 25.111111 | HN14: 17.173333 | HO14: 44.515 | HP14: 33.205 | HQ14: 28.75 | HR14: 54.85 | HS14: 19.334167 | HT14: 37.666667 | HU14: 33.2373 | HV14: 28.5 | HW14: 50 | HX14: 36.586667 | HY14: 30.666667 | HZ14: =MX_SEM!EH69 -> 35.333333 | IA14: =AVERAGE(GW14:HZ14) -> 33.642771 | IB14: =IF(HZ14>=F14,"J",IF(HZ14>F14/2,"K","L")) -> J
C15: MTTR | F15: 4 | G15: 0.2396 | H15: 0.2498 | I15: 0.2253 | J15: 0.1967 | K15: 0.2111 | L15: 0.2144 | M15: 0.4133 | N15: 0.3144 | O15: 0.2948 | P15: 0.23653333 | Q15: 0.2849 | R15: 0.23686667 | S15: 0.2956 | T15: 0.22673333 | U15: 0.26933333 | V15: 0.24236667 | W15: 0.2142 | X15: 0.31236667 | Y15: 0.31456667 | Z15: 0.3495 | AA15: 0.3055 | AB15: =AVERAGE(P15:AA15) -> 0.27403889 | AC15: 0.296 | AD15: 0.20706667 | AE15: 0.27456667 | AF15: 0.28146667 | AG15: 0.29663178 | AH15: 0.263 | AI15: 0.28863644 | AJ15: 0.3199 | AO15: 0.29858356 | AP15: 0.31626236 | AQ15: 0.31915192 | AR15: 0.30153333 | AS15: 6.3976889 | BK15: 6.3125 | BL15: 3 | BM15: 0 | BN15: 2.5 | BO15: 0.66666667 | BP15: 5.6022222 | BQ15: 3.7991667 | BR15: 0.5 | BS15: 3.8891667 | BT15: 13.638333 | BU15: 2.3333333 | BV15: 6.2902778 | BW15: 1 | BX15: 1.6116667 | BY15: 11.166667 | BZ15: 2.8333333 | CA15: 5.75 | CB15: 36.666667 | CC15: 14.333333 | CD15: 3.2 | CE15: 2.0566667 | CF15: 1.8333333 | CG15: 1.1666667 | CH15: 28.223333 | CI15: 0.83333333 | CJ15: 1.6666667 | CK15: 9.8333333 | CL15: 17.5 | CM15: 1.4166667 | CN15: 0.91666667 | CO15: =MX_SEM!#REF! -> #REF! | CP15: 2.3611111 | CQ15: 0.16666667 | CR15: 0.75 | CS15: 2.1388889 | CT15: 1.6666667 | CU15: 0 | CV15: 2 | CW15: 1.5 | CX15: 17.25 | CY15: 0.89 | CZ15: 6.5466667 | DA15: =MX_SEM!H70 -> 16.09 | DB15: 3.5555556 | DC15: 1.1666667 | DD15: 6.2074603 | DE15: 1.3466667 | DF15: 2.7233333 | DG15: 2.125 | DH15: 6.6666667 | DI15: 5.3333333 | DJ15: 4.5145635 | DK15: 0.33333333 | DL15: =MX_SEM!S70 -> 3.322 | DM15: 2 | DN15: 0.91666667 | DO15: 4.1666667 | DP15: =MX_SEM!AA70 -> 1 | DQ15: 1.1666667 | DR15: 1.0833333 | DS15: 2.1666667 | DT15: 1 | DU15: 0.79166667 | DV15: 3.5899022 | DW15: 1.125 | DX15: 16.445556 | DY15: 3.9280278 | DZ15: 3 | EA15: 0.66666667 | EB15: 0 | EC15: 4.25 | ED15: 25.333333 | EE15: 4.451946 | EF15: 4.5266667 | EG15: 8.625 | EH15: 1.2196667 | EI15: 4.4364815 | EJ15: 2.4916667 | EK15: 4.3757182 | EL15: 6 | EM15: =MX_SEM!AT70 -> 1.555 | EN15: 1.2196667 | EO15: 16.973333 | EP15: 10.166667 | EQ15: 1.4444444 | ER15: 0 | ES15: 7.795 | ET15: 3 | EU15: 5.3333333 | EV15: 0.5 | EW15: 1.5566667 | EX15: 2 | EY15: 5.25 | EZ15: 1.5 | FA15: 5.4722222 | FB15: 1.8888889 | FC15: 1.8944444 | FD15: 6.5555556 | FE15: 1.4716667 | FF15: 3.1333333 | FG15: 2 | FH15: 17.3 | FI15: 5.0555556 | FJ15: 4.2615476 | FK15: 0 | FL15: 1.7994444 | FM15: 3.7212092 | FN15: 3.516358 | FO15: 8.0066667 | FP15: 0.55555556 | FQ15: 4.2222222 | FR15: 2.5283333 | FS15: 1.11 | FT15: 3.4819444 | FU15: 1.1522222 | FV15: 8.0833333 | FW15: 25.25 | FX15: 6.9883333 | FY15: 0.91666667 | FZ15: 4.2152407 | GA15: 6.1666667 | GB15: 3.8022222 | GC15: 3.4427778 | GD15: 2.3333333 | GE15: 7 | GF15: 2 | GG15: 0.66666667 | GH15: 0 | GI15: 0 | GJ15: 53.1 | GK15: 57.319444 | GL15: 12 | GM15: 1.5422222 | GN15: 1.8333333 | GO15: 3.1666667 | GP15: 2.1777778 | GQ15: 24.666667 | GR15: =MX_SEM!DA70 -> 2 | GS15: 2 | GT15: 2 | GU15: 2.8047222 | GV15: 6.3254647 | GW15: 7 | GX15: 4.3616667 | GY15: 4.1761111 | GZ15: 1.1666667 | HA15: 0.83333333 | HB15: 4 | HC15: 0.66666667 | HD15: 3.8666667 | HE15: 0.72166667 | HF15: 5 | HG15: 1.5 | HH15: 2.33 | HI15: 3.67 | HJ15: 0 | HK15: 5.0833333 | HL15: 31.944444 | HM15: 6.5744444 | HN15: 32.666667 | HO15: 1.5 | HP15: 0.1875 | HQ15: 6.21 | HR15: 0.3 | HS15: 5.0141667 | HT15: 48.333333 | HU15: 9.2585556 | HV15: 4.4333333 | HW15: 2 | HX15: 2.7666667 | HY15: 1.7333333 | HZ15: =MX_SEM!EH70 -> 0.66666667 | IA15: =AVERAGE(GW15:HZ15) -> 6.5988407 | IB15: =IF(HZ15<=F15,"J",IF(HZ15>F15*2,"L","K")) -> J
B16: CARGADORES DE ANFO | C16: MTBF | F16: 30 | G16: 0.9514 | H16: 0.8294 | I16: 0.9604 | J16: 0.908 | K16: 0.9524 | L16: 0.7364 | M16: 0.9036 | N16: 0.9482 | O16: 0.913 | P16: 0.6341 | Q16: 0.60943333 | R16: 0.60256667 | S16: 0.63946667 | T16: 0.62193333 | U16: 0.62633333 | V16: 0.63586667 | W16: 0.89293333 | X16: 0.94423333 | Y16: 0.88603333 | Z16: 0.93153333 | AA16: 0.9458 | AB16: =AVERAGE(P16:AA16) -> 0.74751944 | AC16: 0.89933333 | AD16: 0.81453333 | AE16: 0.85613333 | AF16: 0.67156667 | AG16: 0.9578853 | AH16: 0.8779 | AI16: 0.95339606 | AJ16: 0.97186667 | AO16: 0.95588889 | AP16: 0.63952509 | AQ16: 0.61354167 | AR16: 0.77496667 | AS16: 3.415216 | BK16: 2.3431722 | BL16: 2.0598125 | BM16: 0 | BN16: 6.5222222 | BO16: 7.1302778 | BP16: 5.9686667 | BQ16: 3.6467494 | BR16: 5.6275253 | BS16: 7.5466667 | BT16: 2.8569065 | BU16: 7.615 | BV16: 8.8308333 | BW16: 1.4272579 | BX16: 2.1249828 | BY16: 0.69476654 | BZ16: 82.335 | CA16: 71.444444 | CB16: 1.7776728 | CC16: 3.2355434 | CD16: 0.82261824 | CE16: 1.2601632 | CF16: 5.2103376 | CG16: 4.4545953 | CH16: 1.2917013 | CI16: 2.2394422 | CJ16: 0.40628212 | CK16: 0.84518378 | CL16: 3.6847615 | CM16: 8.31 | CN16: 6.3754611 | CO16: =AF_SEM!#REF! -> #REF! | CP16: 5.2868112 | CQ16: 30 | CR16: 0.3319928 | CS16: 2.5284212 | CT16: 2.8282038 | CU16: 30 | CV16: 1.9589372 | CW16: 1.3381134 | CX16: 3.4866746 | CY16: 0.75039354 | CZ16: 1.8583938 | DA16: =AF_SEM!H52 -> 0.066666667 | DB16: 1.5116279 | DC16: 6.6559044 | DD16: 2.1681151 | DE16: 0.81081081 | DF16: 1.0645161 | DG16: 2.5462963 | DH16: 1.9968949 | DI16: 1.5128159 | DJ16: 2.0933889 | DK16: 0.92225519 | DL16: =AF_SEM!S52 -> 4.2141554 | DM16: 4.7220884 | DN16: 2.3187351 | DO16: 2.1057615 | DP16: =AF_SEM!AA52 -> 3.6564667 | DQ16: 2.4124309 | DR16: 1.992885 | DS16: 1.992885 | DT16: 3.6564667 | DU16: 4.6738196 | DV16: 2.5911979 | DW16: 3.7183797 | DX16: 4.2758425 | DY16: 2.7837519 | DZ16: 8.1083437 | EA16: 3.721907 | EB16: 3.0118815 | EC16: 2.3719286 | ED16: 4.0534188 | EE16: 2.9413243 | EF16: 0.85773907 | EG16: 4.9766672 | EH16: 1.2279241 | EI16: 2.8469492 | EJ16: 6.8874171 | EK16: 2.9113833 | EL16: 2.8146131 | EM16: =AF_SEM!AT52 -> 4.4463399 | EN16: 1.2279241 | EO16: 5.8513914 | EP16: 5.0908772 | EQ16: 5.1477496 | ER16: 2.3108486 | ES16: 3.4632923 | ET16: 3.0896198 | EU16: 4.3159041 | EV16: 4.8913624 | EW16: 4.0165078 | EX16: 4.5275582 | EY16: 1.6909025 | EZ16: 4.8041958 | FA16: 5.954235 | FB16: 2.9778191 | FC16: 6.2258439 | FD16: 4.1641154 | FE16: 6.5201018 | FF16: 2.5233059 | FG16: 4.323833 | FH16: 3.0605333 | FI16: 2.4899415 | FJ16: 3.5649486 | FK16: 2.8404692 | FL16: 1.6498931 | FM16: 3.2612626 | FN16: 3.3865145 | FO16: 2.7757292 | FP16: 1.4933583 | FQ16: 3.5545011 | FR16: 3.2977828 | FS16: 1.3641882 | FT16: 3.2938155 | FU16: 2.153084 | FV16: 1.387811 | FW16: 1.0589599 | FX16: 2.2023639 | FY16: 1.1208874 | FZ16: 3.0496501 | GA16: 3.8823686 | GB16: 2.1699719 | GC16: 5.1441338 | GD16: 4.9361425 | GE16: 5.5613663 | GF16: 1.5257941 | GG16: 5.993209 | GH16: 3.195112 | GI16: 1.3354168 | GJ16: 3.8802512 | GK16: 3.1463067 | GL16: 2.1150097 | GM16: 1.4680501 | GN16: 3.8286275 | GO16: 3.1046754 | GP16: 1.6567767 | GQ16: 6.0683409 | GR16: =AF_SEM!DA52 -> 6.5412429 | GS16: 6.5412429 | GT16: 6.5412429 | GU16: 3.5244989 | GV16: 3.415391 | GW16: 2.6127306 | GX16: 1.4824239 | GY16: 2.36595 | GZ16: 3.0026956 | HA16: 1.4371636 | HB16: 2.031921 | HC16: 2.6147112 | HD16: 1.8505421 | HE16: 3.4056452 | HF16: 2.8137255 | HG16: 0.81418528 | HH16: 4.56 | HI16: 5.21 | HJ16: 1.2570854 | HK16: 2.5309997 | HL16: 3.9694077 | HM16: 3.8839984 | HN16: 3.3157074 | HO16: 2.2755925 | HP16: 2.0755832 | HQ16: 1.3923611 | HR16: 3.9878457 | HS16: 3.6992221 | HT16: 5.2439118 | HU16: 2.8239671 | HV16: 2.4964614 | HW16: 4.3430668 | HX16: 1.569849 | HY16: 1.3001308 | HZ16: =AF_SEM!EH52 -> 1.3139632 | IA16: =AVERAGE(GW16:HZ16) -> 2.7226949 | IB16: =IF(HZ16>=F16,"J",IF(HZ16>F16/2,"K","L")) -> L
C17: MTTR | F17: 4 | G17: 0.1853 | H17: 0.1719 | I17: 0.1474 | J17: 0.0795 | K17: 0.1052 | L17: 0.0923 | M17: 0.1035 | N17: 0.1098 | O17: 0.0923 | P17: 0.070966667 | Q17: 0.067333333 | R17: 0.1221 | S17: 0.0671 | T17: 0.070866667 | U17: 0.087333333 | V17: 0.092766667 | W17: 0.1036 | X17: 0.07 | Y17: 0.069733333 | Z17: 0.0768 | AA17: 0.0725 | AB17: =AVERAGE(P17:AA17) -> 0.080925 | AC17: 0.067933333 | AD17: 0.072133333 | AE17: 0.030366667 | AF17: 0.032066667 | AG17: 0.028786982 | AH17: 0.030733333 | AI17: 0.03739813 | AJ17: 0.035366667 | AO17: 0.02897434 | AP17: 0.050918122 | AQ17: 0.089328154 | AR17: 0.0299 | AS17: 22.932823 | BK17: 3.4336508 | BL17: 3.7953333 | BM17: 0 | BN17: 1.0822222 | BO17: 2.8680556 | BP17: 3.5336667 | BQ17: 1.2726667 | BR17: 2.2233333 | BS17: 2.6666667 | BT17: 0.87888889 | BU17: 1.8333333 | BV17: 15.985556 | BW17: 2.8238889 | BX17: 4.8333333 | BY17: 1.0191667 | BZ17: 1.2216667 | CA17: 8.3888889 | CB17: 1.125 | CC17: 4.4244444 | CD17: 2.16 | CE17: 2.5366667 | CF17: 4.9166667 | CG17: 6.555 | CH17: 1.4861111 | CI17: 0 | CJ17: 1.0558333 | CK17: 1.5555556 | CL17: 58.333333 | CM17: 20.083333 | CN17: 19 | CO17: =AF_SEM!#REF! -> #REF! | CP17: 3.1666667 | CQ17: 2 | CR17: 1.1904762 | CS17: 36 | CT17: 60.723333 | CU17: 2 | CV17: 1.5833333 | CW17: 55.496667 | CX17: 8.2777778 | CY17: 1.6666667 | CZ17: 21.813704 | DA17: =AF_SEM!H53 -> 2 | DB17: 2.6666667 | DC17: 8.4466667 | DD17: 11.360159 | DE17: 7.9444444 | DF17: 3.6666667 | DG17: 2.8333333 | DH17: 5.6216667 | DI17: 6.7916667 | DJ17: 8.595119 | DK17: 6.9261111 | DL17: =AF_SEM!S53 -> 13.229167 | DM17: 4.4166667 | DN17: 9.6666667 | DO17: 1.6577778 | DP17: =AF_SEM!AA53 -> 13.602222 | DQ17: 2.5272222 | DR17: 2.6555556 | DS17: 34.370556 | DT17: 13.602222 | DU17: 2.5 | DV17: 9.1149889 | DW17: 2 | DX17: 43.702222 | DY17: 9.8906647 | DZ17: 56.666667 | EA17: 62.778333 | EB17: 57.195 | EC17: 57.056667 | ED17: 63.101111 | EE17: 19.720094 | EF17: 25.805278 | EG17: 6.828 | EH17: 6.0326667 | EI17: 18.750315 | EJ17: 9.1666667 | EK17: 18.261722 | EL17: 32.370556 | EM17: =AF_SEM!AT53 -> 3.0555556 | EN17: 6.0326667 | EO17: 10.221667 | EP17: 3.5 | EQ17: 12.764167 | ER17: 4.2938889 | ES17: 3.6666667 | ET17: 0.75583333 | EU17: 15.733333 | EV17: 3.585 | EW17: 7.5825 | EX17: 11.35 | EY17: 7.333 | EZ17: 2.085 | FA17: 3.605 | FB17: 28.75 | FC17: =AF_SEM!BJ53 -> 1.4053333 | FD17: 3.1666667 | FE17: 60.45 | FF17: 58.36 | FG17: 58.718889 | FH17: 19.083333 | FI17: 7.4725 | FJ17: 22.76754 | FK17: 60 | FL17: 5.8466667 | FM17: 22.765229 | FN17: 21.620864 | FO17: 1.6428571 | FP17: 3.6666667 | FQ17: 1.8333333 | FR17: 1.1666667 | FS17: 3.3611111 | FT17: 16.868591 | FU17: 0.875 | FV17: 5.4916667 | FW17: 2.22 | FX17: 5.1580556 | FY17: 1.6175 | FZ17: 14.120836 | GA17: 9.1666667 | GB17: 23.388889 | GC17: 2.4733333 | GD17: 5.8333333 | GE17: 7.1666667 | GF17: 1.7127778 | GG17: 6.6666667 | GH17: 1.2083333 | GI17: 4.0136905 | GJ17: 52.333333 | GK17: 61.666667 | GL17: 11.441944 | GM17: 57.2225 | GN17: 59.166667 | GO17: 56.883333 | GP17: 58.296667 | GQ17: 62.666667 | GR17: =AF_SEM!DA53 -> 56.666667 | GS17: 56.666667 | GT17: 56.666667 | GU17: 56.75 | GV17: 22.990511 | GW17: 58.25 | GX17: 57.390635 | GY17: 57.635767 | GZ17: 57.266667 | HA17: 1.6875 | HB17: 5.2444444 | HC17: 61.5 | HD17: 62.661111 | HE17: 56.421667 | HF17: 56.333333 | HG17: 21.963704 | HH17: 40 | HI17: 4.9 | HJ17: 6.0316667 | HK17: 17.75 | HL17: 11.433333 | HM17: 10.514167 | HN17: 4.5888889 | HO17: 2.2555556 | HP17: 3.122 | HQ17: 51.968889 | HR17: 64.265 | HS17: 58.295833 | HT17: 61.930833 | HU17: 34.344801 | HV17: 56.526667 | HW17: 57.5 | HX17: 57.378333 | HY17: 57.316667 | HZ17: =AF_SEM!EH53 -> 57.526389 | IA17: =AVERAGE(GW17:HZ17) -> 38.466795 | IB17: =IF(HZ17<=F17,"J",IF(HZ17>F17*2,"L","K")) -> L
B18: LANZADOR DE CONCRETO | C18: MTBF | F18: 30 | G18: 0.8802 | H18: 0.8029 | I18: 0.8778 | J18: 0.95 | K18: 0.794 | L18: 0.5388 | M18: 0.9258 | N18: 0.9366 | O18: 0.8257 | P18: 0.9236 | Q18: 0.90045 | R18: 0.65935 | S18: 0.9361 | T18: 0.87145 | U18: 0.838 | V18: 0.94525 | W18: 0.88945 | X18: 0.9247 | Y18: 0.93115 | Z18: 0.7292 | AA18: 0.9114 | AB18: =AVERAGE(P18:AA18) -> 0.871675 | AC18: 0.928 | AD18: 0.9206 | AE18: 0.8616 | AF18: 0.78735 | AG18: 0.8772379 | AH18: 0.94265 | AI18: 0.93299059 | AJ18: 0.9236 | AO18: 0.89507639 | AP18: 0.76038082 | AQ18: 0.95208976 | AR18: 0.9547 | AS18: 5.69548 | BK18: 10.002365 | BL18: 2.0766399 | BM18: 0 | BN18: 14.2 | BO18: 10.4825 | BP18: 12.483333 | BQ18: 4.8411215 | BR18: 6.8066754 | BS18: 16.39 | BT18: 4.3193706 | BU18: 12.023333 | BV18: 33.095 | BW18: 5.3398241 | BX18: 5.4780336 | BY18: 5.2907022 | BZ18: 14.85 | CA18: 33.5 | CB18: 3.7423957 | CC18: 6.9827571 | CD18: 5.9813467 | CE18: 4.2723799 | CF18: 2.3368177 | CG18: 11.439681 | CH18: 5.3160173 | CI18: 0 | CJ18: 3.9528694 | CK18: 4.3379761 | CL18: 9.1836621 | CM18: 25.2225 | CN18: 8.1403634 | CO18: =LC_SEM!#REF! -> #REF! | CP18: 10.054129 | CQ18: 30 | CR18: 5.8266941 | CS18: 2.7838426 | CT18: 1.114881 | CU18: 30 | CV18: 4.222276 | CW18: 0.98096886 | CX18: 4.8030324 | CY18: 7.0675595 | CZ18: 4.2838536 | DA18: =LC_SEM!H52 -> 6.9365275 | DB18: 4.0147059 | DC18: 1.0515177 | DD18: 4.3744866 | DE18: 3.9126984 | DF18: 2.9697383 | DG18: 4.0007957 | DH18: 4.4249831 | DI18: 3.3744444 | DJ18: 3.7181295 | DK18: 2.3957805 | DL18: =LC_SEM!S52 -> 7.4892088 | DM18: 5.7865021 | DN18: 2.4427394 | DO18: 2.9265432 | DP18: =LC_SEM!AA52 -> 4.6509366 | DQ18: 6.8166939 | DR18: 3.5935624 | DS18: 8.0035018 | DT18: 4.6509366 | DU18: 6.7347619 | DV18: 4.615076 | DW18: 6.0031746 | DX18: 4.7299335 | DY18: 4.7919469 | DZ18: 3.1934524 | EA18: 8.2933547 | EB18: 9.7626775 | EC18: 6.3666667 | ED18: 5.8395408 | EE18: 5.2463066 | EF18: 10.963008 | EG18: 8.9558824 | EH18: 2.7041063 | EI18: 5.5363758 | EJ18: 5.8270155 | EK18: 5.5903263 | EL18: 4.9007937 | EM18: =LC_SEM!AT52 -> 4.5895946 | EN18: 2.7041063 | EO18: 6.4662069 | EP18: 8.3439815 | EQ18: 3.7124183 | ER18: 3.748951 | ES18: 2.6863269 | ET18: 5.037244 | EU18: 7.717896 | EV18: 2.8695692 | EW18: 8.8468484 | EX18: 7.0673458 | EY18: 4.9358512 | EZ18: 5.6170318 | FA18: 4.1026175 | FB18: 2.9111012 | FC18: 2.1746862 | FD18: 5.4033808 | FE18: 5.2952319 | FF18: 6.1701791 | FG18: 2.2767344 | FH18: 8.7794402 | FI18: 7.8017473 | FJ18: 5.3629098 | FK18: 3.0483678 | FL18: 7.6267293 | FM18: 5.1949985 | FN18: 5.228322 | FO18: 2.5092012 | FP18: 2.621175 | FQ18: 9.2355651 | FR18: 4.8466769 | FS18: 5.2055056 | FT18: 5.1173534 | FU18: 4.0348022 | FV18: 3.7607035 | FW18: 12.581934 | FX18: 5.3881476 | FY18: 3.6014652 | FZ18: 5.1938563 | GA18: 7.7402146 | GB18: 14.059063 | GC18: 3.8370221 | GD18: 6.028887 | GE18: 6.5987608 | GF18: 2.3431885 | GG18: 5.1876276 | GH18: 13.075024 | GI18: 3.566358 | GJ18: 3.2820891 | GK18: 4.5495401 | GL18: 3.2333333 | GM18: 6.2565497 | GN18: 15.303613 | GO18: 9.1769231 | GP18: 1.5984375 | GQ18: 11.872448 | GR18: =LC_SEM!DA52 -> 3.7844598 | GS18: 3.7844598 | GT18: 3.7844598 | GU18: 1.7407464 | GV18: 5.5521255 | GW18: 5.3945725 | GX18: 3.7853565 | GY18: 5.5817718 | GZ18: 10.790645 | HA18: 5.1083859 | HB18: 8.9539355 | HC18: 11.706522 | HD18: 4.0107801 | HE18: 2.0632576 | HF18: 3.9483117 | HG18: 4.2372208 | HH18: 8.76 | HI18: 8.08 | HJ18: 3.0699472 | HK18: 2.9137701 | HL18: 7.6365223 | HM18: 5.6227679 | HN18: 3.0387347 | HO18: 3.7351476 | HP18: 2.6714799 | HQ18: 8.5139775 | HR18: 9.3921997 | HS18: 1.5435319 | HT18: 7.4801463 | HU18: 9.0827753 | HV18: 1.674505 | HW18: 3.3497475 | HX18: 5.1228783 | HY18: 7.9899018 | HZ18: =LC_SEM!EH52 -> 2.1642191 | IA18: =AVERAGE(GW18:HZ18) -> 5.580767 | IB18: =IF(HZ18>=F18,"J",IF(HZ18>F18/2,"K","L")) -> L
C19: MTTR | F19: 4 | G19: 0.1479 | H19: 0.1551 | I19: 0.1593 | J19: 0.0503 | K19: 0.0565 | L19: 0.0607 | M19: 0.0533 | N19: 0.0744 | O19: 0.0679 | P19: 0.053 | Q19: 0.111 | R19: 0.1332 | S19: 0.10085 | T19: 0.08345 | U19: 0.241 | V19: 0.14555 | W19: 0.0686 | X19: 0.13655 | Y19: 0.1272 | Z19: 0.15055 | AA19: 0.1579 | AB19: =AVERAGE(P19:AA19) -> 0.1257375 | AC19: 0.16645 | AD19: 0.132 | AE19: 0.0521 | AF19: 0.06105 | AG19: 0.060311196 | AH19: 0.04925 | AI19: 0.07634319 | AJ19: 0.07405 | AO19: 0.039425673 | AP19: 0.036110523 | AQ19: 0.015925435 | AR19: 0.0264 | AS19: 12.951789 | BK19: 1.5 | BL19: 42.6875 | BM19: 4.5 | BN19: 15.25 | BO19: 9.5 | BP19: 14.9175 | BQ19: 9 | BR19: 9.25 | BS19: 1 | BT19: 35.29 | BU19: 2 | BV19: 4.25 | BW19: 3.125 | BX19: 2.5 | BY19: 5.725 | BZ19: 1.95 | CA19: 8 | CB19: 3.4166667 | CC19: 1.5 | CD19: 2.5425 | CE19: 4.075 | CF19: 5.6383333 | CG19: 6 | CH19: 21.085 | CI19: 0 | CJ19: 0 | CK19: 11 | CL19: 17 | CM19: 7.875 | CN19: 12.55 | CO19: =LC_SEM!#REF! -> #REF! | CP19: 5.8 | CQ19: 2 | CR19: 19.04125 | CS19: 19.666667 | CT19: 87.048333 | CU19: 2 | CV19: 8.4166667 | CW19: 9.25 | CX19: 7.835 | CY19: 12.875 | CZ19: 9.9866667 | DA19: =LC_SEM!H53 -> 9.835 | DB19: 22.5 | DC19: 56.59875 | DD19: 17.065179 | DE19: 84.335 | DF19: 19.326667 | DG19: 4.25 | DH19: 9.25 | DI19: 9.306 | DJ19: 22.557929 | DK19: 4.1770833 | DL19: =LC_SEM!S53 -> 2.9175 | DM19: 14.8125 | DN19: 7.865 | DO19: 4.372 | DP19: =LC_SEM!AA53 -> 13.875 | DQ19: 6.5 | DR19: 4.8541667 | DS19: 6.8125 | DT19: 13.875 | DU19: 5.64625 | DV19: 16.165837 | DW19: 4.5 | DX19: 1.7083333 | DY19: 14.860241 | DZ19: 2.875 | EA19: 29.46 | EB19: 19.4075 | EC19: 2.5 | ED19: 7.5425 | EE19: 14.32305 | EF19: 1 | EG19: 3.25 | EH19: 33.392 | EI19: 13.989071 | EJ19: 3.8466667 | EK19: 13.430335 | EL19: 1.75 | EM19: =LC_SEM!AT53 -> 4.6125 | EN19: 33.392 | EO19: 12.915 | EP19: 0.8325 | EQ19: 5.9795833 | ER19: 4.6875 | ES19: 11.0425 | ET19: 1.8425 | EU19: 6.7997572 | EV19: 2.5075 | EW19: 5.335 | EX19: 2 | EY19: 2.325 | EZ19: 7.0625 | FA19: 15.416667 | FB19: 18.028333 | FC19: 84.65625 | FD19: 10.166667 | FE19: 6.2083333 | FF19: 5.89625 | FG19: 10.933333 | FH19: 5.277197 | FI19: 2.875 | FJ19: 13.062895 | FK19: 4.8333333 | FL19: 8.5833333 | FM19: 11.78611 | FN19: 11.184104 | FO19: 3.0355 | FP19: 6.75 | FQ19: 3 | FR19: 6.975 | FS19: 3.575 | FT19: 9.4645568 | FU19: 3.0095 | FV19: 4.88 | FW19: 1.375 | FX19: 9.7916667 | FY19: 3.9583333 | FZ19: 8.4151843 | GA19: 8.25 | GB19: 3.5 | GC19: 60.155 | GD19: 37.083333 | GE19: 5.5416667 | GF19: 2.3605 | GG19: 3.5125 | GH19: 13 | GI19: 6.82 | GJ19: 5.2816667 | GK19: 9.5625 | GL19: 4.78125 | GM19: 6.575 | GN19: 0 | GO19: 13 | GP19: 70.16 | GQ19: 10.5 | GR19: =LC_SEM!DA53 -> 49.5 | GS19: 49.5 | GT19: 49.5 | GU19: 6.536875 | GV19: 13.346009 | GW19: 13.638689 | GX19: 3.3183333 | GY19: 6.0088889 | GZ19: 5.5 | HA19: 6.95 | HB19: 8.4716667 | HC19: 1 | HD19: 9.89 | HE19: 6.0558333 | HF19: 3.85 | HG19: 4.5216667 | HH19: 8.75 | HI19: 15.17 | HJ19: 1.45 | HK19: 2.775 | HL19: 0.58333333 | HM19: 1.56125 | HN19: 1.25 | HO19: 3.675 | HP19: 6.035 | HQ19: 21.125 | HR19: 2.2925 | HS19: 4.9058333 | HT19: 8.7616667 | HU19: 5.298559 | HV19: 1.6083333 | HW19: 12.861667 | HX19: 1.875 | HY19: 1.675 | HZ19: =LC_SEM!EH53 -> 7.1966667 | IA19: =AVERAGE(GW19:HZ19) -> 5.9351629 | IB19: =IF(HZ19<=F19,"J",IF(HZ19>F19*2,"L","K")) -> K
CA22: Q
B31: =C3 -> PROMEDIOS GENERALES EQUIPOS PRODUCCION DE MTBF / MTTR SEM 30
B32: TIPO | C32: KPI | D32: UM | E32: PROM 2017 | F32: OBI. | G32: ABRIL | H32: MAYO | I32: JUNIO | J32: JULIO | K32: AGOSTO | L32: SETIEMBRE | M32: OCTUBRE | N32: NOVIEMBRE | O32: DICIEMBRE | P32: ENE | Q32: FEB | R32: MAR | S32: ABR | T32: MAY | U32: JUN | V32: JUL | W32: AGO | X32: SEP | Y32: OCT | Z32: NOV | AA32: DIC | AB32: PROM 2018 | AC32: ENE | AD32: FEB | AE32: MAR | AF32: ABR | AG32: MAY | AH32: JUN | AI32: JUL | AJ32: AGO | AK32: SEP | AL32: OCT | AM32: NOV | AN32: DIC | AO32: SEP | AP32: OCT | AQ32: NOV | AR32: DIC | AS32: PROM 2023 | AT32: SEM 01 | AU32: FEB | AV32: MAR | AW32: JUL | AX32: AGO | AY32: SEP | AZ32: OCT | BA32: NOV | BB32: DIC | BC32: SEM 02 | BD32: SEM 03 | BE32: SEM 04 | BF32: SEM 05 | BG32: SEM 06 | BH32: SEM 07 | BI32: SEM 08 | BJ32: SEM 09 | BK32: SEM 10 | BL32: SEM 11 | BM32: SEM 17 | BN32: SEM 18 | BO32: SEM 19 | BP32: SEM 20 | BQ32: SEM 21 | BR32: SEM 22 | BS32: SEM 23 | BT32: SEM 24 | BU32: SEM 25 | BV32: SEM 26 | BW32: SEM 27 | BX32: SEM 28 | BY32: SEM 29 | BZ32: SEM 30 | CA32: SEM 31 | CB32: SEM 32 | CC32: SEM 33 | CD32: SEM 34 | CE32: SEM 35 | CF32: SEM 36 | CG32: SEM 37 | CH32: SEM 38 | CI32: SEM 39 | CJ32: SEM 40 | CK32: SEM 41 | CL32: SEM 42 | CM32: SEM 43 | CN32: SEM 44 | CO32: SEM 45 | CP32: SEM 46 | CQ32: SEM 47 | CR32: SEM 48 | CS32: SEM 49 | CT32: SEM 50 | CU32: SEM 51 | CV32: SEM 52 | CW32: SEM 01 | CX32: SEM 02 | CY32: SEM 03 | CZ32: SEM 04 | DA32: SEM 05 | DB32: SEM 06 | DC32: SEM 07 | DD32: SEM 08 | DE32: SEM 09 | DF32: SEM 10 | DG32: SEM 11 | DH32: SEM 12 | DI32: SEM 13 | DJ32: SEM 14 | DK32: SEM 15 | DL32: SEM 16 | DM32: SEM 17 | DN32: SEM 18 | DO32: SEM 19 | DP32: SEM 20 | DQ32: SEM 21 | DR32: SEM 22 | DS32: SEM 23 | DT32: SEM 24 | DU32: SEM 25 | DV32: SEM 26 | DW32: SEM 27 | DX32: SEM 28 | DY32: SEM 29 | DZ32: SEM 30 | EA32: SEM 31 | EB32: SEM 32 | EC32: SEM 33 | ED32: SEM 34 | EE32: SEM 35 | EF32: SEM 36 | EG32: SEM 37 | EH32: SEM 38 | EI32: SEM 39 | EJ32: SEM 40 | EK32: SEM 41 | EL32: SEM 42 | EM32: SEM 43 | EN32: SEM 44 | EO32: SEM 45 | EP32: SEM 46 | EQ32: SEM 47 | ER32: SEM 48 | ES32: SEM 49 | ET32: SEM 50 | EU32: SEM 51 | EV32: SEM 52 | EW32: SEM 01 | EX32: SEM 02 | EY32: SEM 03 | EZ32: SEM 04 | FA32: SEM 05 | FB32: SEM 06 | FC32: SEM 07 | FD32: SEM 08 | FE32: SEM 09 | FF32: SEM 10 | FG32: SEM 11 | FH32: SEM 12 | FI32: SEM 13 | FJ32: SEM 14 | FK32: SEM 15 | FL32: SEM 16 | FM32: SEM 17 | FN32: SEM 18 | FO32: SEM 19 | FP32: SEM 20 | FQ32: SEM 21 | FR32: SEM 22 | FS32: SEM 23 | FT32: SEM 24 | FU32: SEM 25 | FV32: SEM 26 | FW32: SEM 27 | FX32: SEM 28 | FY32: SEM 29 | FZ32: SEM 30 | GA32: SEM 31 | GB32: SEM 32 | GC32: SEM 33 | GD32: SEM 34 | GE32: SEM 35 | GF32: SEM 36 | GG32: SEM 37 | GH32: SEM 38 | GI32: SEM 39 | GJ32: SEM 40 | GK32: SEM 41 | GL32: SEM 42 | GM32: SEM 43 | GN32: SEM 44 | GO32: SEM 45 | GP32: SEM 46 | GQ32: SEM 47 | GR32: SEM 48 | GS32: SEM 49 | GT32: SEM 50 | GU32: SEM 51 | GV32: SEM 52 | GW32: SEM 01 | GX32: SEM 02 | GY32: SEM 03 | GZ32: SEM 04 | HA32: SEM 05 | HB32: SEM 06 | HC32: SEM 07 | HD32: SEM 08 | HE32: SEM 09 | HF32: SEM 10 | HG32: SEM 11 | HH32: SEM 12 | HI32: SEM 13 | HJ32: SEM 14 | HK32: SEM 15 | HL32: SEM 16 | HM32: SEM 17 | HN32: SEM 18 | HO32: SEM 19 | HP32: SEM 20 | HQ32: SEM 21 | HR32: SEM 22 | HS32: SEM 23 | HT32: SEM 24 | HU32: SEM 25 | HV32: SEM 26 | HW32: SEM 27 | HX32: SEM 28 | HY32: SEM 29 | HZ32: SEM 30 | IA32: PROM 2024 | IB32: STATUS
B33: SCOOPTRAMS - SERVICIOS | C33: MTBF | F33: 50 | G33: 0.9786 | H33: 0.9628 | I33: 0.9 | J33: 0.793 | K33: 0.9523 | L33: 0.9535 | M33: 0.7816 | N33: 0.7663 | O33: 0.4585 | P33: 0.75545 | Q33: 0.97785 | R33: 0.9048 | S33: 0.9674 | T33: 0.7252 | U33: 0.905 | V33: 0.9718 | W33: 0.90435 | X33: 0.86345 | Y33: 0.94315 | Z33: 0.95125 | AA33: 0.6953 | AB33: =AVERAGE(P33:AA33) -> 0.88041667 | AC33: 0.4868 | AD33: 0.7056 | AE33: 0.8712 | AF33: 0.48505 | AG33: 0.68379704 | AH33: 0.9565 | AI33: 0.97580645 | AJ33: 0.88015 | AO33: 0.50972222 | AP33: 0.91274866 | AQ33: 0.98472222 | AR33: 0.98095 | AS33: 2.259489 | BK33: 24.08 | BL33: 3.44 | BM33: 0 | BN33: 6.7733333 | BO33: 42 | BP33: 25.6 | BQ33: 20 | BR33: 34.5 | BS33: 0 | BT33: 5.8 | BU33: 14.1 | BV33: 9.78 | BW33: 4 | BX33: 22.47 | BY33: 3.21 | BZ33: 48.166667 | CA33: 35.89 | CB33: 0 | CC33: 0 | CD33: 0 | CE33: 0 | CF33: 0 | CG33: 0 | CH33: 0 | CI33: 0 | CJ33: 0 | CK33: 0 | CL33: 0 | CM33: 0 | CN33: 44.66 | CO33: ='S-S_SEM'!#REF! -> #REF! | CP33: 0 | CQ33: 60 | CR33: 8.94 | CS33: 18.34 | CT33: 33 | CU33: 60 | CV33: 13 | CW33: 9.005 | CX33: 0 | CY33: 9 | CZ33: 6.0016667 | DA33: ='S-S_SEM'!H69 -> 0 | DB33: 18 | DC33: 0 | DD33: 6.0007143 | DE33: 0 | DF33: 0 | DG33: 9.84 | DH33: 0 | DI33: 0 | DJ33: 3.7032143 | DK33: 0 | DL33: ='S-S_SEM'!S69 -> 0 | DM33: 2.35 | DN33: 0 | DO33: 0 | DP33: ='S-S_SEM'!AA69 -> 0 | DQ33: 0 | DR33: 0 | DS33: 0 | DT33: 0.6 | DU33: 0 | DV33: 2.1918 | DW33: 0 | DX33: 5.3 | DY33: 2.14625 | DZ33: 0 | EA33: 9.8 | EB33: 9 | EC33: 0 | ED33: 10.2 | EE33: 3.2512857 | EF33: 0 | EG33: 0 | EH33: 0 | EI33: 2.9178205 | EJ33: 0 | EK33: 2.7754878 | EL33: 0 | EM33: ='S-S_SEM'!AT69 -> 0 | EN33: 0 | EO33: 26.99 | EP33: 11 | EQ33: 0 | ER33: 0 | ES33: 0 | ET33: 0 | EU33: 0 | EV33: 24.4 | EW33: 17.5 | EX33: 10.5 | EY33: 0 | EZ33: 0 | FA33: 0 | FB33: 28 | FC33: 15.5 | FD33: 0 | FE33: 0 | FF33: 0 | FG33: 0 | FH33: 0 | FI33: 0 | FJ33: 5.1071429 | FK33: 0 | FL33: 0 | FM33: 0 | FN33: 3.9722222 | FO33: 0 | FP33: 4.35 | FQ33: 2.36 | FR33: 0 | FS33: 1.995 | FT33: 3.341875 | FU33: 0 | FV33: 0 | FW33: 0 | FX33: 0 | FY33: 8 | FZ33: 2.9401667 | GA33: 0 | GB33: 0 | GC33: 0 | GD33: 0 | GE33: 0 | GF33: 0 | GG33: 0 | GH33: 0 | GI33: 0 | GJ33: 0 | GK33: 12 | GL33: 0 | GM33: 0 | GN33: 0 | GO33: 0 | GP33: 0 | GQ33: 0 | GR33: ='S-S_SEM'!DA69 -> 0 | GS33: 0 | GT33: 0 | GU33: 0 | GV33: 1.9270192 | GW33: 0 | GX33: 0 | GY33: 0 | GZ33: 0 | HA33: 0 | HB33: 0 | HC33: 0 | HD33: 0 | HE33: 0 | HF33: 0 | HG33: 0 | HH33: 0 | HI33: 0 | HJ33: 0 | HK33: 0 | HL33: 0 | HM33: 0 | HN33: 0 | HO33: 0 | HP33: 0 | HQ33: 0 | HR33: 0 | HS33: 0 | HT33: 0 | HU33: 0 | HV33: 0 | HW33: 0 | HX33: 0 | HY33: 0 | HZ33: ='S-S_SEM'!EH69 -> 0 | IA33: =AVERAGE(GW33:HZ33) -> 0 | IB33: =IF(HZ33>=F33,"J",IF(HZ33>F33/2,"K","L")) -> L
C34: MTTR | F34: 5 | G34: 0.1554 | H34: 0.1736 | I34: 0.076 | J34: 0.1409 | K34: 0.1866 | L34: 0.1429 | M34: 0.137 | N34: 0.1012 | O34: 0.1246 | P34: 0.0784 | Q34: 0.1206 | R34: 0.11565 | S34: 0.07885 | T34: 0.1394 | U34: 0.0875 | V34: 0.09895 | W34: 0.0651 | X34: 0.09735 | Y34: 0.07815 | Z34: 0.1073 | AA34: 0.05445 | AB34: =AVERAGE(P34:AA34) -> 0.093475 | AC34: 0.0813 | AD34: 0.13065 | AE34: 0.07865 | AF34: 0.05605 | AG34: 0.076097019 | AH34: 0.12675 | AI34: 0.043280235 | AJ34: 0.122 | AO34: 0.35864979 | AP34: 0.10064134 | AQ34: 0.051402003 | AR34: 0.04935 | AS34: 1.6033732 | BK34: 0 | BL34: 0 | BM34: 15 | BN34: 2.6666667 | BO34: 0 | BP34: 0 | BQ34: 0 | BR34: 0 | BS34: 0 | BT34: 0 | BU34: 0 | BV34: 0 | BW34: 0 | BX34: 0 | BY34: 7.5 | BZ34: 7.8333333 | CA34: 20.11 | CB34: 0 | CC34: 33 | CD34: 2 | CE34: 0 | CF34: 0 | CG34: 2 | CH34: 23.5 | CI34: 0 | CJ34: 0 | CK34: 2 | CL34: 37 | CM34: 160 | CN34: 0 | CO34: ='S-S_SEM'!#REF! -> #REF! | CP34: 0 | CQ34: 2 | CR34: 3 | CS34: 0 | CT34: 0 | CU34: 2 | CV34: 0 | CW34: 11.25 | CX34: 0 | CY34: 0 | CZ34: 3.75 | DA34: ='S-S_SEM'!H70 -> 0 | DB34: 0 | DC34: 0 | DD34: 1.75 | DE34: 1.5 | DF34: 0 | DG34: 1 | DH34: 2.5 | DI34: 0 | DJ34: 1.2321429 | DK34: 0 | DL34: ='S-S_SEM'!S70 -> 0 | DM34: 0 | DN34: 1 | DO34: 0 | DP34: ='S-S_SEM'!AA70 -> 0 | DQ34: 0 | DR34: 0 | DS34: 0 | DT34: 0 | DU34: 0 | DV34: 0.73 | DW34: 0 | DX34: 0 | DY34: 0.65178571 | DZ34: 0 | EA34: 0 | EB34: 0 | EC34: 0 | ED34: 0 | EE34: 0.57142857 | EF34: 0 | EG34: 0 | EH34: 0 | EI34: 0.51282051 | EJ34: 80 | EK34: 2.4390244 | EL34: 0 | EM34: ='S-S_SEM'!AT70 -> 0 | EN34: 0 | EO34: 2.5 | EP34: 0 | EQ34: 1 | ER34: 0 | ES34: 17 | ET34: 10.5 | EU34: 0 | EV34: 6 | EW34: 3 | EX34: 4 | EY34: 0 | EZ34: 0 | FA34: 0 | FB34: 7 | FC34: 0 | FD34: 21.5 | FE34: 0 | FF34: 0 | FG34: 0 | FH34: 0 | FI34: 0 | FJ34: 2.5357143 | FK34: 0 | FL34: 0 | FM34: 0 | FN34: 1.9722222 | FO34: 0 | FP34: 0 | FQ34: 0 | FR34: 3 | FS34: 2.25 | FT34: 1.6979167 | FU34: 1 | FV34: 0 | FW34: 0 | FX34: 0 | FY34: 3 | FZ34: 1.4916667 | GA34: 12 | GB34: 0 | GC34: 0 | GD34: 0 | GE34: 0 | GF34: 0 | GG34: 0 | GH34: 0 | GI34: 0 | GJ34: 4 | GK34: 8.5 | GL34: 0 | GM34: 0 | GN34: 0 | GO34: 5 | GP34: 0 | GQ34: 0 | GR34: ='S-S_SEM'!DA70 -> 0 | GS34: 0 | GT34: 0 | GU34: 0 | GV34: 1.4278846 | GW34: 0 | GX34: 0 | GY34: 0 | GZ34: 0 | HA34: 0 | HB34: 0 | HC34: 0 | HD34: 0 | HE34: 0 | HF34: 0 | HG34: 0 | HH34: 0 | HI34: 0 | HJ34: 0 | HK34: 0 | HL34: 0 | HM34: 0 | HN34: 0 | HO34: 0 | HP34: 0 | HQ34: 0 | HR34: 0 | HS34: 0 | HT34: 0 | HU34: 0 | HV34: 0 | HW34: 0 | HX34: 0 | HY34: 0 | HZ34: ='S-S_SEM'!EH70 -> 0 | IA34: =AVERAGE(GW34:HZ34) -> 0 | IB34: =IF(HZ34<=F34,"J",IF(HZ34>F34*2,"L","K")) -> J
B35: EQUIPOS PARA VIAS | C35: MTBF | D35: % | E35: =+AVERAGE(G35:O35) -> 0.65472222 | F35: 30 | G35: 0.9986 | H35: 0.4997 | I35: 0.4952 | J35: 0 | K35: 0.4642 | L35: 0.866 | M35: 0.9402 | N35: 0.7563 | O35: 0.8723 | P35: 0.89865 | Q35: 0.9222 | R35: 0.84925 | S35: 0.89835 | T35: 0.58425 | U35: 0.729 | V35: 0.7389 | W35: 0.93455 | X35: 0.92715 | Y35: 0.92915 | Z35: 0.83035 | AA35: 0.76635 | AB35: =AVERAGE(P35:AA35) -> 0.8340125 | AC35: 0.8882 | AD35: 0.672 | AE35: 0.32825 | AF35: 0.38645 | AG35: 0.48655914 | AH35: 0.49065 | AI35: 0.5 | AJ35: 0.5 | AO35: 0.53601559 | AP35: 0.85 | AQ35: 0 | AS35: 38.283889 | FK35: 61.02 | FL35: 0 | FM35: 48.173333 | FN35: 47.005 | FO35: 61.5 | FP35: 68.4 | FQ35: 38.71 | FR35: 62 | FS35: 6.2860111 | FT35: 30.486001 | FU35: 66.75 | FV35: 74 | FW35: 26.6 | FX35: 39.2 | FY35: 70 | FZ35: 37.92391 | GA35: 36 | GB35: 33.62 | GC35: 35.9 | GD35: 33.62 | GE35: 18 | GF35: 15.77 | GG35: 23.3 | GH35: 17.82 | GI35: 40.06 | GJ35: 40.06 | GK35: 7.41 | GL35: 66.6 | GM35: 63.1 | GN35: 16.72 | GO35: 32.2 | GP35: 66.99 | GQ35: 17 | GR35: =VIAS_SEM!DA69 -> 0 | GS35: 39.59 | GT35: 39.59 | GU35: 16.4 | GV35: 35.023546 | GW35: 0 | GX35: 39.99 | GY35: 26.663333 | GZ35: 40 | HA35: 48.02 | HB35: 0 | HC35: 0 | HD35: 0 | HE35: 24.7 | HF35: 2.22 | HG35: 67.54 | HH35: 32.12 | HI35: 50 | HJ35: 8.69 | HK35: 22.5 | HL35: 24.9 | HM35: 61 | HN35: 34 | HO35: 50 | HP35: 40.99 | HQ35: 50 | HR35: 93 | HS35: 39.02 | HT35: 21 | HU35: 35.5428 | HV35: 18 | HW35: 33.3 | HX35: 36.33 | HY35: 17.4 | HZ35: =VIAS_SEM!EH36 -> 55 | IA35: =AVERAGE(GW35:HZ35) -> 32.397538 | IB35: =IF(HZ35>=F35,"J",IF(HZ35>F35/2,"K","L")) -> J
C36: MTTR | D36: % | E36: =+AVERAGE(G36:O36) -> 0.066633333 | F36: 4 | G36: 0.0052 | H36: 0.0321 | I36: 0.0278 | J36: 0 | K36: 0.1123 | L36: 0.1112 | M36: 0.098 | N36: 0.1237 | O36: 0.0894 | P36: 0.1546 | Q36: 0.17765 | R36: 0.2032 | S36: 0.28555 | T36: 0.11755 | U36: 0.019 | V36: 0.1248 | W36: 0.62285 | X36: 0.12525 | Y36: 0.20595 | Z36: 0.18265 | AA36: 0.1259 | AB36: =AVERAGE(P36:AA36) -> 0.1954125 | AC36: 0.30605 | AD36: 0.1658 | AE36: 0.0149 | AF36: 0.13185 | AG36: 0.064060773 | AH36: 0.02865 | AI36: 0.037634409 | AJ36: 0 | AO36: 0.10699217 | AP36: 0.15 | AQ36: 0 | AS36: 0.66457586 | FK36: 0 | FL36: 0 | FM36: 1.6666667 | FN36: 1.25 | FO36: 0 | FP36: 0 | FQ36: 0 | FR36: 0 | FS36: 3.65 | FT36: 1.415625 | FU36: 1 | FV36: 0 | FW36: 0 | FX36: 0 | FY36: 0 | FZ36: 1.3022727 | GA36: 5 | GB36: 0 | GC36: 0 | GD36: 4 | GE36: 0 | GF36: 2.5 | GG36: 2.5 | GH36: 0 | GI36: 0 | GJ36: 0 | GK36: 0 | GL36: 0 | GM36: 0 | GN36: 0 | GO36: 0 | GP36: 0 | GQ36: 0 | GR36: =VIAS_SEM!DA70 -> 0 | GS36: 0 | GT36: 0 | GU36: 0 | GV36: 0.96931818 | GW36: 0 | GX36: 0 | GY36: 0 | GZ36: 0 | HA36: 0 | HB36: 0 | HC36: 0 | HD36: 0 | HE36: 0 | HF36: 0 | HG36: 0 | HH36: 0 | HI36: 5 | HJ36: 0 | HK36: 0 | HL36: 15 | HM36: 0 | HN36: 0 | HO36: 3.58 | HP36: 10.5 | HQ36: 0 | HR36: 0 | HS36: 0 | HT36: 72 | HU36: 4.0432 | HV36: 0 | HW36: 0 | HX36: 3.6 | HY36: 0 | HZ36: =VIAS_SEM!EH37 -> 0 | IA36: =AVERAGE(GW36:HZ36) -> 3.7907733 | IB36: =IF(HZ36<=F36,"J",IF(HZ36>F36*2,"L","K")) -> J
B37: EQUIPOS TRANSPORTE | C37: MTBF | D37: % | E37: =+AVERAGE(G37:O37) -> 0.65472222 | F37: 50 | G37: 0.9986 | H37: 0.4997 | I37: 0.4952 | J37: 0 | K37: 0.4642 | L37: 0.866 | M37: 0.9402 | N37: 0.7563 | O37: 0.8723 | P37: 0.89865 | Q37: 0.9222 | R37: 0.84925 | S37: 0.89835 | T37: 0.58425 | U37: 0.729 | V37: 0.7389 | W37: 0.93455 | X37: 0.92715 | Y37: 0.92915 | Z37: 0.83035 | AA37: 0.76635 | AB37: =AVERAGE(P37:AA37) -> 0.8340125 | AC37: 0.8882 | AD37: 0.672 | AE37: 0.32825 | AF37: 0.38645 | AG37: 0.48655914 | AH37: 0.49065 | AI37: 0.5 | AJ37: 0.5 | AO37: 0.53601559 | AP37: 0.85 | AQ37: 0 | AS37: 41.277785 | FK37: 61.02 | FT37: 29.535721 | FU37: 36.819267 | FV37: 36.579167 | FW37: 68 | FX37: 31.375 | FY37: 71.2 | FZ37: 18.463344 | GA37: 50.815 | GB37: 41.326667 | GC37: 51.0625 | GD37: 37 | GE37: 19.375 | GF37: 51.8 | GG37: 57.8 | GH37: 40.55 | GI37: 22.583333 | GJ37: 34.325 | GK37: 42.483333 | GL37: 34.708333 | GM37: 39.208333 | GN37: 33.291667 | GO37: 29.625 | GP37: 56.4 | GQ37: 33.9 | GR37: =VOLQUE_SEM!DA117 -> 0 | GS37: 45 | GT37: 45 | GU37: 43.875 | GV37: 30.21188 | GW37: 65.666667 | GX37: 54.733333 | GY37: 53.777778 | GZ37: 40.933333 | HA37: 41 | HB37: 0 | HC37: 0 | HD37: 0 | HE37: 47.888889 | HF37: 46.5 | HG37: 57 | HH37: 49.83 | HI37: 45.67 | HJ37: 55.45 | HK37: 54.358333 | HL37: 79.293333 | HM37: 44.65 | HN37: 6.6666667 | HO37: 44 | HP37: 30.533333 | HQ37: 60.055556 | HR37: 39.611111 | HS37: 41.166667 | HT37: 20.944444 | HU37: 45.640583 | HV37: 25.65 | HW37: 48.666667 | HX37: 19.027778 | HY37: 55.666667 | HZ37: =VOLQUE_SEM!EH84 -> 32 | IA37: =AVERAGE(GW37:HZ37) -> 40.212705 | IB37: =IF(HZ37>=F37,"J",IF(HZ37>F37/2,"K","L")) -> K
C38: MTTR | D38: % | E38: =+AVERAGE(G38:O38) -> 0.066633333 | F38: 5 | G38: 0.0052 | H38: 0.0321 | I38: 0.0278 | J38: 0 | K38: 0.1123 | L38: 0.1112 | M38: 0.098 | N38: 0.1237 | O38: 0.0894 | P38: 0.1546 | Q38: 0.17765 | R38: 0.2032 | S38: 0.28555 | T38: 0.11755 | U38: 0.019 | V38: 0.1248 | W38: 0.62285 | X38: 0.12525 | Y38: 0.20595 | Z38: 0.18265 | AA38: 0.1259 | AB38: =AVERAGE(P38:AA38) -> 0.1954125 | AC38: 0.30605 | AD38: 0.1658 | AE38: 0.0149 | AF38: 0.13185 | AG38: 0.064060773 | AH38: 0.02865 | AI38: 0.037634409 | AJ38: 0 | AO38: 0.10699217 | AP38: 0.15 | AQ38: 0 | AS38: 42.231286 | FK38: 0 | FT38: 72.785714 | FU38: 43.791667 | FV38: 42.875 | FW38: 42 | FX38: 43.583333 | FY38: 13 | FZ38: 38.874551 | GA38: 3.375 | GB38: 4.6416667 | GC38: 30 | GD38: 44.1875 | GE38: 85.625 | GF38: 66.625 | GG38: 42.5 | GH38: 45.325 | GI38: 56.605833 | GJ38: 44.430833 | GK38: 52.4 | GL38: 43.53125 | GM38: 47.458333 | GN38: 47.551667 | GO38: 45.0625 | GP38: 43.85 | GQ38: 48.125 | GR38: =VOLQUE_SEM!DA118 -> 0 | GS38: 45.541667 | GT38: 45.541667 | GU38: 43.683333 | GV38: 41.55041 | GW38: 4.5 | GX38: 5.0166667 | GY38: 3.6907407 | GZ38: 1.5555556 | HA38: 6.1333333 | HB38: 0 | HC38: 0 | HD38: 0 | HE38: 3.5555556 | HF38: 4.6666667 | HG38: 3.5111111 | HH38: 3.97 | HI38: 2.88 | HJ38: 21.066667 | HK38: 2.5833333 | HL38: 3.7666667 | HM38: 5.15 | HN38: 28.2 | HO38: 39.366667 | HP38: 1.6066667 | HQ38: 12.313333 | HR38: 5.1711111 | HS38: 7.125 | HT38: 3.1669444 | HU38: 9.2576736 | HV38: 2.77 | HW38: 3.195 | HX38: 3.6266667 | HY38: 2.0416667 | HZ38: =VOLQUE_SEM!EH85 -> 7.2666667 | IA38: =AVERAGE(GW38:HZ38) -> 6.5717897 | IB38: =IF(HZ38<=F38,"J",IF(HZ38>F38*2,"L","K")) -> K
IF40: PROMEDIOS GENERALES DE MTBF / MTTR SEM 27
IF41: SC-SERV | IG41: EQ-VIAS | IH41: EQ-TRANS
IE42: OBI MTBF | IF42: =F33 -> 50 | IG42: =F35 -> 30 | IH42: =F37 -> 50
IE43: OBI MTTR | IF43: =F34 -> 5 | IG43: =F36 -> 4 | IH43: =F38 -> 5
IE44: MTBF | IF44: =HZ33 -> 0 | IG44: =HZ35 -> 55 | IH44: =HZ37 -> 32
IE45: MTTR | IF45: =HZ34 -> 0 | IG45: =HZ36 -> 0 | IH45: =HZ38 -> 7.2666667
IE46: MTBF PR-23 | IF46: =AS33 -> 2.259489 | IG46: =AS35 -> 38.283889 | IH46: =AS37 -> 41.277785
IE47: MTTR PR-23 | IF47: =AS34 -> 1.6033732 | IG47: =AS36 -> 0.66457586 | IH47: =AS38 -> 42.231286

Sheet S-P
A1: ST 1030_1 | C1: PROM. 2020 | D1: 44197 | E1: 44228 | F1: 44256 | G1: 44287 | H1: 44317 | I1: 44348 | J1: 44378 | K1: 44409 | L1: 44440 | M1: 44470 | N1: 44501 | O1: 44531 | P1: PROM. 2022 | Q1: 44562 | R1: 44593 | S1: 44621 | T1: 44652 | U1: 44682 | V1: 44713 | W1: 44743 | X1: 44774 | Y1: 44805 | Z1: 44835 | AA1: 44866 | AB1: 44896 | AC1: 44927 | AD1: 44958 | AE1: 44986 | AF1: 45017 | AG1: 45047 | AH1: 45078 | AI1: 45108 | AJ1: 45139 | AK1: 45170 | AL1: 45200 | AM1: 45231 | AN1: 45261 | AO1: PROM. 2023 | AP1: OBJ
A2: KPIs | B2: DF | C2: 0.8368206 | D2: 0.46793011 | E2: 0.58650735 | F2: 0.87052419 | G2: 0.99027778 | H2: 0.96891129 | I2: 0.94270833 | J2: 0.5838244 | K2: 0.85909836 | L2: 0.8999256 | M2: 0.95102339 | N2: 0.33261494 | O2: 0.19861111 | P2: 0.6190964 | Q2: 0 | R2: 0.74190909 | S2: 0.69766129 | T2: 0.81736111 | U2: 0.90879167 | V2: 0.41504167 | W2: 0.83727151 | X2: 0.64448925 | Y2: 0.47326389 | Z2: 0.85147849 | AA2: 0.60438889 | AB2: 0.4375 | AC2: 0.88810484 | AD2: 0 | AE2: 0.20967742 | AF2: 0.88976389 | AG2: 0.98543011 | AH2: 0.89988889 | AI2: 0.95228495 | AJ2: 0.96908602 | AK2: 0.84791667 | AL2: 0.70456989 | AM2: 0.40972222 | AN2: 0 | AO2: =AVERAGE(AC2:AN2) -> 0.64637041 | AP2: 0.85
B3: UTIL | C3: 0.40089576 | D3: 0.26770839 | E3: 0.26743141 | F3: 0.31923665 | G3: 0 | H3: 0.3933719 | I3: 0.31005525 | J3: 0.30402977 | K3: 0.39291734 | L3: 0.28970649 | M3: 0.347794 | N3: 0.54514039 | O3: 0.22657343 | P3: 0.37877912 | Q3: 0 | R3: 0.20548952 | S3: 0.43730975 | T3: 0.4413254 | U3: 0.41006831 | V3: 0.47836563 | W3: 0.41553626 | X3: 0.42667362 | Y3: 0.46198092 | Z3: 0.40921863 | AA3: 0.41821399 | AB3: 0.44116743 | AC3: 0.2194476 | AD3: 0 | AE3: 0.17185897 | AF3: 0.12916972 | AG3: 0.040918763 | AH3: 0.18147302 | AI3: 0.15490473 | AJ3: 0.099140083 | AK3: 0.092579853 | AL3: 0.1972148 | AM3: 0.44976271 | AN3: 0 | AO3: =AVERAGE(AC3:AN3) -> 0.14470585 | AP3: 0.5
B4: MTBF | C4: 37.977917 | D4: 46.6 | E4: 42.663333 | F4: 18.796364 | G4: 0 | H4: 141.785 | I4: 52.6125 | J4: 13.253333 | K4: 35.298571 | L4: 19.466667 | M4: 37.706667 | N4: 31.55 | O4: 8.1 | P4: 22.091271 | Q4: 0 | R4: 25.155 | S4: 14.186875 | T4: 19.978462 | U4: 44.72 | V4: 12.995455 | W4: 17.256667 | X4: 29.227143 | Y4: 22.488571 | Z4: 32.405 | AA4: 22.74875 | AB4: 23.933333 | AC4: 20.714286 | AD4: 0 | AE4: 4.4683333 | AF4: 10.34375 | AG4: 10 | AH4: 13.064444 | AI4: 18.291667 | AJ4: 71.48 | AK4: 11.304 | AL4: 12.9225 | AM4: 33.17 | AN4: 0 | AO4: =AVERAGE(AC4:AN4) -> 17.146582 | AP4: 50
B5: MTTR | C5: 15.295065 | D5: 113.93 | E5: 109.77667 | F5: 7.5072727 | G5: 7 | H5: 4.525 | I5: 0.75 | J5: 28.407778 | K5: 10.571429 | L5: 5.7411111 | M5: 1.0833333 | N5: 110.875 | O5: 144.25 | P5: 84.235664 | Q5: 720 | R5: 39.835 | S5: 13.4025 | T5: 8.9615385 | U5: 6.5283333 | V5: 36.106364 | W5: 2.6273333 | X5: 26.357143 | Y5: 48.321429 | Z5: 10.5 | AA5: 34.105 | AB5: 64.083333 | AC5: 10.178571 | AD5: 672 | AE5: 98 | AF5: 3.43375 | AG5: 2.9466667 | AH5: 4.5922222 | AI5: 1.6666667 | AJ5: 5 | AK5: 21.9 | AL5: 25.975 | AM5: 106.25 | AN5: 732 | AO5: =AVERAGE(AC5:AN5) -> 140.32857 | AP5: 5
A7: HORAS POR MANTTO | B7: MANTTO (PM) | D7: 108 | E7: 8.08 | F7: 11.75 | G7: 0 | H7: 14.08 | I7: 28 | J7: 21 | K7: 29.14 | L7: 15.58 | M7: 27 | N7: 21 | O7: 0 | Q7: 0 | R7: 11 | S7: 10 | T7: 0 | U7: 21 | V7: 24 | W7: 10 | X7: 52 | Y7: 10 | Z7: 16 | AA7: 9.5 | AB7: 10 | AC7: 12 | AD7: 0 | AE7: 0 | AF7: 18 | AG7: 0 | AH7: 7.5 | AI7: 25.5 | AJ7: 18 | AK7: 0 | AL7: 12 | AM7: 0 | AN7: 0
B8: REP. PROG. | D8: 60 | E8: 0 | F8: 2 | G8: 0 | H8: 0 | I8: 10.25 | J8: 3 | K8: 0 | L8: 0 | M8: 0 | N8: 0 | O8: 0 | Q8: 0 | R8: 0 | S8: 0.5 | T8: 15 | U8: 5.5 | V8: 0 | W8: 71.66 | X8: 28 | Y8: 31 | Z8: 10.5 | AA8: 2.5 | AB8: 24 | AC8: 0 | AD8: 0 | AE8: 0 | AF8: 33.9 | AG8: 2 | AH8: 23 | AI8: 0 | AJ8: 0 | AK8: 0 | AL8: 0 | AM8: 0 | AN8: =AN10-AN9 -> 12
B9: REP. NO PROG. | D9: 227.86 | E9: 270 | F9: 82.58 | G9: 7 | H9: 9.05 | I9: 3 | J9: 255.67 | K9: 74 | L9: 51.67 | M9: 6.5 | N9: 443.5 | O9: 577 | Q9: 720 | R9: 159.34 | S9: 214.44 | T9: 116.5 | U9: 39.17 | V9: 397.17 | W9: 39.41 | X9: 184.5 | Y9: 338.25 | Z9: 84 | AA9: 272.84 | AB9: 384.5 | AC9: 71.25 | AD9: 672 | AE9: 588 | AF9: 27.47 | AG9: 8.84 | AH9: 41.33 | AI9: 10 | AJ9: 5 | AK9: 109.5 | AL9: 207.8 | AM9: 425 | AN9: 732
B10: H. PROG.MES | D10: 744 | E10: 672 | F10: 744 | G10: 720 | H10: 744 | I10: 720 | J10: 672 | K10: 732 | L10: 672 | M10: 684 | N10: 696 | O10: 720 | Q10: 720 | R10: 660 | S10: 744 | T10: 720 | U10: 720 | V10: 720 | W10: 744 | X10: 744 | Y10: 720 | Z10: 744 | AA10: 720 | AB10: 744 | AC10: 744 | AD10: 672 | AE10: 744 | AF10: 720 | AG10: 744 | AH10: 720 | AI10: 744 | AJ10: 744 | AK10: 720 | AL10: 744 | AM10: 720 | AN10: 744
B11: HRS. ACUM.EQUIPO | D11: 93.2 | E11: 127.99 | F11: 206.76 | G11: 0 | H11: 283.57 | I11: 210.45 | J11: 119.28 | K11: 247.09 | L11: 175.2 | M11: 226.24 | N11: 126.2 | O11: 32.4 | Q11: 0 | R11: 100.62 | S11: 226.99 | T11: 259.72 | U11: 268.32 | V11: 142.95 | W11: 258.85 | X11: 204.59 | Y11: 157.42 | Z11: 259.24 | AA11: 181.99 | AB11: 143.6 | AC11: 145 | AD11: 0 | AE11: 26.81 | AF11: 82.75 | AG11: 30 | AH11: 117.58 | AI11: 109.75 | AJ11: 71.48 | AK11: 56.52 | AL11: 103.38 | AM11: 132.68 | AN11: 0
A12: PORCENTAIE SEGÚN MANTENIMIENTOS | B12: % DF | D12: =+D2 -> 0.46793011 | E12: =+E2 -> 0.58650735 | F12: =+F2 -> 0.87052419 | G12: =+G2 -> 0.99027778 | H12: =+H2 -> 0.96891129 | I12: =+I2 -> 0.94270833 | J12: =+J2 -> 0.5838244 | K12: =+K2 -> 0.85909836 | ... O12: =+O2 -> 0.19861111 | Q12: =+Q2 -> 0 | R12: =+R2 -> 0.74190909 | S12: =+S2 -> 0.69766129 | T12: =+T2 -> 0.81736111 | U12: =+U2 -> 0.90879167 | V12: =+V2 -> 0.41504167 | W12: =+W2 -> 0.83727151 | X12: =+X2 -> 0.64448925 | ... AN12: =+AN2 -> 0
B13: % MANTTO (PM) | D13: =+D7/D10 -> 0.14516129 | E13: =+E7/E10 -> 0.01202381 | F13: =+F7/F10 -> 0.015793011 | G13: =+G7/G10 -> 0 | H13: =+H7/H10 -> 0.018924731 | I13: =+I7/I10 -> 0.038888889 | J13: =+J7/J10 -> 0.03125 | K13: =+K7/K10 -> 0.039808743 | ... N13: =+N7/N10 -> 0.030172414 | O13: =+O7/SUM($F$41) -> 0 | Q13: =+Q7/Q10 -> 0 | R13: =+R7/R10 -> 0.016666667 | S13: =+S7/SUM($F$41) -> 0.01344086 | T13: =+T7/T10 -> 0 | U13: =+U7/U10 -> 0.029166667 | V13: =+V7/V10 -> 0.033333333 | W13: =+W7/W10 -> 0.01344086 | X13: =+X7/X10 -> 0.069892473 | Y13: =+Y7/Y10 -> 0.013888889 | Z13: =+Z7/Z10 -> 0.021505376 | AA13: =+AA7/AA10 -> 0.013194444 | ... AN13: =+AN7/AN10 -> 0
B14: % REP. PROG. | D14: =+D8/D10 -> 0.080645161 | E14: =+E8/E10 -> 0 | F14: =+F8/F10 -> 0.002688172 | G14: =+G8/G10 -> 0 | H14: =+H8/H10 -> 0 | I14: =+I8/I10 -> 0.014236111 | J14: =+J8/J10 -> 0.0044642857 | K14: =+K8/K10 -> 0 | ... N14: =+N8/N10 -> 0 | O14: =+O8/SUM($F$41) -> 0 | Q14: =+Q8/Q10 -> 0 | R14: =+R8/R10 -> 0 | S14: =+S8/SUM($F$41) -> 0.00067204301 | T14: =+T8/T10 -> 0.020833333 | U14: =+U8/U10 -> 0.0076388889 | V14: =+V8/V10 -> 0 | W14: =+W8/W10 -> 0.096317204 | X14: =+X8/X10 -> 0.037634409 | Y14: =+Y8/Y10 -> 0.043055556 | Z14: =+Z8/Z10 -> 0.014112903 | AA14: =+AA8/AA10 -> 0.0034722222 | ... AN14: =+AN8/AN10 -> 0.016129032
B15: % REP. NO PROG. | D15: =+D9/D10 -> 0.30626344 | E15: =+E9/E10 -> 0.40178571 | F15: =+F9/F10 -> 0.11099462 | G15: =+G9/G10 -> 0.0097222222 | H15: =+H9/H10 -> 0.012163978 | I15: =+I9/I10 -> 0.0041666667 | J15: =+J9/J10 -> 0.38046131 | K15: =+K9/K10 -> 0.1010929 | ... N15: =+N9/N10 -> 0.63721264 | O15: =+O9/SUM($F$41) -> 0.77553763 | Q15: =+Q9/Q10 -> 1 | R15: =+R9/R10 -> 0.24142424 | S15: =+S9/SUM($F$41) -> 0.28822581 | T15: =+T9/T10 -> 0.16180556 | U15: =+U9/U10 -> 0.054402778 | V15: =+V9/V10 -> 0.551625 | W15: =+W9/W10 -> 0.05297043 | X15: =+X9/X10 -> 0.24798387 | Y15: =+Y9/Y10 -> 0.46979167 | Z15: =+Z9/Z10 -> 0.11290323 | AA15: =+AA9/AA10 -> 0.37894444 | ... AN15: =+AN9/AN10 -> 0.98387097
B16: TOTAL | D16: =SUM(D12:D15) -> 1 | E16: =SUM(E12:E15) -> 1.0003169 | F16: =SUM(F12:F15) -> 1 | G16: =SUM(G12:G15) -> 1 | H16: =SUM(H12:H15) -> 1 | I16: =SUM(I12:I15) -> 1 | J16: =SUM(J12:J15) -> 1 | K16: =SUM(K12:K15) -> 1 | ... O16: =SUM(O12:O15) -> 0.97414875 | Q16: =SUM(Q12:Q15) -> 1 | R16: =SUM(R12:R15) -> 1 | S16: =SUM(S12:S15) -> 1 | T16: =SUM(T12:T15) -> 1 | U16: =SUM(U12:U15) -> 1 | V16: =SUM(V12:V15) -> 1 | W16: =SUM(W12:W15) -> 1 | X16: =SUM(X12:X15) -> 1 | ... AN16: =SUM(AN12:AN15) -> 1
A17: CAT 01 | D17: ENERO | E17: FEBRERO
A18: KPIs | B18: DISPONIBILIDAD
B19: UTILIZACION
B20: MTBF
B21: MTTR
A22: HORAS DE PARADA | B22: SIST. DESPLAZAMIENTO
B23: SIST. HIDRAULICO
B24: SIST. ELECTRICO
B25: SIST. ESTRUCTURAL
B26: SIST. LUBRICACION
A27: CANTIDAD DE PARADAS | B27: SIST. DESPLAZAMIENTO
B28: SIST. HIDRAULICO
B29: SIST. ELECTRICO
B30: SIST. ESTRUCTURAL
B31: SIST. LUBRICACION
A32: CAT 02 | C32: PROM. 2020 | D32: 44197 | E32: 44228 | F32: 44256 | G32: 44287 | H32: 44317 | I32: 44348 | J32: 44378 | K32: 44409 | L32: 44440 | M32: 44470 | N32: 44501 | O32: 44531 | P32: PROM. 2022 | Q32: 44562 | R32: 44593 | S32: 44621 | T32: 44652 | U32: 44682 | V32: 44713 | W32: 44743 | X32: 44774 | Y32: 44805 | Z32: 44835 | AA32: 44866 | AO32: PROM. 2023 | AP32: OBJ
A33: KPIs | B33: DF | C33: 0.74129267 | D33: 0.94455645 | E33: 0.90330357 | F33: 0.95611559 | G33: 0.98055556 | H33: 0.92237903 | I33: 0.98298611 | J33: 0.91729167 | K33: 0.84836066 | L33: 0.93315476 | M33: 0.91520468 | N33: 0.90972701 | O33: 0.82651389 | P33: 0.82258675 | Q33: 0.60325 | R33: 0.89406061 | S33: 0.85875 | T33: 0.87708333 | U33: 0.75861644 | V33: 0.88413889 | W33: 0.68571237 | X33: 0.89012097 | Y33: 0.87002778 | Z33: 0.90410714 | AO33: 0 | AP33: 0.85
B34: UTIL | C34: 0.4015629 | D34: 0.29734614 | E34: 0.50074133 | F34: 0.29108034 | G34: 0.012733711 | H34: 0.38104189 | I34: 0.2668739 | J34: 0.38326141 | K34: 0.24057971 | L34: 0.23719462 | M34: 0.24926518 | N34: 0.28381004 | O34: 0.40482952 | P34: 0.40275226 | Q34: 0.25408666 | R34: 0.40748712 | S34: 0.45914135 | T34: 0.40036421 | U34: 0.33550624 | V34: 0.4757611 | W34: 0.40045475 | X34: 0.46752737 | Y34: 0.33811181 | Z34: 0.48908201 | AO34: 0 | AP34: 0.5
B35: MTBF | C35: 41.345301 | D35: 41.792 | E35: 37.995 | F35: 41.412 | G35: 8.99 | H35: 52.298 | I35: 94.44 | J35: 78.75 | K35: 13.581818 | L35: 14.874 | M35: 22.291429 | N35: 35.94 | O35: 30.11375 | P35: 32.51044 | Q35: 11.036 | R35: 48.09 | S35: 32.594444 | T35: 36.118571 | U35: 20.644444 | V35: 37.8575 | W35: 18.572727 | X35: 22.115714 | Y35: 42.36 | Z35: 55.715 | AO35: 0 | AP35: 50
B36: MTTR | C36: 121.62524 | D36: 3.05 | E36: 5.685 | F36: 4.43 | G36: 0 | H36: 7.834 | I36: 1.125 | J36: 5.1666667 | K36: 7.4545455 | L36: 3.492 | M36: 4.1428571 | N36: 5.5 | O36: 14.55125 | P36: 12.866373 | Q36: 27.516 | R36: 7.9 | S36: 10.371111 | T36: 11.06 | U36: 17.005556 | V36: 6.74 | W36: 18.863636 | X36: 5.0414286 | Y36: 15.916 | Z36: 8.25 | AO36: 0 | AP36: 5
A38: HORAS POR MANTTO | B38: MANTTO (PM) | D38: 26 | E38: 19.5 | F38: 10 | G38: 13 | H38: 15.58 | I38: 10 | J38: 40 | K38: 29.5 | L38: 10 | M38: 29 | N38: 37 | O38: 9 | Q38: 10.5 | R38: 30.42 | S38: 11.75 | T38: 10 | U38: 18 | V38: 24 | W38: 0 | X38: 10.67 | Y38: 0 | Z38: 13
B39: REP. PROG. | D39: 0 | E39: 0 | F39: 0 | G39: 0 | H39: 3 | I39: 0 | J39: 5.8 | K39: 0 | L39: 0 | M39: 0 | N39: 0 | O39: 0 | Q39: 0 | R39: 0 | S39: 0 | T39: 1.08 | U39: 3 | V39: 15.5 | W39: 26.33 | X39: 0.5 | Y39: 14 | Z39: 2.33
B40: REP. NO PROG. | D40: 15.25 | E40: 45.48 | F40: 19.5 | G40: 0 | H40: 39.17 | I40: 2.25 | J40: 15.5 | K40: 83 | L40: 34.92 | M40: 29 | N40: 30 | O40: 120 | Q40: 275.16 | R40: 39.5 | S40: 93.34 | T40: 77.42 | U40: 153.05 | V40: 44 | W40: 207.5 | X40: 70.58 | Y40: 79.58 | Z40: 33
B41: H. PROG.MES | D41: 744 | E41: 672 | F41: 744 | G41: 720 | H41: 744 | I41: 720 | J41: 672 | K41: 732 | L41: 672 | M41: 684 | N41: 696 | O41: 720 | Q41: 720 | R41: 660 | S41: 744 | T41: 720 | U41: 720 | V41: 720 | W41: 744 | X41: 744 | Y41: 720 | Z41: 504
B42: HRS. ACUM.EQUIPO | D42: 208.96 | E42: 303.96 | F42: 207.06 | G42: 8.99 | H42: 261.49 | I42: 188.88 | J42: 236.25 | K42: 149.4 | L42: 148.74 | M42: 156.04 | N42: 179.7 | O42: 240.91 | Q42: 110.36 | R42: 240.45 | S42: 293.35 | T42: 252.83 | U42: 185.8 | V42: 302.86 | W42: 204.3 | X42: 309.62 | Y42: 211.8 | Z42: 222.86
A43: PORCENTAIE SEGÚN MANTENIMIENTOS | B43: % DF | D43: =+D33 -> 0.94455645 | E43: =+E33 -> 0.90330357 | F43: =+F33 -> 0.95611559 | G43: =+G33 -> 0.98055556 | H43: =+H33 -> 0.92237903 | I43: =+I33 -> 0.98298611 | J43: =+J33 -> 0.91729167 | K43: =+K33 -> 0.84836066 | ... O43: =+O33 -> 0.82651389 | Q43: =+Q33 -> 0.60325 | R43: =+R33 -> 0.89406061 | S43: =+S33 -> 0.85875 | T43: =+T33 -> 0.87708333 | U43: =+U33 -> 0.75861644 | V43: =+V33 -> 0.88413889 | W43: =+W33 -> 0.68571237 | X43: =+X33 -> 0.89012097 | ... AA43: =+AA33 -> 0
B44: % MANTTO (PM) | D44: =+D38/SUM($D$41) -> 0.034946237 | E44: =+E38/SUM($E$41) -> 0.029017857 | F44: =+F38/SUM($E$41) -> 0.014880952 | G44: =+G38/SUM($E$41) -> 0.019345238 | H44: =+H38/SUM($F$41) -> 0.02094086 | I44: =+I38/SUM($F$41) -> 0.01344086 | J44: =+J38/SUM($F$41) -> 0.053763441 | K44: =+K38/SUM($F$41) -> 0.039650538 | L44: =+L38/SUM($F$41) -> 0.01344086 | M44: =+M38/SUM($F$41) -> 0.038978495 | N44: =+N38/SUM($F$41) -> 0.049731183 | O44: =+O38/SUM($F$41) -> 0.012096774 | Q44: =+Q38/Q41 -> 0.014583333 | R44: =+R38/R41 -> 0.046090909 | S44: =+S38/SUM($F$41) -> 0.015793011 | T44: =+T38/T41 -> 0.013888889 | U44: =+U38/U41 -> 0.025 | V44: =+V38/V41 -> 0.033333333 | W44: =+W38/W41 -> 0 | X44: =+X38/X41 -> 0.014341398 | Y44: =+Y38/Y41 -> 0 | Z44: =+Z38/Z41 -> 0.025793651 | AA44: =+AA38/AA41 -> #DIV/0!
B45: % REP. PROG. | D45: =+D39/SUM($D$41) -> 0 | E45: =+E39/SUM($E$41) -> 0 | F45: =+F39/SUM($E$41) -> 0 | G45: =+G39/SUM($E$41) -> 0 | H45: =+H39/SUM($F$41) -> 0.0040322581 | I45: =+I39/SUM($F$41) -> 0 | J45: =+J39/SUM($F$41) -> 0.0077956989 | K45: =+K39/SUM($F$41) -> 0 | L45: =+L39/SUM($F$41) -> 0 | M45: =+M39/SUM($F$41) -> 0 | N45: =+N39/SUM($F$41) -> 0 | O45: =+O39/SUM($F$41) -> 0 | Q45: =+Q39/Q41 -> 0 | R45: =+R39/R41 -> 0 | S45: =+S39/SUM($F$41) -> 0 | T45: =+T39/T41 -> 0.0015 | U45: =+U39/U41 -> 0.0041666667 | V45: =+V39/V41 -> 0.021527778 | W45: =+W39/W41 -> 0.035389785 | X45: =+X39/X41 -> 0.00067204301 | Y45: =+Y39/Y41 -> 0.019444444 | Z45: =+Z39/Z41 -> 0.0046230159 | AA45: =+AA39/AA41 -> #DIV/0!
B46: % REP. NO PROG. | D46: =+D40/SUM($D$41) -> 0.020497312 | E46: =+E40/SUM($E$41) -> 0.067678571 | F46: =+F40/SUM($E$41) -> 0.029017857 | G46: =+G40/SUM($E$41) -> 0 | H46: =+H40/SUM($F$41) -> 0.052647849 | I46: =+I40/SUM($F$41) -> 0.0030241935 | J46: =+J40/SUM($F$41) -> 0.020833333 | K46: =+K40/SUM($F$41) -> 0.11155914 | L46: =+L40/SUM($F$41) -> 0.046935484 | M46: =+M40/SUM($F$41) -> 0.038978495 | N46: =+N40/SUM($F$41) -> 0.040322581 | O46: =+O40/SUM($F$41) -> 0.16129032 | Q46: =+Q40/Q41 -> 0.38216667 | R46: =+R40/R41 -> 0.059848485 | S46: =+S40/SUM($F$41) -> 0.12545699 | T46: =+T40/T41 -> 0.10752778 | U46: =+U40/U41 -> 0.21256944 | V46: =+V40/V41 -> 0.061111111 | W46: =+W40/W41 -> 0.27889785 | X46: =+X40/X41 -> 0.094865591 | Y46: =+Y40/Y41 -> 0.11052778 | Z46: =+Z40/Z41 -> 0.06547619 | AA46: =+AA40/AA41 -> #DIV/0!
B47: TOTAL | D47: =SUM(D43:D46) -> 1 | E47: =SUM(E43:E46) -> 1 | F47: =SUM(F43:F46) -> 1.0000144 | G47: =SUM(G43:G46) -> 0.99990079 | H47: =SUM(H43:H46) -> 1 | I47: =SUM(I43:I46) -> 0.99945116 | J47: =SUM(J43:J46) -> 0.99968414 | K47: =SUM(K43:K46) -> 0.99957033 | ... O47: =SUM(O43:O46) -> 0.99990099 | Q47: =SUM(Q43:Q46) -> 1 | R47: =SUM(R43:R46) -> 1 | S47: =SUM(S43:S46) -> 1 | T47: =SUM(T43:T46) -> 1 | U47: =SUM(U43:U46) -> 1.0003525 | V47: =SUM(V43:V46) -> 1.0001111 | W47: =SUM(W43:W46) -> 1 | X47: =SUM(X43:X46) -> 1 | ... AA47: =SUM(AA43:AA46) -> #DIV/0!
A48: CAT 03 | C48: PROM. 2020 | D48: 44197 | E48: 44228 | F48: 44256 | G48: 44287 | H48: 44317 | I48: 44348 | J48: 44378 | K48: 44409 | L48: 44440 | M48: 44470 | N48: 44501 | O48: 44531 | P48: PROM. 2022 | Q48: 44562 | R48: 44593 | S48: 44621 | T48: 44652 | U48: 44682 | V48: 44713 | W48: 44743 | X48: 44774 | Y48: 44805 | Z48: 44835 | AA48: 44866 | AB48: 44896 | AC48: 44927 | AD48: 44958 | AE48: 44986 | AF48: 45017 | AG48: 45047 | AH48: 45078 | AI48: 45108 | AJ48: 45139 | AK48: 45170 | AL48: 45200 | AM48: 45231 | AN48: 45261 | AO48: PROM. 2023 | AP48: OBJ
A49: KPIs | B49: DF | C49: 0.57124844 | D49: 0.9308871 | E49: 0.89508929 | F49: 0.95643817 | G49: 0.99791667 | H49: 0.83763441 | I49: 0.97268056 | J49: 0.8608631 | K49: 0.52847222 | L49: 0.90004464 | M49: 0.875 | N49: 0.94313218 | O49: 0.83241667 | P49: 0.586263 | Q49: 0.92163889 | R49: 0.93598485 | S49: 0.6494086 | T49: 0.33611111 | U49: 0 | V49: 0 | W49: 0.27217742 | X49: 0.59744624 | Y49: 0.78947222 | Z49: 0.77620968 | AA49: 0.94625 | AB49: 0.81045699 | AC49: 0.92352151 | AD49: 0.94084821 | AE49: 0.90483871 | AF49: 0.93472222 | AG49: 0.96740591 | AH49: 0.69954167 | AI49: 0.69740591 | AJ49: 0.87231183 | AK49: 0.91186722 | AL49: 0.91181452 | AM49: 0.81690278 | AN49: 0.82419355 | AO49: =AVERAGE(AC49:AN49) -> 0.8671145 | AP49: 0.85
B50: UTIL | C50: 0.2800863 | D50: 0.36934361 | E50: 0.48902743 | F50: 0.14421226 | G50: 0 | H50: 0.34184852 | I50: 0.28900661 | J50: 0.42504754 | K50: 0.36462549 | L50: 0.51181324 | M50: 0.37436926 | N50: 0.48610646 | O50: 0.43591284 | P50: 0.28559263 | Q50: 0.42572109 | R50: 0.43876973 | S50: 0.48493253 | T50: 0.42520661 | U50: 0 | V50: 0 | W50: 0.26671605 | X50: 0.12845894 | Y50: 0.16178178 | Z50: 0.30805195 | AA50: 0.30221635 | AB50: 0.48525656 | AC50: 0.42057925 | AD50: 0.53342823 | AE50: 0.50800654 | AF50: 0.47398217 | AG50: 0.32061132 | AH50: 0.41545059 | AI50: 0.38358356 | AJ50: 0.41590139 | AK50: 0.41396675 | AL50: 0.43874467 | AM50: 0.29792407 | AN50: 0.38075669 | AO50: =AVERAGE(AC50:AN50) -> 0.41691127 | AP50: 0.5
B51: MTBF | C51: 27.620382 | D51: 25.58 | E51: 73.5375 | F51: 20.524 | G51: 0 | H51: 16.387692 | I51: 40.48 | J51: 17.563571 | K51: 15.415556 | L51: 61.912 | M51: 20.369091 | N51: 45.584286 | O51: 43.543333 | P51: 31.595155 | Q51: 31.388889 | R51: 54.21 | S51: 26.033333 | T51: 34.3 | U51: 0 | V51: 0 | W51: 54.01 | X51: 14.275 | Y51: 13.137143 | Z51: 22.2375 | AA51: 102.95 | AB51: 26.6 | AC51: 72.245 | AD51: 56.21 | AE51: 37.998889 | AF51: 45.57 | AG51: 38.46 | AH51: 20.925 | AI51: 13.268667 | AJ51: 33.74 | AK51: 30.324444 | AL51: 29.764 | AM51: 19.47 | AN51: 25.942222 | AO51: =AVERAGE(AC51:AN51) -> 35.326519 | AP51: 50
B52: MTTR | C52: 132.31753 | D52: 2.642 | E52: 5.875 | F52: 3.466 | G52: 1.5 | H52: 5.4461538 | I52: 2.334 | J52: 5.9164286 | K52: 18.777778 | L52: 4.234 | M52: 3.5909091 | N52: 2.6542857 | O52: 14.18 | P52: 149.7228 | Q52: 4.2411111 | R52: 2.6 | S52: 26.676667 | T52: 152.94333 | U52: 240 | V52: 720 | W52: 522 | X52: 74.125 | Y52: 19.368571 | Z52: 20.8125 | AA52: 3.75 | AB52: 10.156364 | AC52: 6.75 | AD52: 1.9583333 | AE52: 1.5444444 | AF52: 1.4285714 | AG52: 2.7083333 | AH52: 17.033 | AI52: 14.142 | AJ52: 3.5 | AK52: 4.3022222 | AL52: 2.561 | AM52: 11.092222 | AN52: 3.4222222 | AO52: =AVERAGE(AC52:AN52) -> 5.8701958 | AP52: 5
AP53: PorcentAIe
A54: HORAS POR MANTTO | B54: MANTTO (PM) | D54: 25 | E54: 23.5 | F54: 15.08 | G54: 0 | H54: 25 | I54: 8 | J54: 10.67 | K54: 170.5 | L54: 46 | M54: 46 | N54: 21 | O54: 35.58 | Q54: 18.25 | R54: 29.25 | S54: 19 | T54: 12 | U54: 0 | V54: 0 | W54: 0 | X54: 0 | Y54: 7 | Z54: 0 | AA54: 24 | AB54: 29 | AC54: 24.9 | AD54: 28 | AE54: 54.5 | AF54: 31.5 | AG54: 8 | AH54: 28 | AI54: 11 | AJ54: 55 | AK54: 25 | AL54: 35 | AM54: 29 | AN54: 33
B55: REP. PROG. | D55: 0 | E55: 0 | F55: 0 | G55: 0 | H55: 25 | I55: 0 | J55: 0 | K55: 0 | L55: 0 | M55: 0 | N55: 0 | O55: 0 | Q55: 0 | R55: 0 | S55: 1.75 | T55: 7.17 | U55: 0 | V55: 0 | W55: 19.5 | X55: 3 | Y55: 9.5 | Z55: 0 | AA55: 7.2 | AB55: 0 | AC55: 5 | AD55: 0 | AE55: 2.4 | AF55: 5.5 | AG55: 0 | AH55: 18 | AI55: 2 | AJ55: 12 | AK55: 0 | AL55: 5 | AM55: 3 | AN55: 67
B56: REP. NO PROG. | D56: 26.42 | E56: 23.5 | F56: 17.33 | G56: 1.5 | H56: 70.8 | I56: 11.67 | J56: 82.83 | K56: 169 | L56: 21.17 | M56: 39.5 | N56: 18.58 | O56: 85.08 | Q56: 38.17 | R56: 13 | S56: 240.09 | T56: 458.83 | U56: 720 | V56: 720 | W56: 522 | X56: 296.5 | Y56: 135.58 | Z56: 166.5 | AA56: 7.5 | AB56: 111.72 | AC56: 27 | AD56: 11.75 | AE56: 13.9 | AF56: 10 | AG56: 16.25 | AH56: 170.33 | AI56: 212.13 | AJ56: 28 | AK56: 38.72 | AL56: 25.61 | AM56: 99.83 | AN56: 30.8
B57: H. PROG.MES | D57: 744 | E57: 672 | F57: 744 | G57: 720 | H57: 744 | I57: 720 | J57: 672 | K57: 720 | L57: 672 | M57: 684 | N57: 696 | O57: 720 | Q57: 720 | R57: 660 | S57: 744 | T57: 720 | U57: 720 | V57: 720 | W57: 744 | X57: 744 | Y57: 720 | Z57: 744 | AA57: 720 | AB57: 744 | AC57: 744 | AD57: 672 | AE57: 744 | AF57: 720 | AG57: 744 | AH57: 720 | AI57: 744 | AJ57: 744 | AK57: 723 | AL57: 744 | AM57: 720 | AN57: 744
B58: HRS. ACUM.EQUIPO | D58: 255.8 | E58: 294.15 | F58: 102.62 | G58: 0 | H58: 213.04 | I58: 202.4 | J58: 245.89 | K58: 138.74 | L58: 309.56 | M58: 224.06 | N58: 319.09 | O58: 261.26 | Q58: 282.5 | R58: 271.05 | S58: 234.3 | T58: 102.9 | U58: 0 | V58: 0 | W58: 54.01 | X58: 57.1 | Y58: 91.96 | Z58: 177.9 | AA58: 205.9 | AB58: 292.6 | AC58: 288.98 | AD58: 337.6 | AE58: 341.99 | AF58: 318.99 | AG58: 230.76 | AH58: 209.25 | AI58: 199.03 | AJ58: 269.23 | AK58: 272.92 | AL58: 297.53 | AM58: 175.23
A59: PORCENTAIE SEGÚN MANTENIMIENTOS | B59: % DF | D59: =+D49 -> 0.9308871 | E59: =+E49 -> 0.89508929 | F59: =+F49 -> 0.95643817 | G59: =+G49 -> 0.99791667 | H59: =+H49 -> 0.83763441 | I59: =+I49 -> 0.97268056 | J59: =+J49 -> 0.8608631 | K59: =+K49 -> 0.52847222 | ... O59: =+O49 -> 0.83241667 | Q59: =+Q49 -> 0.92163889 | R59: =+R49 -> 0.93598485 | S59: =+S49 -> 0.6494086 | T59: =+T49 -> 0.33611111 | U59: =+U49 -> 0 | V59: =+V49 -> 0 | W59: =+W49 -> 0.27217742 | X59: =+X49 -> 0.59744624 | ... AN59: =+AN49 -> 0.82419355
B60: % MANTTO (PM) | D60: =+D54/D57 -> 0.033602151 | E60: =+E54/E57 -> 0.034970238 | F60: =+F54/F57 -> 0.020268817 | G60: =+G54/G57 -> 0 | H60: =+H54/H57 -> 0.033602151 | I60: =+I54/I57 -> 0.011111111 | J60: =+J54/J57 -> 0.015877976 | K60: =+K54/K57 -> 0.23680556 | ... O60: =+O54/O57 -> 0.049416667 | Q60: =+Q54/Q57 -> 0.025347222 | R60: =+R54/R57 -> 0.044318182 | S60: =+S54/SUM($F$41) -> 0.025537634 | T60: =+T54/T57 -> 0.016666667 | U60: =+U54/U57 -> 0 | V60: =+V54/V57 -> 0 | W60: =+W54/W57 -> 0 | X60: =+X54/X57 -> 0 | Y60: =+Y54/Y57 -> 0.0097222222 | Z60: =+Z54/Z57 -> 0 | AA60: =+AA54/AA57 -> 0.033333333 | ... AN60: =+AN54/AN57 -> 0.044354839
B61: % REP. PROG. | D61: =+D55/D57 -> 0 | E61: =+E54/E57 -> 0.034970238 | F61: =+F55/F57 -> 0 | G61: =+G54/G57 -> 0 | H61: =+H55/H57 -> 0.033602151 | I61: =+I55/I57 -> 0 | J61: =+J55/J57 -> 0 | K61: =+K55/K57 -> 0 | L61: =+L55/L57 -> 0 | M61: =+M55/M57 -> 0 | N61: =+N55/N57 -> 0 | O61: =+O55/O57 -> 0 | Q61: =+Q55/Q57 -> 0 | R61: =+R55/R57 -> 0 | S61: =+S55/SUM($F$41) -> 0.0023521505 | T61: =+T55/T57 -> 0.0099583333 | U61: =+U55/U57 -> 0 | V61: =+V55/V57 -> 0 | W61: =+W55/W57 -> 0.026209677 | X61: =+X55/X57 -> 0.0040322581 | Y61: =+Y55/Y57 -> 0.013194444 | Z61: =+Z55/Z57 -> 0 | AA61: =+AA55/AA57 -> 0.01 | ... AN61: =+AN55/AN57 -> 0.090053763
B62: % REP. NO PROG. | D62: =+D56/D57 -> 0.035510753 | E62: =+E56/E57 -> 0.034970238 | F62: =+F56/F57 -> 0.023293011 | G62: =+G56/G57 -> 0.0020833333 | H62: =+H56/H57 -> 0.09516129 | I62: =+I56/I57 -> 0.016208333 | J62: =+J56/J57 -> 0.12325893 | K62: =+K56/K57 -> 0.23472222 | ... O62: =+O56/O57 -> 0.11816667 | Q62: =+Q56/Q57 -> 0.053013889 | R62: =+R56/R57 -> 0.01969697 | S62: =+S56/SUM($F$41) -> 0.32270161 | T62: =+T56/T57 -> 0.63726389 | U62: =+U56/U57 -> 1 | V62: =+V56/V57 -> 1 | W62: =+W56/W57 -> 0.7016129 | X62: =+X56/X57 -> 0.39852151 | Y62: =+Y56/Y57 -> 0.18830556 | Z62: =+Z56/Z57 -> 0.22379032 | AA62: =+AA56/AA57 -> 0.010416667 | ... AN62: =+AN56/AN57 -> 0.041397849
B63: TOTAL | D63: =SUM(D59:D62) -> 1 | E63: =SUM(E59:E62) -> 1 | F63: =SUM(F59:F62) -> 1 | G63: =SUM(G59:G62) -> 1 | H63: =SUM(H59:H62) -> 1 | I63: =SUM(I59:I62) -> 1 | J63: =SUM(J59:J62) -> 1 | K63: =SUM(K59:K62) -> 1 | ... O63: =SUM(O59:O62) -> 1 | Q63: =SUM(Q59:Q62) -> 1 | R63: =SUM(R59:R62) -> 1 | S63: =SUM(S59:S62) -> 1 | T63: =SUM(T59:T62) -> 1 | U63: =SUM(U59:U62) -> 1 | V63: =SUM(V59:V62) -> 1 | W63: =SUM(W59:W62) -> 1 | X63: =SUM(X59:X62) -> 1 | ... AN63: =SUM(AN59:AN62) -> 1
A64: CAT 04 | C64: PROM. 2020 | D64: 44197 | E64: 44228 | F64: 44256 | G64: 44287 | H64: 44317 | I64: 44348 | J64: 44378 | K64: 44409 | L64: 44440 | M64: 44470 | N64: 44501 | O64: 44531 | P64: PROM. 2022 | Q64: 44562 | R64: 44593 | S64: 44621 | T64: 44652 | U64: 44682 | V64: 44713 | W64: 44743 | X64: 44774 | Y64: 44805 | Z64: 44835 | AA64: 44866 | AB64: 44896 | AC64: 44927 | AD64: 44958 | AE64: 44986 | AF64: 45017 | AG64: 45047 | AH64: 45078 | AI64: 45108 | AJ64: 45139 | AK64: 45170 | AL64: 45200 | AM64: 45231 | AN64: 45261 | AO64: PROM. 2023 | AP64: OBJ
A65: KPIs | B65: DF | C65: 0.85572744 | D65: 0.93818548 | E65: 0.8872619 | F65: 0.94400538 | G65: 1 | H65: 0.9522043 | I65: 0.89919444 | J65: 0.84239583 | K65: 0.94952778 | L65: 0.89322917 | M65: 0.92982456 | N65: 0.88218391 | O65: 0.82118056 | P65: 0.84641539 | Q65: 0.75543056 | R65: 0.58762121 | S65: 0.91084677 | T65: 0.89108333 | U65: 0.92579452 | V65: 0.83311111 | W65: 0.65547043 | X65: 0.91139785 | Y65: 0.93934722 | Z65: 0.89012097 | AA65: 0.93041667 | AB65: 0.92634409 | AC65: 0.95172043 | AD65: 0.90315476 | AE65: 0.78346774 | AF65: 0.84319444 | AG65: 0.92271505 | AH65: 0.89290278 | AI65: 0.93245968 | AJ65: 0.93682796 | AK65: 0.95323611 | AL65: 0.94197581 | AM65: 0.88333333 | AN65: 0.66801075 | AO65: =AVERAGE(AC65:AN65) -> 0.88441657 | AP65: 0.85
B66: UTIL | C66: 0.46162329 | D66: 0.4889758 | E66: 0.4805112 | F66: 0.31101746 | G66: 0.00375 | H66: 0.34808876 | I66: 0.37708134 | J66: 0.45563426 | K66: 0.40334377 | L66: 0.4729696 | M66: 0.39852201 | N66: 0.48192182 | O66: 0.48478647 | P66: 0.42730304 | Q66: 0.41764262 | R66: 0.36041565 | S66: 0.46276211 | T66: 0.47104024 | U66: 0.42355326 | V66: 0.48239531 | W66: 0.46022925 | X66: 0.40740031 | Y66: 0.45041622 | Z66: 0.43661759 | AA66: 0.37766831 | AB66: 0.37749565 | AC66: 0.39978533 | AD66: 0.52085942 | AE66: 0.45458912 | AF66: 0.49087465 | AG66: 0.40498179 | AH66: 0.43707322 | AI66: 0.40098018 | AJ66: 0.46901004 | AK66: 0.43390206 | AL66: 0.37201604 | AM66: 0.42976415 | AN66: 0.45130785 | AO66: =AVERAGE(AC66:AN66) -> 0.43876199 | AP66: 0.5
B67: MTBF | C67: 35.228388 | D67: 42.66375 | E67: 31.833333 | F67: 43.688 | G67: 0 | H67: 41.1 | I67: 22.193636 | J67: 85.976667 | K67: 30.638889 | L67: 40.557143 | M67: 50.692 | N67: 42.271429 | O67: 95.543333 | P67: 41.908348 | Q67: 25.24 | R67: 15.531111 | S67: 39.2 | T67: 23.246923 | U67: 40.892857 | V67: 41.337143 | W67: 32.062857 | X67: 39.464286 | Y67: 50.771667 | Z67: 57.83 | AA67: 50.6 | AB67: 86.723333 | AC67: 94.36 | AD67: 52.686667 | AE67: 29.442222 | AF67: 24.834167 | AG67: 30.891111 | AH67: 28.099 | AI67: 21.398462 | AJ67: 46.7 | AK67: 99.266667 | AL67: 43.453333 | AM67: 68.3325 | AN67: 24.922222 | AO67: =AVERAGE(AC67:AN67) -> 47.032196 | AP67: 50
B68: MTTR | C68: 10.425995 | D68: 3.16625 | E68: 2.9177778 | F68: 2 | G68: 0 | H68: 1.26 | I68: 2.0836364 | J68: 22.916667 | K68: 2.3433333 | L68: 4.4528571 | M68: 2.6 | N68: 4.5 | O68: 34.916667 | P68: 9.9368427 | Q68: 16.898889 | R68: 28.13 | S68: 8.125 | T68: 3.7884615 | U68: 4.8814286 | V68: 8.8085714 | W68: 21.047143 | X68: 5.7742857 | Y68: 4.695 | Z68: 6.6 | AA68: 1.06 | AB68: 9.4333333 | AC68: 0.80666667 | AD68: 6.2916667 | AE68: 8.8222222 | AF68: 5.9916667 | AG68: 4.2777778 | AH68: 2.411 | AI68: 1.8653846 | AJ68: 3 | AK68: 1.0566667 | AL68: 1.6116667 | AM68: 4.5 | AN68: 24.777778 | AO68: =AVERAGE(AC68:AN68) -> 5.4510413 | AP68: 5
A70: HORAS POR MANTTO | B70: MANTTO (PM) | D70: 20.66 | E70: 40.5 | F70: 31.66 | G70: 0 | H70: 25 | I70: 40.66 | J70: 30 | K70: 15.25 | L70: 40.58 | M70: 35 | N70: 50.5 | O70: 24 | Q70: 24 | R70: 19 | S70: 1.33 | T70: 26.17 | U70: 10.5 | V70: 14 | W70: 34 | X70: 24.5 | Y70: 10.5 | Z70: 36.5 | AA70: 26.5 | AB70: 26.5 | AC70: 25.5 | AD70: 17 | AE70: 28.6 | AF70: 30 | AG70: 19 | AH70: 50 | AI70: 26 | AJ70: 26 | AK70: 29.5 | AL70: 27 | AM70: 66 | AN70: 18
B71: REP. PROG. | D71: 0 | E71: 9 | F71: 0 | G71: 0 | H71: 3 | I71: 9 | J71: 7.16 | K71: 0 | L71: 0 | M71: 0 | N71: 0 | O71: 0 | Q71: 0 | R71: 0 | S71: 0 | T71: 3 | U71: 9.5 | V71: 44.5 | W71: 90 | X71: 1 | Y71: 5 | Z71: 12.25 | AA71: 18.3 | AB71: 0 | AC71: 8 | AD71: 10.33 | AE71: 53.1 | AF71: 11 | AG71: 0 | AH71: 3 | AI71: 0 | AJ71: 0 | AK71: 1 | AL71: 6.5 | AM71: 0 | AN71: 24
B72: REP. NO PROG. | D72: 25.33 | E72: 26.26 | F72: 10 | G72: 0 | H72: 7.56 | I72: 22.92 | J72: 68.75 | K72: 21.09 | L72: 31.17 | M72: 13 | N72: 31.5 | O72: 104.75 | Q72: 152.09 | R72: 253.17 | S72: 65 | T72: 49.25 | U72: 34.17 | V72: 61.66 | W72: 147.33 | X72: 40.42 | Y72: 28.17 | Z72: 33 | AA72: 5.3 | AB72: 28.3 | AC72: 2.42 | AD72: 37.75 | AE72: 79.4 | AF72: 71.9 | AG72: 38.5 | AH72: 24.11 | AI72: 24.25 | AJ72: 21 | AK72: 3.17 | AL72: 9.67 | AM72: 18 | AN72: 205
B73: H. PROG.MES | D73: 744 | E73: 672 | F73: 744 | G73: 720 | H73: 744 | I73: 720 | J73: 672 | K73: 720 | L73: 672 | M73: 684 | N73: 696 | O73: 720 | Q73: 720 | R73: 660 | S73: 744 | T73: 720 | U73: 720 | V73: 720 | W73: 744 | X73: 744 | Y73: 720 | Z73: 744 | AA73: 720 | AB73: 744 | AC73: 744 | AD73: 672 | AE73: 744 | AF73: 720 | AG73: 744 | AH73: 720 | AI73: 744 | AJ73: 744 | AK73: 720 | AL73: 744 | AM73: 720 | AN73: 744
B74: HRS. ACUM.EQUIPO | D74: 341.31 | E74: 286.5 | F74: 218.44 | G74: 2.7 | H74: 246.6 | I74: 244.13 | J74: 257.93 | K74: 275.75 | L74: 283.9 | M74: 253.46 | N74: 295.9 | O74: 286.63 | Q74: 227.16 | R74: 139.78 | S74: 313.6 | T74: 302.21 | U74: 286.25 | V74: 289.36 | W74: 224.44 | X74: 276.25 | Y74: 304.63 | Z74: 289.15 | AA74: 253 | AB74: 260.17 | AC74: 283.08 | AD74: 316.12 | AE74: 264.98 | AF74: 298.01 | AG74: 278.02 | AH74: 280.99 | AI74: 278.18 | AJ74: 326.9 | AK74: 297.8 | AL74: 260.35 | AM74: 273.33 | AN74: 224.3
A75: PORCENTAIE SEGÚN MANTENIMIENTOS | B75: % DF | D75: =+D65 -> 0.93818548 | E75: =+E65 -> 0.8872619 | F75: =+F65 -> 0.94400538 | G75: =+G65 -> 1 | H75: =+H65 -> 0.9522043 | I75: =+I65 -> 0.89919444 | J75: =+J65 -> 0.84239583 | K75: =+K65 -> 0.94952778 | ... O75: =+O65 -> 0.82118056 | Q75: =+Q65 -> 0.75543056 | R75: =+R65 -> 0.58762121 | S75: =+S65 -> 0.91084677 | T75: =+T65 -> 0.89108333 | U75: =+U65 -> 0.92579452 | V75: =+V65 -> 0.83311111 | W75: =+W65 -> 0.65547043 | X75: =+X65 -> 0.91139785 | ... AN75: =+AN65 -> 0.66801075
B76: % MANTTO (PM) | D76: =+D70/D73 -> 0.027768817 | E76: =+E70/E73 -> 0.060267857 | F76: =+F70/F73 -> 0.042553763 | G76: =+G70/G73 -> 0 | H76: =+H70/H73 -> 0.033602151 | I76: =+I70/I73 -> 0.056472222 | J76: =+J70/J73 -> 0.044642857 | K76: =+K70/K73 -> 0.021180556 | ... O76: =+O70/O73 -> 0.033333333 | Q76: =+Q70/Q73 -> 0.033333333 | R76: =+R70/R73 -> 0.028787879 | S76: =+S70/SUM($F$41) -> 0.0017876344 | T76: =+T70/T73 -> 0.036347222 | U76: =+U70/U73 -> 0.014583333 | V76: =+V70/V73 -> 0.019444444 | W76: =+W70/W73 -> 0.045698925 | X76: =+X70/X73 -> 0.032930108 | Y76: =+Y70/Y73 -> 0.014583333 | Z76: =+Z70/Z73 -> 0.04905914 | AA76: =+AA70/AA73 -> 0.036805556 | ... AN76: =+AN70/AN73 -> 0.024193548
B77: % REP. PROG. | D77: =+D71/D73 -> 0 | E77: =+E71/E73 -> 0.013392857 | F77: =+F71/F73 -> 0 | G77: =+G71/G73 -> 0 | H77: =+H71/H73 -> 0.0040322581 | I77: =+I71/I73 -> 0.0125 | J77: =+J71/J73 -> 0.010654762 | K77: =+K71/K73 -> 0 | ... O77: =+O71/O73 -> 0 | Q77: =+Q71/Q73 -> 0 | R77: =+R71/R73 -> 0 | S77: =+S71/SUM($F$41) -> 0 | T77: =+T71/T73 -> 0.0041666667 | U77: =+U71/U73 -> 0.013194444 | V77: =+V71/V73 -> 0.061805556 | W77: =+W71/W73 -> 0.12096774 | X77: =+X71/X73 -> 0.001344086 | Y77: =+Y71/Y73 -> 0.0069444444 | Z77: =+Z71/Z73 -> 0.016465054 | AA77: =+AA71/AA73 -> 0.025416667 | ... AN77: =+AN71/AN73 -> 0.032258065
B78: % REP. NO PROG. | D78: =+D72/D73 -> 0.034045699 | E78: =+E72/E73 -> 0.039077381 | F78: =+F72/F73 -> 0.01344086 | G78: =+G72/G73 -> 0 | H78: =+H72/H73 -> 0.01016129 | I78: =+I72/I73 -> 0.031833333 | J78: =+J72/J73 -> 0.10230655 | K78: =+K72/K73 -> 0.029291667 | ... O78: =+O72/O73 -> 0.14548611 | Q78: =+Q72/Q73 -> 0.21123611 | R78: =+R72/R73 -> 0.38359091 | S78: =+S72/SUM($F$41) -> 0.087365591 | T78: =+T72/T73 -> 0.068402778 | U78: =+U72/U73 -> 0.047458333 | V78: =+V72/V73 -> 0.085638889 | W78: =+W72/W73 -> 0.19802419 | X78: =+X72/X73 -> 0.054327957 | Y78: =+Y72/Y73 -> 0.039125 | Z78: =+Z72/Z73 -> 0.044354839 | AA78: =+AA72/AA73 -> 0.0073611111 | ... AN78: =+AN72/AN73 -> 0.27553763
B79: TOTAL | D79: =SUM(D75:D78) -> 1 | E79: =SUM(E75:E78) -> 1 | F79: =SUM(F75:F78) -> 1 | G79: =SUM(G75:G78) -> 1 | H79: =SUM(H75:H78) -> 1 | I79: =SUM(I75:I78) -> 1 | J79: =SUM(J75:J78) -> 1 | K79: =SUM(K75:K78) -> 1 | ... O79: =SUM(O75:O78) -> 1 | Q79: =SUM(Q75:Q78) -> 1 | R79: =SUM(R75:R78) -> 1 | S79: =SUM(S75:S78) -> 1 | T79: =SUM(T75:T78) -> 1 | U79: =SUM(U75:U78) -> 1.0010306 | V79: =SUM(V75:V78) -> 1 | W79: =SUM(W75:W78) -> 1.0201613 | X79: =SUM(X75:X78) -> 1 | ... AN79: =SUM(AN75:AN78) -> 1
A80: CAT 05 | C80: PROM. 2020 | D80: 44197 | E80: 44228 | F80: 44256 | G80: 44287 | H80: 44317 | I80: 44348 | J80: 44378 | K80: 44409 | L80: 44440 | M80: 44470 | N80: 44501 | O80: 44531 | P80: PROM. 2022 | Q80: 44562 | R80: 44593 | S80: 44621 | T80: 44652 | U80: 44682 | V80: 44713 | W80: 44743 | X80: 44774 | Y80: 44805 | Z80: 44835 | AA80: 44866 | AB80: 44896 | AC80: 44927 | AD80: 44958 | AE80: 44986 | AF80: 45017 | AG80: 45047 | AH80: 45078 | AI80: 45108 | AJ80: 45139 | AK80: 45170 | AL80: 45200 | AM80: 45231 | AN80: 45261 | AO80: PROM. 2023 | AP80: OBJ
A81: KPIs | B81: DF | C81: 0.84313111 | D81: 0.77776882 | E81: 0.67808036 | F81: 0.87763441 | G81: 1 | H81: 0.96192204 | I81: 0.94594444 | J81: 0.84002976 | K81: 0.92304167 | L81: 0.93799107 | M81: 0.90862573 | N81: 0.93175287 | O81: 0.89190278 | P81: 0.87742572 | Q81: 0.89258333 | R81: 0.8964697 | S81: 0.81395161 | T81: 0.83309722 | U81: 0.90670833 | V81: 0.76748611 | W81: 0.94892473 | X81: 0.92708333 | Y81: 0.83923611 | Z81: 0.91969086 | AA81: 0.88602778 | AB81: 0.89784946 | AC81: 0.90646505 | AD81: 0.91845238 | AE81: 0.88662634 | AF81: 0.90583333 | AG81: 0.8391129 | AH81: 0.89583333 | AI81: 0.72803763 | AJ81: 0.9499328 | AK81: 0.91783333 | AL81: 0.9516129 | AM81: 0.84305556 | AN81: 0.74888441 | AO81: =AVERAGE(AC81:AN81) -> 0.87430666 | AP81: 0.85
B82: UTIL | C82: 0.44091096 | D82: 0.29029136 | E82: 0.5026664 | F82: 0.26540676 | G82: 0 | H82: 0.47443654 | I82: 0.43269513 | J82: 0.36922941 | K82: 0.44404821 | L82: 0.41760665 | M82: 0.1188576 | N82: 0.34976099 | O82: 0.54378124 | P82: 0.47548131 | Q82: 0.4849376 | R82: 0.49573242 | S82: 0.48318967 | T82: 0.39492856 | U82: 0.46538915 | V82: 0.50827919 | W82: 0.44899433 | X82: 0.48514679 | Y82: 0.45153496 | Z82: 0.49511144 | AA82: 0.5549268 | AB82: 0.43760479 | AC82: 0.48531309 | AD82: 0.56482502 | AE82: 0.50629879 | AF82: 0.52851886 | AG82: 0.52109563 | AH82: 0.52203101 | AI82: 0.5359266 | AJ82: 0.54661479 | AK82: 0.41265662 | AL82: 0.51275424 | AM82: 0.52392092 | AN82: 0.49541433 | AO82: =AVERAGE(AC82:AN82) -> 0.51294749 | AP82: 0.5
B83: MTBF | C83: 42.639375 | D83: 1.4543723 | E83: 76.35 | F83: 43.325 | G83: 0 | H83: 67.908 | I83: 98.233333 | J83: 52.1075 | K83: 29.511 | L83: 87.743333 | M83: 12.311667 | N83: 56.705 | O83: 26.861538 | P83: 49.056947 | Q83: 62.33 | R83: 58.662 | S83: 22.508462 | T83: 26.321111 | U83: 27.62 | V83: 31.207778 | W83: 45.284286 | X83: 47.804286 | Y83: 136.42 | Z83: 84.695 | AA83: 39.334444 | AB83: 6.496 | AC83: 29.754545 | AD83: 87.1525 | AE83: 30.361818 | AF83: 28.725 | AG83: 32.532 | AH83: 42.08875 | AI83: 26.39 | AJ83: 77.264 | AK83: 45.45 | AL83: 60.505 | AM83: 39.7525 | AN83: 39.432857 | AO83: =AVERAGE(AC83:AN83) -> 44.950748 | AP83: 50
B84: MTTR | C84: 15.623168 | D84: 2.0245887 | E84: 63.776667 | F84: 16.9675 | G84: 0 | H84: 1.6 | I84: 4.14 | J84: 23.875 | K84: 3.533 | L84: 0.55666667 | M84: 7.75 | N84: 2.125 | O84: 3.1407692 | P84: 7.7069568 | Q84: 0.6 | R84: 2.566 | S84: 3.8592308 | T84: 8.7411111 | U84: 3.0609091 | V84: 14.536667 | W84: 2.6428571 | X84: 2.3214286 | Y84: 39.5 | Z84: 9.9375 | AA84: 3.9177778 | AB84: 0.8 | AC84: 4.69 | AD84: 2.5 | AE84: 5.1954545 | AF84: 3.1083333 | AG84: 5.17 | AH84: 6 | AI84: 13.849091 | AJ84: 1.85 | AK84: 5.36 | AL84: 2.1666667 | AM84: 8.125 | AN84: 23.118571 | AO84: =AVERAGE(AC84:AN84) -> 6.7610931 | AP84: 5
A86: HORAS POR MANTTO | B86: MANTTO (PM) | D86: 26.5 | E86: 25 | F86: 23.17 | G86: 0 | H86: 16.33 | I86: 26.5 | J86: 12 | K86: 20.08 | L86: 40 | M86: 16 | N86: 39 | O86: 37 | Q86: 74.34 | R86: 55.5 | S86: 78.25 | T86: 15 | U86: 32 | V86: 17 | W86: 8 | X86: 38 | Y86: 26.5 | Z86: 20 | AA86: 32.3 | AB86: 25 | AC86: 12 | AD86: 44.3 | AE86: 27.2 | AF86: 24 | AG86: 52 | AH86: 24 | AI86: 26 | AJ86: 28 | AK86: 22 | AL86: 21 | AM86: 48 | AN86: 12
B87: REP. PROG. | D87: 0 | E87: 0 | F87: 0 | G87: 0 | H87: 4 | I87: 0 | J87: 0 | K87: 0 | L87: 0 | M87: 0 | N87: 0 | O87: 0 | Q87: 0 | R87: 0 | S87: 10 | T87: 26.5 | U87: 1.5 | V87: 19.58 | W87: 11.5 | X87: 0 | Y87: 10.25 | Z87: 0 | AA87: 14.5 | AB87: 15 | AC87: 6 | AD87: 0.5 | AE87: 0 | AF87: 6.5 | AG87: 16 | AH87: 3 | AI87: 24 | AJ87: 0 | AK87: 5 | AL87: 2 | AM87: 0 | AN87: 13
B88: REP. NO PROG. | D88: 139.14 | E88: 191.33 | F88: 67.87 | G88: 0 | H88: 8 | I88: 12.42 | J88: 95.5 | K88: 35.33 | L88: 1.67 | M88: 46.5 | N88: 8.5 | O88: 40.83 | Q88: 3 | R88: 12.83 | S88: 50.17 | T88: 78.67 | U88: 33.67 | V88: 130.83 | W88: 18.5 | X88: 16.25 | Y88: 79 | Z88: 39.75 | AA88: 35.26 | AB88: 36 | AC88: 51.59 | AD88: 10 | AE88: 57.15 | AF88: 37.3 | AG88: 51.7 | AH88: 48 | AI88: 152.34 | AJ88: 9.25 | AK88: 32.16 | AL88: 13 | AM88: 65 | AN88: 161.83
B89: H. PROG.MES | D89: 744 | E89: 672 | F89: 744 | G89: 720 | H89: 744 | I89: 720 | J89: 672 | K89: 720 | L89: 672 | M89: 684 | N89: 696 | O89: 720 | Q89: 720 | R89: 660 | S89: 744 | T89: 720 | U89: 720 | V89: 720 | W89: 744 | X89: 744 | Y89: 720 | Z89: 744 | AA89: 720 | AB89: 744 | AC89: 744 | AD89: 672 | AE89: 744 | AF89: 720 | AG89: 744 | AH89: 720 | AI89: 744 | AJ89: 744 | AK89: 720 | AL89: 744 | AM89: 720 | AN89: 744
B90: HRS. ACUM.EQUIPO | D90: 167.98 | E90: 229.05 | F90: 173.3 | G90: 0 | H90: 339.54 | I90: 294.7 | J90: 208.43 | K90: 295.11 | L90: 263.23 | M90: 73.87 | N90: 226.82 | O90: 349.2 | Q90: 311.65 | R90: 293.31 | S90: 292.61 | T90: 236.89 | U90: 303.82 | V90: 280.87 | W90: 316.99 | X90: 334.63 | Y90: 272.84 | Z90: 338.78 | AA90: 354.01 | AB90: 292.32 | AC90: 327.3 | AD90: 348.61 | AE90: 333.98 | AF90: 344.7 | AG90: 325.32 | AH90: 336.71 | AI90: 290.29 | AJ90: 386.23 | AK90: 272.7 | AL90: 263.3 | AM90: 318.02 | AN90: 276.3
A91: PORCENTAIE SEGÚN MANTENIMIENTOS | B91: % DF | D91: =+D81 -> 0.77776882 | E91: =+E81 -> 0.67808036 | F91: =+F81 -> 0.87763441 | G91: =+G81 -> 1 | H91: =+H81 -> 0.96192204 | I91: =+I81 -> 0.94594444 | J91: =+J81 -> 0.84002976 | K91: =+K81 -> 0.92304167 | ... O91: =+O81 -> 0.89190278 | Q91: =+Q81 -> 0.89258333 | R91: =+R81 -> 0.8964697 | S91: =+S81 -> 0.81395161 | T91: =+T81 -> 0.83309722 | U91: =+U81 -> 0.90670833 | V91: =+V81 -> 0.76748611 | W91: =+W81 -> 0.94892473 | X91: =+X81 -> 0.92708333 | ... AN91: =+AN81 -> 0.74888441
B92: % MANTTO (PM) | D92: =+D86/D89 -> 0.03561828 | E92: =+E86/E89 -> 0.037202381 | F92: =+F86/F89 -> 0.031142473 | G92: =+G86/G89 -> 0 | H92: =+H86/H89 -> 0.021948925 | I92: =+I86/I89 -> 0.036805556 | J92: =+J86/J89 -> 0.017857143 | K92: =+K86/K89 -> 0.027888889 | ... O92: =+O86/O89 -> 0.051388889 | Q92: =+Q86/Q89 -> 0.10325 | R92: =+R86/R89 -> 0.084090909 | S92: =+S86/SUM($F$41) -> 0.10517473 | T92: =+T86/T89 -> 0.020833333 | U92: =+U86/U89 -> 0.044444444 | V92: =+V86/V89 -> 0.023611111 | W92: =+W86/W89 -> 0.010752688 | X92: =+X86/X89 -> 0.051075269 | Y92: =+Y86/Y89 -> 0.036805556 | Z92: =+Z86/Z89 -> 0.02688172 | AA92: =+AA86/AA89 -> 0.044861111 | ... AN92: =+AN86/AN89 -> 0.016129032
B93: % REP. PROG. | D93: =+D87/D89 -> 0 | E93: =+E87/E89 -> 0 | F93: =+F87/F89 -> 0 | G93: =+G87/G89 -> 0 | H93: =+H87/H89 -> 0.0053763441 | I93: =+I87/I89 -> 0 | J93: =+J87/J89 -> 0 | K93: =+K87/K89 -> 0 | ... O93: =+O87/O89 -> 0 | Q93: =+Q87/Q89 -> 0 | R93: =+R87/R89 -> 0 | S93: =+S87/SUM($F$41) -> 0.01344086 | T93: =+T87/T89 -> 0.036805556 | U93: =+U87/U89 -> 0.0020833333 | V93: =+V87/V89 -> 0.027194444 | W93: =+W87/W89 -> 0.015456989 | X93: =+X87/X89 -> 0 | Y93: =+Y87/Y89 -> 0.014236111 | Z93: =+Z87/Z89 -> 0 | AA93: =+AA87/AA89 -> 0.020138889 | ... AN93: =+AN87/AN89 -> 0.017473118
B94: % REP. NO PROG. | D94: =+D88/D89 -> 0.18701613 | E94: =+E88/E89 -> 0.28471726 | F94: =+F88/F89 -> 0.091223118 | G94: =+G88/G89 -> 0 | H94: =+H88/H89 -> 0.010752688 | I94: =+I88/I89 -> 0.01725 | J94: =+J88/J89 -> 0.1421131 | K94: =+K88/K89 -> 0.049069444 | ... O94: =+O88/O89 -> 0.056708333 | Q94: =+Q88/Q89 -> 0.0041666667 | R94: =+R88/R89 -> 0.019439394 | S94: =+S88/SUM($F$41) -> 0.067432796 | T94: =+T88/T89 -> 0.10926389 | U94: =+U88/U89 -> 0.046763889 | V94: =+V88/V89 -> 0.18170833 | W94: =+W88/W89 -> 0.024865591 | X94: =+X88/X89 -> 0.021841398 | Y94: =+Y88/Y89 -> 0.10972222 | Z94: =+Z88/Z89 -> 0.053427419 | AA94: =+AA88/AA89 -> 0.048972222 | ... AN94: =+AN88/AN89 -> 0.21751344
B95: TOTAL | D95: =SUM(D91:D94) -> 1.0004032 | E95: =SUM(E91:E94) -> 1 | F95: =SUM(F91:F94) -> 1 | G95: =SUM(G91:G94) -> 1 | H95: =SUM(H91:H94) -> 1 | I95: =SUM(I91:I94) -> 1 | J95: =SUM(J91:J94) -> 1 | K95: =SUM(K91:K94) -> 1 | ... O95: =SUM(O91:O94) -> 1 | Q95: =SUM(Q91:Q94) -> 1 | R95: =SUM(R91:R94) -> 1 | S95: =SUM(S91:S94) -> 1 | T95: =SUM(T91:T94) -> 1 | U95: =SUM(U91:U94) -> 1 | V95: =SUM(V91:V94) -> 1 | W95: =SUM(W91:W94) -> 1 | X95: =SUM(X91:X94) -> 1 | ... AN95: =SUM(AN91:AN94) -> 1
A96: CAT 06 | C96: PROM. 2020 | D96: 44197 | E96: 44228 | F96: 44256 | G96: 44287 | H96: 44317 | I96: 44348 | J96: 44378 | K96: 44409 | L96: 44440 | M96: 44470 | N96: 44501 | O96: 44531 | P96: PROM. 2022 | Q96: 44562 | R96: 44593 | S96: 44621 | T96: 44652 | U96: 44682 | V96: 44713 | W96: 44743 | X96: 44774 | Y96: 44805 | Z96: 44835 | AA96: 44866 | AB96: 44896 | AC96: 44927 | AD96: 44958 | AE96: 44986 | AF96: 45017 | AG96: 45047 | AH96: 45078 | AI96: 45108 | AJ96: 45139 | AK96: 45170 | AL96: 45200 | AM96: 45231 | AN96: 45261 | AO96: PROM. 2023 | AP96: OBJ
A97: KPIs | B97: DF | C97: 0.83401791 | D97: 0.90311828 | E97: 0.5958631 | F97: 0.97805108 | G97: 1 | H97: 0.43682796 | I97: 0.93170833 | J97: 0.96639881 | K97: 0.93172222 | L97: 0.71924107 | M97: 0.91934211 | N97: 0.88505747 | O97: 0.89988889 | P97: 0.79323672 | Q97: 0.92558333 | R97: 0.91072727 | S97: 0.4933871 | T97: 0.84131944 | U97: 0.91227778 | V97: 0.86330556 | W97: 0.90747312 | X97: 0.52755376 | Y97: 0.95648611 | Z97: 0.42294355 | AA97: 0.95670833 | AB97: 0.80107527 | AC97: 0.94455645 | AD97: 0.92894345 | AE97: 0.92110215 | AF97: 0.91934722 | AG97: 0.94637097 | AH97: 0.90555556 | AI97: 0.92383065 | AJ97: 0.87231183 | AK97: 0.92013889 | AL97: 0.88329301 | AM97: 0.93565278 | AN97: 0.89180108 | AO97: =AVERAGE(AC97:AN97) -> 0.91607534 | AP97: 0.85
B98: UTIL | C98: 0.40680254 | D98: 0.13303667 | E98: 0.22888467 | F98: 0.054942488 | G98: 0 | H98: 0.028861538 | I98: 0.3541881 | J98: 0.4344646 | K98: 0.5113738 | L98: 0.45124449 | M98: 0.30237107 | N98: 0.31225649 | O98: 0.36933572 | P98: 0.41631462 | Q98: 0.40186369 | R98: 0.41665003 | S98: 0.39609894 | T98: 0.43914156 | U98: 0.45330674 | V98: 0.44658773 | W98: 0.4638308 | X98: 0.40817834 | Y98: 0.44073359 | Z98: 0.19162933 | AA98: 0.46136202 | AB98: 0.47639262 | AC98: 0.41758805 | AD98: 0.53303965 | AE98: 0.47424486 | AF98: 0.44051486 | AG98: 0.39680443 | AH98: 0.46780675 | AI98: 0.48739325 | AJ98: 0.51694915 | AK98: 0.50413585 | AL98: 0.32636913 | AM98: 0.53447534 | AN98: 0.36804823 | AO98: =AVERAGE(AC98:AN98) -> 0.45561413 | AP98: 0.5
B99: MTBF | C99: 58.758439 | D99: 17.878 | E99: 91.65 | F99: 19.99 | G99: 0 | H99: 9.38 | I99: 29.7 | J99: 40.307143 | K99: 42.88125 | L99: 43.62 | M99: 15.845 | N99: 17.486364 | O99: 14.076471 | P99: 48.339321 | Q99: 33.47625 | R99: 16.696 | S99: 29.08 | T99: 33.25125 | U99: 42.535714 | V99: 55.518 | W99: 44.737143 | X99: 160.21 | Y99: 75.88 | Z99: 12.06 | AA99: 52.966667 | AB99: 23.660833 | AC99: 58.692 | AD99: 110.91667 | AE99: 54.166667 | AF99: 72.8975 | AG99: 39.912857 | AH99: 15.2505 | AI99: 33.5 | AJ99: 83.875 | AK99: 66.798 | AL99: 26.81 | AM99: 36.006 | AN99: 24.42 | AO99: =AVERAGE(AC99:AN99) -> 51.937099 | AP99: 50
B100: MTTR | C100: 7.6834259 | D100: 4.8 | E100: 165.67 | F100: 12.165 | G100: 0 | H100: 408 | I100: 2.83375 | J100: 1.6428571 | K100: 4.25 | L100: 35.134 | M100: 2.4725 | N100: 3.8636364 | O100: 1.9164706 | P100: 37.376957 | Q100: 3.1975 | R100: 2.128 | S100: 73.384 | T100: 9.53125 | U100: 1.9757143 | V100: 8.584 | W100: 5.2628571 | X100: 259.5 | Y100: 1.8325 | Z100: 69.266 | AA100: 3.5283333 | AB100: 10.333333 | AC100: 4.25 | AD100: 2.25 | AE100: 2.6333333 | AF100: 0.725 | AG100: 1.2 | AH100: 2.025 | AI100: 3.667 | AJ100: 20.5 | AK100: 3.1 | AL100: 6.47875 | AM100: 2.683 | AN100: 2.65 | AO100: =AVERAGE(AC100:AN100) -> 4.3468403 | AP100: 5
AP101: PorcentAIe
A102: HORAS POR MANTTO | B102: MANTTO (PM) | D102: 48.08 | E102: 21.91 | F102: 0 | G102: 0 | H102: 0 | I102: 26 | J102: 11.08 | K102: 15.16 | L102: 13 | M102: 25.5 | N102: 37.5 | O102: 39.5 | Q102: 28 | R102: 27 | S102: 10 | T102: 26 | U102: 40 | V102: 44 | W102: 32 | X102: 18 | Y102: 24 | Z102: 11 | AA102: 10 | AB102: 24 | AC102: 20 | AD102: 26.75 | AE102: 42.9 | AF102: 32.17 | AG102: 17 | AH102: 24 | AI102: 20 | AJ102: 13 | AK102: 42 | AL102: 30 | AM102: 19.5 | AN102: 36
B103: REP. PROG. | D103: 0 | E103: 25 | F103: 0 | G103: 0 | H103: 11 | I103: 0.5 | J103: 0 | K103: 0 | L103: 0 | M103: 0 | N103: 0 | O103: 0 | Q103: 0 | R103: 0 | S103: 0 | T103: 12 | U103: 9.33 | V103: 11.5 | W103: 0 | X103: 74 | Y103: 0 | Z103: 72 | AA103: 0 | AB103: 0 | AC103: 0 | AD103: 17 | AE103: 0 | AF103: 23 | AG103: 14.5 | AH103: 4.5 | AI103: 0 | AJ103: 0 | AK103: 0 | AL103: 5 | AM103: 0 | AN103: 18
B104: REP. NO PROG. | D104: 24 | E104: 224.9 | F104: 16 | G104: 0 | H104: 408 | I104: 22.67 | J104: 11.5 | K104: 34 | L104: 175.67 | M104: 29.67 | N104: 42.5 | O104: 32.58 | Q104: 25.58 | R104: 31.92 | S104: 366.92 | T104: 76.25 | U104: 13.83 | V104: 42.92 | W104: 36.84 | X104: 259.5 | Y104: 7.33 | Z104: 346.33 | AA104: 21.17 | AB104: 124 | AC104: 21.25 | AD104: 6.75 | AE104: 15.8 | AF104: 2.9 | AG104: 8.4 | AH104: 40.5 | AI104: 36.67 | AJ104: 82 | AK104: 15.5 | AL104: 51.83 | AM104: 26.83 | AN104: 26.5
...

Sheet S-S
A1: ST 1000 | C1: PROM. 2020 | D1: ENE | E1: FEB | G1: ABR | H1: MAY | I1: JUN | J1: JUL | K1: AGO | L1: SEP | M1: OCT | N1: NOV | O1: DIC | P1: PROM. 2021 | AO1: PROM. 2021 | AP1: OBJ
A2: KPIs | B2: DF | C2: 0.88288333 | D2: 1 | P2: 1 | AO2: =AVERAGE(D2:O2) -> 1 | AP2: 0.85
B3: UTIL | C3: 0.0925 | D3: 0 | P3: 0 | AO3: =AVERAGE(D3:O3) -> 0 | AP3: 0.5
B4: MTBF | C4: 18.404167 | D4: 0 | P4: 0 | AO4: =AVERAGE(D4:O4) -> 0 | AP4: 60
B5: MTTR | C5: 16.186667 | D5: 0 | P5: 0 | AO5: =AVERAGE(D5:O5) -> 0 | AP5: 2
A7: HORAS POR MANTTO | B7: MANTTO (PM) | D7: 0
B8: REP. PROG. | D8: 0
B9: REP. NO PROG. | D9: 0
B10: H. PROG.MES | D10: 744
B11: HRS. ACUM.EQUIPO | D11: 0
A12: PORCENTAIE SEGÚN MANTENIMIENTOS | B12: % DF | D12: =+D2 -> 1 | E12: =+E2 -> 0 | G12: =+G2 -> 0 | H12: =+H2 -> 0 | I12: =+I2 -> 0 | J12: =+J2 -> 0 | K12: =+K2 -> 0 | L12: =+L2 -> 0 | M12: =+M2 -> 0 | N12: =+N2 -> 0 | O12: =+O2 -> 0
B13: % MANTTO (PM) | D13: =+D7/D10 -> 0 | E13: =+E7/E10 -> #DIV/0! | G13: =+G7/G10 -> #DIV/0! | H13: =+H7/H10 -> #DIV/0! | I13: =+I7/I10 -> #DIV/0! | J13: =+J7/J10 -> #DIV/0! | K13: =+K7/K10 -> #DIV/0! | L13: =+L7/L10 -> #DIV/0! | M13: =+M7/M10 -> #DIV/0! | N13: =+N7/N10 -> #DIV/0! | O13: =+O7/O10 -> #DIV/0!
B14: % REP. PROG. | D14: =+D8/D10 -> 0 | E14: =+E8/E10 -> #DIV/0! | G14: =+G8/G10 -> #DIV/0! | H14: =+H8/H10 -> #DIV/0! | I14: =+I8/I10 -> #DIV/0! | J14: =+J8/J10 -> #DIV/0! | K14: =+K8/K10 -> #DIV/0! | L14: =+L8/L10 -> #DIV/0! | M14: =+M8/M10 -> #DIV/0! | N14: =+N8/N10 -> #DIV/0! | O14: =+O8/O10 -> #DIV/0!
B15: % REP. NO PROG. | D15: =+D9/D10 -> 0 | E15: =+E9/E10 -> #DIV/0! | G15: =+G9/G10 -> #DIV/0! | H15: =+H9/H10 -> #DIV/0! | I15: =+I9/I10 -> #DIV/0! | J15: =+J9/J10 -> #DIV/0! | K15: =+K9/K10 -> #DIV/0! | L15: =+L9/L10 -> #DIV/0! | M15: =+M9/M10 -> #DIV/0! | N15: =+N9/N10 -> #DIV/0! | O15: =+O9/O10 -> #DIV/0!
B16: TOTAL | D16: =SUM(D12:D15) -> 1 | E16: =SUM(E12:E15) -> #DIV/0! | G16: =SUM(G12:G15) -> #DIV/0! | H16: =SUM(H12:H15) -> #DIV/0! | I16: =SUM(I12:I15) -> #DIV/0! | J16: =SUM(J12:J15) -> #DIV/0! | K16: =SUM(K12:K15) -> #DIV/0! | L16: =SUM(L12:L15) -> #DIV/0! | M16: =SUM(M12:M15) -> #DIV/0! | N16: =SUM(N12:N15) -> #DIV/0! | O16: =SUM(O12:O15) -> #DIV/0!
A17: ST 710 | C17: PROM. 2020 | D17: 44197 | E17: 44228 | F17: 44256 | G17: 44287 | H17: 44317 | I17: 44348 | J17: 44378 | K17: 44409 | L17: 44440 | M17: 44470 | N17: 44501 | O17: 44531 | P17: PROM. 2022 | Q17: 44562 | R17: 44593 | S17: 44621 | T17: 44652 | U17: 44682 | V17: 44713 | W17: 44743 | X17: 44774 | Y17: 44805 | Z17: 44835 | AA17: 44866 | AB17: 44896 | AC17: 44927 | AD17: 44958 | AE17: 44986 | AF17: 45017 | AG17: 45047 | AH17: 45078 | AI17: 45108 | AJ17: 45139 | AK17: 45170 | AL17: 45200 | AM17: 45231 | AN17: 45261 | AO17: PROM. 2023 | AP17: OBJ
A18: KPIs | B18: DF | C18: 0.87795 | D18: 0.94354839 | E18: 0.95036765 | F18: 0.97748656 | G18: 0.97916667 | H18: 0.97647849 | I18: 1 | J18: 0.9303125 | K18: 0.88888889 | L18: 0.96205357 | M18: 0.65497076 | N18: 0.95905172 | O18: 0.98333333 | P18: 0.98225433 | Q18: 0.96736111 | R18: 1 | S18: 0.98991935 | T18: 1 | U18: 0.99861111 | V18: 1 | W18: 0.9952957 | X18: 1 | Y18: 1 | Z18: 0.88844086 | AA18: 0.99513889 | AB18: 0.95228495 | AC18: 0.99327957 | AD18: 0.95758929 | AE18: 1 | AF18: 0.98333333 | AG18: 0.98991935 | AH18: 0.99236111 | AI18: 0.99596774 | AJ18: 0.96774194 | AK18: 0.98611111 | AL18: 0.98319892 | AM18: 0.99305556 | AN18: 1 | AO18: =AVERAGE(AC18:AN18) -> 0.98687983 | AP18: 0.85
B19: UTIL | C19: 0.09445 | D19: 0.056965812 | E19: 0.15811734 | F19: 0.05632176 | G19: 0 | H19: 0.11330392 | I19: 0.0455 | J19: 0.07452373 | K19: 0.007125 | L19: 0 | M19: 0.037946429 | N19: 0.039355805 | O19: 0.13112994 | P19: 0.0231621 | Q19: 0.047394113 | R19: 0.027272727 | S19: 0.013360489 | T19: 0.0032638889 | U19: 0 | V19: 0.0083333333 | W19: 0.049831195 | X19: 0.034677419 | Y19: 0 | Z19: 0 | AA19: 0.053021633 | AB19: 0.040790402 | AC19: 0.041271989 | AD19: 0.067599068 | AE19: 0 | AF19: 0 | AG19: 0.0091106585 | AH19: 0.0055843247 | AI19: 0.010796221 | AJ19: 0 | AK19: 0.014366197 | AL19: 0.016404648 | AM19: 0 | AN19: 0 | AO19: =AVERAGE(AC19:AN19) -> 0.013761092 | AP19: 0.5
B20: MTBF | C20: 13.551667 | D20: 9.9975 | E20: 24.524 | F20: 20.48 | G20: 0 | H20: 41.16 | I20: 32.76 | J20: 7.765 | K20: 2.28 | L20: 0 | M20: 5.6666667 | N20: 13.135 | O20: 46.42 | P20: 10.523889 | Q20: 11.003333 | R20: 18 | S20: 2.46 | T20: 2.35 | U20: 0 | V20: 0.6 | W20: 18.45 | X20: 25.8 | Y20: 0 | Z20: 0 | AA20: 37.99 | AB20: 9.6333333 | AC20: 30.5 | AD20: 43.5 | AE20: 0 | AF20: 0 | AG20: 3.355 | AH20: 1.33 | AI20: 8 | AJ20: 0 | AK20: 10.2 | AL20: 12 | AM20: 0 | AN20: 0 | AO20: =AVERAGE(AC20:AN20) -> 9.07375 | AP20: 50
B21: MTTR | C21: 11.8325 | D21: 6.75 | E21: 5.3 | F21: 0.875 | G21: 15 | H21: 4 | I21: 0 | J21: 5.7216667 | K21: 40 | L21: 12.75 | M21: 78.666667 | N21: 7.25 | O21: 1.5 | P21: 8.9826389 | Q21: 7.8333333 | R21: 0 | S21: 1.875 | T21: 0 | U21: 1 | V21: 0 | W21: 1.75 | X21: 0 | Y21: 0 | Z21: 80 | AA21: 3.5 | AB21: 11.833333 | AC21: 5 | AD21: 28.5 | AE21: 0 | AF21: 0 | AG21: 1.5 | AH21: 1.8333333 | AI21: 3 | AJ21: 12 | AK21: 0 | AL21: 12.5 | AM21: 5 | AN21: 0 | AO21: =AVERAGE(AC21:AN21) -> 5.7777778 | AP21: 5
A23: HORAS POR MANTTO | B23: MANTTO (PM) | D23: 15 | E23: 11.5 | F23: 0 | G23: 0 | H23: 0 | I23: 0 | J23: 12 | K23: 0 | L23: 0 | M23: 0 | N23: 14 | O23: 9 | Q23: 0 | R23: 0 | S23: 0 | T23: 0 | U23: 14.75 | V23: 0 | W23: 0 | X23: 0 | Y23: 0 | Z23: 0 | AA23: 0 | AB23: 0 | AC23: 0 | AD23: 0 | AE23: 0 | AF23: 12 | AG23: 0 | AH23: 0 | AI23: 0 | AJ23: 0 | AK23: 0 | AL23: 0 | AM23: 0 | AN23: 0
B24: REP. PROG. | D24: 0 | E24: 0 | F24: 15 | G24: 0 | H24: 9.5 | I24: 0 | J24: 0.5 | K24: 0 | L24: 0 | M24: 0 | N24: 0 | O24: 0 | Q24: 0 | R24: 0 | S24: 0 | T24: 0 | U24: 0 | V24: 0 | W24: 0 | X24: 0 | Y24: 0 | Z24: 3 | AA24: 0 | AB24: 0 | AC24: 0 | AD24: 0 | AE24: 0 | AF24: 0 | AG24: 4.5 | AH24: 0 | AI24: 0 | AJ24: 24 | AK24: 10 | AL24: 10 | AM24: 0 | AN24: 0
B25: REP. NO PROG. | D25: 27 | E25: 22 | F25: 1.75 | G25: 15 | H25: 8 | I25: 0 | J25: 34.33 | K25: 80 | L25: 25.5 | M25: 236 | N25: 14.5 | O25: 3 | Q25: 23.5 | R25: 0 | S25: 7.5 | T25: 0 | U25: 1 | V25: 0 | W25: 3.5 | X25: 0 | Y25: 0 | Z25: 80 | AA25: 3.5 | AB25: 35.5 | AC25: 5 | AD25: 28.5 | AE25: 0 | AF25: 0 | AG25: 3 | AH25: 5.5 | AI25: 3 | AK25: 0 | AL25: 0 | AM25: 5 | AN25: 0
B26: H. PROG.MES | D26: 744 | E26: 672 | F26: 744 | G26: 720 | H26: 744 | I26: 720 | J26: 672 | K26: 720 | L26: 672 | M26: 684 | N26: 696 | O26: 720 | Q26: 720 | R26: 660 | S26: 744 | T26: 720 | U26: 720 | V26: 720 | W26: 744 | X26: 744 | Y26: 720 | Z26: 744 | AA26: 720 | AB26: 744 | AC26: 744 | AD26: 672 | AE26: 744 | AF26: 720 | AG26: 744 | AH26: 720 | AI26: 744 | AJ26: 744 | AK26: 720 | AL26: 744 | AM26: 720 | AN26: 744
B27: HRS. ACUM.EQUIPO | D27: 39.99 | E27: 122.62 | F27: 40.96 | G27: 0 | H27: 82.32 | I27: 32.76 | J27: 46.59 | K27: 4.56 | L27: 0 | M27: 17 | N27: 26.27 | O27: 92.84 | Q27: 33.01 | R27: 18 | S27: 9.84 | T27: 2.35 | U27: 0 | V27: 0.6 | W27: 36.9 | X27: 25.8 | Y27: 0 | Z27: 0 | AA27: 37.99 | AB27: 28.9 | AC27: 30.5 | AD27: 43.5 | AE27: 0 | AF27: 0 | AG27: 6.71 | AH27: 3.99 | AI27: 8 | AJ27: 0 | AK27: 10.2 | AL27: 0 | AM27: 0 | AN27: 0
A28: PORCENTAIE SEGÚN MANTENIMIENTOS | B28: % DF | D28: =+D18 -> 0.94354839 | E28: =+E18 -> 0.95036765 | F28: =+F18 -> 0.97748656 | G28: =+G18 -> 0.97916667 | H28: =+H18 -> 0.97647849 | I28: =+I18 -> 1 | J28: =+J18 -> 0.9303125 | K28: =+K18 -> 0.88888889 | ... O28: =+O18 -> 0.98333333 | Q28: =+Q18 -> 0.96736111 | R28: =+R18 -> 1 | S28: =+S18 -> 0.98991935 | T28: =+T18 -> 1 | U28: =+U18 -> 0.99861111 | V28: =+V18 -> 1 | W28: =+W18 -> 0.9952957 | X28: =+X18 -> 1 | ... AN28: =+AN18 -> 1
B29: % MANTTO (PM) | D29: =+D23/D26 -> 0.02016129 | E29: =+E23/E26 -> 0.017113095 | F29: =+F23/F26 -> 0 | G29: =+G23/G26 -> 0 | H29: =+H23/H26 -> 0 | I29: =+I23/I26 -> 0 | J29: =+J23/J26 -> 0.017857143 | K29: =+K23/K26 -> 0 | ... O29: =+O23/O26 -> 0.0125 | Q29: =+Q23/Q26 -> 0 | R29: =+R23/R26 -> 0 | S29: =+S23/S26 -> 0 | T29: =+T23/T26 -> 0 | U29: =+U23/U26 -> 0.020486111 | V29: =+V23/V26 -> 0 | W29: =+W23/W26 -> 0 | X29: =+X23/X26 -> 0 | ... AN29: =+AN23/AN26 -> 0
B30: % REP. PROG. | D30: =+D24/D26 -> 0 | E30: =+E24/E26 -> 0 | F30: =+F24/F26 -> 0.02016129 | G30: =+G24/G26 -> 0 | H30: =+H24/H26 -> 0.012768817 | I30: =+I24/I26 -> 0 | J30: =+J24/J26 -> 0.00074404762 | K30: =+K24/K26 -> 0 | ... O30: =+O24/O26 -> 0 | Q30: =+Q24/Q26 -> 0 | R30: =+R24/R26 -> 0 | S30: =+S24/S26 -> 0 | T30: =+T24/T26 -> 0 | U30: =+U24/U26 -> 0 | V30: =+V24/V26 -> 0 | W30: =+W24/W26 -> 0 | X30: =+X24/X26 -> 0 | ... AN30: =+AN24/AN26 -> 0
B31: % REP. NO PROG. | D31: =+D25/D26 -> 0.036290323 | E31: =+E25/E26 -> 0.032738095 | F31: =+F25/F26 -> 0.0023521505 | G31: =+G25/G26 -> 0.020833333 | H31: =+H25/H26 -> 0.010752688 | I31: =+I25/I26 -> 0 | J31: =+J25/J26 -> 0.05108631 | K31: =+K25/K26 -> 0.11111111 | ... O31: =+O25/O26 -> 0.0041666667 | Q31: =+Q25/Q26 -> 0.032638889 | R31: =+R25/R26 -> 0 | S31: =+S25/S26 -> 0.010080645 | T31: =+T25/T26 -> 0 | U31: =+U25/U26 -> 0.0013888889 | V31: =+V25/V26 -> 0 | W31: =+W25/W26 -> 0.0047043011 | X31: =+X25/X26 -> 0 | ... AN31: =+AN25/AN26 -> 0
B32: TOTAL | D32: =SUM(D28:D31) -> 1 | E32: =SUM(E28:E31) -> 1.0002188 | F32: =SUM(F28:F31) -> 1 | G32: =SUM(G28:G31) -> 1 | H32: =SUM(H28:H31) -> 1 | I32: =SUM(I28:I31) -> 1 | J32: =SUM(J28:J31) -> 1 | K32: =SUM(K28:K31) -> 1 | ... O32: =SUM(O28:O31) -> 1 | Q32: =SUM(Q28:Q31) -> 1 | R32: =SUM(R28:R31) -> 1 | S32: =SUM(S28:S31) -> 1 | T32: =SUM(T28:T31) -> 1 | U32: =SUM(U28:U31) -> 1.0204861 | V32: =SUM(V28:V31) -> 1 | W32: =SUM(W28:W31) -> 1 | X32: =SUM(X28:X31) -> 1 | ... AN32: =SUM(AN28:AN31) -> 1
A33: SCOOP'S SERVICIOS | C33: PROM. 2020 | D33: 44197 | E33: 44228 | F33: 44256 | G33: 44287 | H33: 44317 | I33: 44348 | J33: 44378 | K33: 44409 | L33: 44440 | M33: 44470 | N33: 44501 | O33: 44531 | P33: PROM. 2022 | Q33: 44562 | R33: 44593 | S33: 44621 | T33: 44652 | U33: 44682 | V33: 44713 | W33: 44743 | X33: 44774 | Y33: 44805 | Z33: 44835 | AA33: 44866 | AB33: 44896 | AC33: 44927 | AD33: 44958 | AE33: 44986 | AF33: 45017 | AG33: 45047 | AH33: 45078 | AI33: 45108 | AJ33: 45139 | AK33: 45170 | AL33: 45170 | AM33: 45231 | AN33: 45231 | AO33: PROM. 2023 | AP33: OBJ
A34: KPIs | B34: DF | C34: 0.88041667 | D34: =+AVERAGE(D18) -> 0.94354839 | E34: =+AVERAGE(E18) -> 0.95036765 | F34: =+AVERAGE(F18) -> 0.97748656 | G34: =+AVERAGE(G18) -> 0.97916667 | H34: =+AVERAGE(H18) -> 0.97647849 | I34: =+AVERAGE(I18) -> 1 | J34: =+AVERAGE(J18,J2) -> 0.9303125 | K34: =+AVERAGE(K18,K2) -> 0.88888889 | L34: =+AVERAGE(L18,L2) -> 0.96205357 | M34: =+AVERAGE(M18,M2) -> 0.65497076 | N34: =+AVERAGE(N18,N2) -> 0.95905172 | O34: =+AVERAGE(O18) -> 0.98333333 | P34: 0.98225433 | Q34: =+AVERAGE(Q18) -> 0.96736111 | R34: =+AVERAGE(R18) -> 1 | S34: =+AVERAGE(S18) -> 0.98991935 | T34: =+AVERAGE(T18) -> 1 | U34: =+AVERAGE(U18) -> 0.99861111 | V34: =+AVERAGE(V18) -> 1 | W34: =+AVERAGE(W18) -> 0.9952957 | X34: =+AVERAGE(X18) -> 1 | ... AN34: =+AVERAGE(AN18) -> 1 | AO34: =AVERAGE(AC34:AN34) -> 0.98687983 | AP34: 0.85
B35: UTIL | C35: 0.093475 | D35: =+AVERAGE(D19) -> 0.056965812 | E35: =+AVERAGE(E19) -> 0.15811734 | F35: =+AVERAGE(F19) -> 0.05632176 | G35: =+AVERAGE(G19) -> 0 | H35: =+AVERAGE(H19) -> 0.11330392 | I35: =+AVERAGE(I19) -> 0.0455 | J35: =+AVERAGE(J19,J3) -> 0.07452373 | K35: =+AVERAGE(K19,K3) -> 0.007125 | L35: =+AVERAGE(L19,L3) -> 0 | M35: =+AVERAGE(M19,M3) -> 0.037946429 | N35: =+AVERAGE(N19,N3) -> 0.039355805 | O35: =+AVERAGE(O19) -> 0.13112994 | P35: 0.0231621 | Q35: =+AVERAGE(Q19) -> 0.047394113 | R35: =+AVERAGE(R19) -> 0.027272727 | S35: =+AVERAGE(S19) -> 0.013360489 | T35: =+AVERAGE(T19) -> 0.0032638889 | U35: =+AVERAGE(U19) -> 0 | V35: =+AVERAGE(V19) -> 0.0083333333 | W35: =+AVERAGE(W19) -> 0.049831195 | X35: =+AVERAGE(X19) -> 0.034677419 | ... AN35: =+AVERAGE(AN19) -> 0 | AO35: =AVERAGE(AC35:AN35) -> 0.013761092 | AP35: 0.5
