Workbook

Sheet PROGRAMA
G1: 13 | O1: FECHAS | V1: MO | X1: OC | Y1: =DATE(2024,1,1) - MOD(WEEKDAY(DATE(2022,1,1)), 7)+ (G1-2)*7+5 -> 45374 | Z1: =+Y1+1 -> 45375 | AA1: =+Z1+1 -> 45376 | AB1: =+AA1+1 -> 45377 | AC1: =+AB1+1 -> 45378 | AD1: =+AC1+1 -> 45379 | AE1: =+AD1+1 -> 45380 | AF1: DIAS | AK1: ADH
B2: =+CONCATENATE("PROGRAMA - SEMANA ",G1) -> PROGRAMA - SEMANA 13 | P2: MEC_P_C | Q2: ELE_P_C | R2: ELECN_P_C | S2: INST_P_C | T2: LUB_P_C | Y2: =+CONCATENATE("SEMANA ",G1) -> SEMANA 13 | AF2: ADHERENCIA | AK2: CONTROL HORAS HOMBRE
B3: OT | C3: PM | D3: CODIGO | E3: TURNO | F3: PREV. | G3: EQUIPO | H3: SISTEMA FUNCIONAL | I3: FREC CANT | J3: HORAS ACUM SOLICITADO | K3: FECHA PROGRAMA | L3: INICIO PARADA | M3: FIN PARADA | N3: REPUESTO | O3: SUSTENTO | P3: PERSONAL | Q3: H | R3: HH | S3: HH// | T3: HORAS PARADA | U3: OS | V3: INDICADOR | W3: ORDEN COMPRA | X3: SEGUIMIENTO | Y3: SABADO | Z3: DOMINGO | AA3: LUNES | AB3: MARTES | AC3: MIÉRCOLES | AD3: JUEVES | AE3: VIERNES | AF3: ACTIVIDAD | AG3: EJECUTANTE | AH3: SOLICITA | AI3: CAUSA 1 | AJ3: CAUSA 2 | AK3: S/N | AL3: PTRAB | AM3: HH PLAN | AN3: HH REAL | AO3: DESVIO | AP3: Columna1
C4: PM01 | E4: DIA | G4: FAJA 5"A" | H4: Se vulcanizóel jebe antifricción del trinquete. | I4: 2 | J4: 9 | K4: 45374 | L4: 45374 | M4: 45374 | N4: 0 | O4: PREVENTIVO | P4: MEC_P_C | Q4: 2 | R4: 9 | S4: 18 | V4: verde | X4: CUMPLIDO | Y4: X | AF4: Ejecutada | AG4: MANTTO PLANTA | AH4: SUPERVISOR | AK4: S | AL4: MEC_P_C | AM4: 9 | AN4: 9 | AO4: 1 | AP4: 18
C5: PM02 | E5: DIA | G5: BOMBAS MARS | H5: Se reparó las parrillas de la canaleta acceso a bomba putzmeister. | I5: 2 | J5: 7 | K5: 45374 | L5: 45374 | M5: 45374 | N5: 0 | O5: BACKLOG | P5: MEC_P_C | Q5: 2 | R5: 7 | S5: 14 | V5: verde | X5: CUMPLIDO | Y5: X | AF5: Ejecutada | AG5: MANTTO PLANTA | AH5: SUPERVISOR | AK5: S | AL5: MEC_P_C | AM5: 7 | AN5: 7 | AO5: 1 | AP5: 14
C6: PM01 | E6: DIA | G6: STAND BY WENCO 84 | H6: Se desmontó los rodamientos de bomba y se trasladó el eje hacia maestranza para su maquinado. | I6: 2 | J6: 1 | K6: 45374 | L6: 45374 | M6: 45374 | N6: 0 | O6: PREVENTIVO | P6: MEC_P_C | Q6: 2 | R6: 1 | S6: 2 | V6: verde | X6: CUMPLIDO | Y6: X | AF6: Ejecutada | AG6: MANTTO PLANTA | AH6: SUPERVISOR | AK6: S | AL6: MEC_P_C | AM6: 1 | AN6: 1 | AO6: 1 | AP6: 2
C7: PM01 | E7: DIA | G7: CHANCADORA TERCIARIA | H7: Se habilitó materiales para reubicar el filtro de aire de chancadora terciaría. | I7: 2 | J7: 1 | K7: 45374 | L7: 45374 | M7: 45374 | N7: 0 | O7: PREVENTIVO | P7: MEC_P_C | Q7: 2 | R7: 1 | S7: 2 | V7: verde | X7: CUMPLIDO | Y7: X | AF7: Ejecutada | AG7: MANTTO PLANTA | AH7: SUPERVISOR | AK7: S | AL7: MEC_P_C | AM7: 1 | AN7: 1 | AO7: 1 | AP7: 2
C8: PM01 | E8: DIA | G8: APRON FEEDER | H8: Se reajusto los pernos de 1/2 y se realizó la sujeción de las placas | I8: 2 | J8: 1 | K8: 45374 | L8: 45374 | M8: 45374 | N8: 0 | O8: PREVENTIVO | P8: MEC_P_C | Q8: 2 | R8: 1 | S8: 2 | V8: verde | X8: CUMPLIDO | Y8: X | AF8: Ejecutada | AG8: MANTTO PLANTA | AH8: SUPERVISOR | AK8: S | AL8: MEC_P_C | AM8: 1 | AN8: 1 | AO8: 1 | AP8: 2
C9: PM01 | E9: DIA | G9: SOPLADOR SPENSER | H9: Se realizó el alineamiento de eje motor de soplador, aun se continuara con el alineamiento. | I9: 2 | J9: 8 | K9: 45374 | L9: 45374 | M9: 45374 | N9: 0 | O9: PREVENTIVO | P9: MEC_P_C | Q9: 2 | R9: 8 | S9: 16 | V9: verde | X9: CUMPLIDO | Y9: X | AF9: Ejecutada | AG9: MANTTO PLANTA | AH9: SUPERVISOR | AK9: S | AL9: MEC_P_C | AM9: 8 | AN9: 8 | AO9: 1 | AP9: 16
C10: PM02 | E10: DIA | G10: FILTRO PRENSA | H10: Se cambió baranda en plataforma superior. | I10: 2 | J10: 7 | K10: 45374 | L10: 45374 | M10: 45374 | N10: 0 | O10: BACKLOG | P10: MEC_P_C | Q10: 2 | R10: 7 | S10: 14 | V10: verde | X10: CUMPLIDO | Y10: X | AF10: Ejecutada | AG10: MANTTO PLANTA | AH10: SUPERVISOR | AK10: S | AL10: MEC_P_C | AM10: 7 | AN10: 7 | AO10: 1 | AP10: 14
C11: PM01 | E11: DIA | G11: FAJAS CHANCADO | H11: Se realizó la Inspección y el levantamiento de datos de fajas transportadoras. | I11: 2 | J11: 2 | K11: 45374 | L11: 45374 | M11: 45374 | N11: 0 | O11: PREVENTIVO | P11: MEC_P_C | Q11: 2 | R11: 2 | S11: 4 | V11: verde | X11: CUMPLIDO | Y11: X | AF11: Ejecutada | AG11: MANTTO PLANTA | AH11: SUPERVISOR | AK11: S | AL11: MEC_P_C | AM11: 2 | AN11: 2 | AO11: 1 | AP11: 4
C12: PM02 | E12: DIA | G12: BOMBA PUTZMEISTER | H12: Se niveló aceite en los tanques hidráulicos. | I12: 2 | J12: 4 | K12: 45374 | L12: 45374 | M12: 45374 | N12: 0 | O12: BACKLOG | P12: MEC_P_C | Q12: 2 | R12: 4 | S12: 8 | V12: verde | X12: CUMPLIDO | Y12: X | AF12: Ejecutada | AG12: MANTTO PLANTA | AH12: SUPERVISOR | AK12: S | AL12: MEC_P_C | AM12: 4 | AN12: 4 | AO12: 1 | AP12: 8
C13: PM01 | E13: DIA | G13: BLOQUEO DE EQUIPOS EN PLANTA | H13: Se realizó los bloqueos y desbloqueo de las áreas de chancado, molienda, flotación y filtros. Se realizó limpieza, inspección, reajuste de tablero del estractor de polvo. Se dejó bloqueado faja 5A, se está trasladando las herramientas al nuevo taller. | I13: 1 | J13: 9 | K13: 45374 | L13: 45374 | M13: 45374 | N13: 0 | O13: PREVENTIVO | P13: ELE_P_C | Q13: 1 | R13: 9 | S13: 9 | V13: verde | X13: CUMPLIDO | Y13: X | AF13: Ejecutada | AG13: MANTTO PLANTA | AH13: SUPERVISOR | AK13: S | AL13: ELE_P_C | AM13: 9 | AN13: 9 | AO13: 1 | AP13: 9
C14: PM01 | E14: DIA | G14: TALLER ELÉCTRICO | H14: Se realizó la limpieza y el mantenimiento correctivo y cambio de rodamientos de los motores que están en el taller eléctrico. | I14: 2 | J14: 6 | K14: 45374 | L14: 45374 | M14: 45374 | N14: 0 | O14: PREVENTIVO | P14: ELE_P_C | Q14: 2 | R14: 6 | S14: 12 | V14: verde | X14: CUMPLIDO | Y14: X | AF14: Ejecutada | AG14: MANTTO PLANTA | AH14: SUPERVISOR | AK14: S | AL14: ELE_P_C | AM14: 6 | AN14: 6 | AO14: 1 | AP14: 12
C15: PM02 | E15: DIA | G15: ZARANDA DE ALTA FRECUENCIA | H15: Se realizó el monitoreo de amperaje del motor de la ZAF, realizando el desmontaje y trasladandolo hacia taller central para su revisión, equipo queda inoperativo. | I15: 2 | J15: 3 | K15: 45374 | L15: 45374 | M15: 45374 | N15: 0 | O15: BACKLOG | P15: ELE_P_C | Q15: 2 | R15: 3 | S15: 6 | V15: verde | X15: CUMPLIDO | Y15: X | AF15: Ejecutada | AG15: MANTTO PLANTA | AH15: SUPERVISOR | AK15: S | AL15: ELE_P_C | AM15: 3 | AN15: 3 | AO15: 1 | AP15: 6
... C39: PM01 | E39: DIA | G39: Bomba Vertical de 2.5 Alta Eficiencia Espiasa Poza N° 2 B-Mars | H39: Lubricacion de caja de rodamientos | I39: 1 | J39: 0.5 | K39: 45374 | L39: 45374 | M39: 45374 | N39: 0 | O39: PREVENTIVO | P39: LUB_P_C | Q39: 1 | R39: 0.5 | S39: 0.5 | V39: verde | X39: CUMPLIDO | Y39: X | AF39: Ejecutada | AG39: MANTTO PLANTA | AH39: SUPERVISOR | AK39: S | AL39: LUB_P_C | AM39: 0.5 | AN39: 0.5 | AO39: 1 | AP39: 0.5
C40: PM02 | E40: DIA | G40: BOMBA HORIZONTAL DE RETORNO CURRIER | H40: Se cambio forros, frame, cover, de Reynosa, impulsor de Reymosa el hilo no es el correcto, se instaló de RPEE el impulsor y se cambió retenes, bocina y o ring y correas. | I40: 2 | J40: 4 | K40: 45375 | L40: 45375 | M40: 45375 | N40: 0 | O40: BACKLOG | P40: MEC_P_C | Q40: 2 | R40: 4 | S40: 8 | V40: verde | X40: CUMPLIDO | Z40: X | AF40: Ejecutada | AG40: MANTTO PLANTA | AH40: SUPERVISOR | AK40: S | AL40: MEC_P_C | AM40: 4 | AN40: 4 | AO40: 1 | AP40: 8
C41: PM01 | E41: DIA | G41: BOMBA DE LODOS 1 Y 2 | H41: Se cambió sellos, sogas grafitadas. | I41: 2 | J41: 5 | K41: 45375 | L41: 45375 | M41: 45375 | N41: 0 | O41: PREVENTIVO | P41: MEC_P_C | Q41: 2 | R41: 5 | S41: 10 | V41: verde | X41: CUMPLIDO | Z41: X | AF41: Ejecutada | AG41: MANTTO PLANTA | AH41: SUPERVISOR | AK41: S | AL41: MEC_P_C | AM41: 5 | AN41: 5 | AO41: 1 | AP41: 10
C42: PM01 | E42: DIA | G42: BOMBAS MARS 04 | H42: Se inspeccionó sistema de bombeo nivelación de aceite y cambio manómetros en botella de contra presión y traslado de caja de válvulas de bombas mars a almacén central. | I42: 2 | J42: 9 | K42: 45375 | L42: 45375 | M42: 45375 | N42: 0 | O42: PREVENTIVO | P42: MEC_P_C | Q42: 2 | R42: 9 | S42: 18 | V42: verde | X42: CUMPLIDO | Z42: X | AF42: Ejecutada | AG42: MANTTO PLANTA | AH42: SUPERVISOR | AK42: S | AL42: MEC_P_C | AM42: 9 | AN42: 9 | AO42: 1 | AP42: 18
C43: PM02 | E43: DIA | G43: MOLINO DE CAL | H43: Se reajusto los pernos de la tapa manhol. | I43: 2 | J43: 3 | K43: 45375 | L43: 45375 | M43: 45375 | N43: 0 | O43: BACKLOG | P43: MEC_P_C | Q43: 2 | R43: 3 | S43: 6 | V43: verde | X43: CUMPLIDO | Z43: X | AF43: Ejecutada | AG43: MANTTO PLANTA | AH43: SUPERVISOR | AK43: S | AL43: MEC_P_C | AM43: 3 | AN43: 3 | AO43: 1 | AP43: 6
C44: PM02 | E44: DIA | G44: BOMBA 01 DE ESPUMAS BULK | H44: Se cambió forros, frame cover, impulsor, reten, bocina, y caja de rodamientos completo. | I44: 2 | J44: 6 | K44: 45375 | L44: 45375 | M44: 45375 | N44: 0 | O44: BACKLOG | P44: MEC_P_C | Q44: 2 | R44: 6 | S44: 12 | V44: verde | X44: CUMPLIDO | Z44: X | AF44: Ejecutada | AG44: MANTTO PLANTA | AH44: SUPERVISOR | AK44: S | AL44: MEC_P_C | AM44: 6 | AN44: 6 | AO44: 1 | AP44: 12
C45: PM02 | E45: DIA | G45: BPMBA VERTICAL 02 DE RETORNO CURRIER | H45: Se alineó base de motor. | I45: 2 | J45: 3 | K45: 45375 | L45: 45375 | M45: 45375 | N45: 0 | O45: BACKLOG | P45: MEC_P_C | Q45: 2 | R45: 3 | S45: 6 | V45: verde | X45: CUMPLIDO | Z45: X | AF45: Ejecutada | AG45: MANTTO PLANTA | AH45: SUPERVISOR | AK45: S | AL45: MEC_P_C | AM45: 3 | AN45: 3 | AO45: 1 | AP45: 6
C46: PM01 | E46: DIA | G46: CEDAZO 01 | H46: Se cambió mallas H FLEX Y SFLEX. | I46: 2 | J46: 6 | K46: 45375 | L46: 45375 | M46: 45375 | N46: 0 | O46: PREVENTIVO | P46: MEC_P_C | Q46: 2 | R46: 6 | S46: 12 | V46: verde | X46: CUMPLIDO | Z46: X | AF46: Ejecutada | AG46: MANTTO PLANTA | AH46: SUPERVISOR | AK46: S | AL46: MEC_P_C | AM46: 6 | AN46: 6 | AO46: 1 | AP46: 12
C47: PM02 | E47: DIA | G47: SOPLADOR SPENSER | H47: Se niveló aceite en los tanques hidráulicos. | I47: 2 | J47: 9 | K47: 45375 | L47: 45375 | M47: 45375 | N47: 0 | O47: BACKLOG | P47: MEC_P_C | Q47: 2 | R47: 9 | S47: 18 | V47: verde | X47: CUMPLIDO | Z47: X | AF47: Ejecutada | AG47: MANTTO PLANTA | AH47: SUPERVISOR | AK47: S | AL47: MEC_P_C | AM47: 9 | AN47: 9 | AO47: 1 | AP47: 18
C48: PM02 | E48: DIA | G48: FILTRO PRENSA | H48: Se cambió barandas en plataforma superior. | I48: 2 | J48: 9 | K48: 45375 | L48: 45375 | M48: 45375 | N48: 0 | O48: BACKLOG | P48: MEC_P_C | Q48: 2 | R48: 9 | S48: 18 | V48: verde | X48: CUMPLIDO | Z48: X | AF48: Ejecutada | AG48: MANTTO PLANTA | AH48: SUPERVISOR | AK48: S | AL48: MEC_P_C | AM48: 9 | AN48: 9 | AO48: 1 | AP48: 18
C49: PM01 | E49: DIA | G49: BLOQUEO DE EQUIPOS EN PLANTA | H49: Se realizó los bloqueos y desbloqueo de las áreas de chancado, molienda, flotación y filtros , neutralizacion y bombas Mars. Se inspeccionó el motor de ZAF ya que su amperaje estaba elevado 7Amps su nominal 3amps, asoyo al desmontaje para su mantenimiento correspondiente. Se realizó limpieza, inspección, reajuste de tablero del estractor de polvo. | I49: 1 | J49: 9 | K49: 45375 | L49: 45375 | M49: 45375 | N49: 0 | O49: PREVENTIVO | P49: ELE_P_C | Q49: 1 | R49: 9 | S49: 9 | V49: verde | X49: CUMPLIDO | Z49: X | AF49: Ejecutada | AG49: MANTTO PLANTA | AH49: SUPERVISOR | AK49: S | AL49: ELE_P_C | AM49: 9 | AN49: 9 | AO49: 1 | AP49: 9
C50: PM02 | E50: DIA | G50: BODEGA DE ELECTRICISTAS | H50: *se realizó el traslado de las herramientas y accesorios al nuevo ambiente de la parte Eléctrica. Se hace las pruebas. | I50: 2 | J50: 2 | K50: 45375 | L50: 45375 | M50: 45375 | N50: 0 | O50: BACKLOG | P50: ELE_P_C | Q50: 2 | R50: 2 | S50: 4 | V50: verde | X50: CUMPLIDO | Z50: X | AF50: Ejecutada | AG50: MANTTO PLANTA | AH50: SUPERVISOR | AK50: S | AL50: ELE_P_C | AM50: 2 | AN50: 2 | AO50: 1 | AP50: 4
C51: PM02 | E51: DIA | G51: BOMBA GENERAL DE RELAVE N° 2 | H51: se realizó la desconección y desmontaje y montaje de la bomba general de relave # 2, presenta vibración, se realizará seguimiento. | I51: 2 | J51: 5 | K51: 45375 | L51: 45375 | M51: 45375 | N51: 0 | O51: BACKLOG | P51: ELE_P_C | Q51: 2 | R51: 5 | S51: 10 | V51: verde | X51: CUMPLIDO | Z51: X | AF51: Ejecutada | AG51: MANTTO PLANTA | AH51: SUPERVISOR | AK51: S | AL51: ELE_P_C | AM51: 5 | AN51: 5 | AO51: 1 | AP51: 10
... C72: PM01 | E72: DIA | G72: Celda Denver SP 18 nª12 de Cu Banco Nª3 | H72: Lubricacion de caja de rodamientos | I72: 1 | J72: 0.5 | K72: 45375 | L72: 45375 | M72: 45375 | N72: 0 | O72: PREVENTIVO | P72: LUB_P_C | Q72: 1 | R72: 0.5 | S72: 0.5 | V72: verde | X72: CUMPLIDO | Z72: X | AF72: Ejecutada | AG72: MANTTO PLANTA | AH72: SUPERVISOR | AK72: S | AL72: LUB_P_C | AM72: 0.5 | AN72: 0.5 | AO72: 1 | AP72: 0.5
C73: PM01 | E73: DIA | G73: BOMBA VERTICAL 2.5 DE CLARIFICADOR #01 | H73: Mantenimiento, se inspeccionó los forros, encontrando en buenas condiciones | I73: 2 | J73: 4 | K73: 45376 | L73: 45376 | M73: 45376 | N73: 0 | O73: PREVENTIVO | P73: MEC_P_C | Q73: 2 | R73: 4 | S73: 8 | V73: verde | X73: CUMPLIDO | AA73: X | AF73: Ejecutada | AG73: MANTTO PLANTA | AH73: SUPERVISOR | AK73: S | AL73: MEC_P_C | AM73: 4 | AN73: 4 | AO73: 1 | AP73: 8
C74: PM01 | E74: DIA | G74: BOMBA HIDROSTAL STAN BY | H74: Se habilita base de motor y de bomba | I74: 2 | J74: 5 | K74: 45376 | L74: 45376 | M74: 45376 | N74: 0 | O74: PREVENTIVO | P74: MEC_P_C | Q74: 2 | R74: 5 | S74: 10 | V74: verde | X74: CUMPLIDO | AA74: X | AF74: Ejecutada | AG74: MANTTO PLANTA | AH74: SUPERVISOR | AK74: S | AL74: MEC_P_C | AM74: 5 | AN74: 5 | AO74: 1 | AP74: 10
C75: PM02 | E75: DIA | G75: BOMBAS MARS | H75: Reparación de pisos lado bombas mars 04 | I75: 2 | J75: 9 | K75: 45376 | L75: 45376 | M75: 45376 | N75: 0 | O75: BACKLOG | P75: MEC_P_C | Q75: 2 | R75: 9 | S75: 18 | V75: verde | X75: CUMPLIDO | AA75: X | AF75: Ejecutada | AG75: MANTTO PLANTA | AH75: SUPERVISOR | AK75: S | AL75: MEC_P_C | AM75: 9 | AN75: 9 | AO75: 1 | AP75: 18
C76: PM01 | E76: DIA | G76: MOLINO #01 | H76: Se inspeccionó los rodamientos y reajuste de pernos de las chumaceras | I76: 2 | J76: 4 | K76: 45376 | L76: 45376 | M76: 45376 | N76: 0 | O76: PREVENTIVO | P76: MEC_P_C | Q76: 2 | R76: 4 | S76: 8 | V76: verde | X76: CUMPLIDO | AA76: X | AF76: Ejecutada | AG76: MANTTO PLANTA | AH76: SUPERVISOR | AK76: S | AL76: MEC_P_C | AM76: 4 | AN76: 4 | AO76: 1 | AP76: 8
C77: PM01 | E77: DIA | G77: BOMBA 6X4 EG STAND BY | H77: Se reparó pedestal para stand by. | I77: 2 | J77: 5 | K77: 45376 | L77: 45376 | M77: 45376 | N77: 0 | O77: PREVENTIVO | P77: MEC_P_C | Q77: 2 | R77: 5 | S77: 10 | V77: verde | X77: CUMPLIDO | AA77: X | AF77: Ejecutada | AG77: MANTTO PLANTA | AH77: SUPERVISOR | AK77: S | AL77: MEC_P_C | AM77: 5 | AN77: 5 | AO77: 1 | AP77: 10
C78: PM02 | E78: DIA | G78: BOMBA VERTICAL #01 DE RETORNO CURRIER | H78: Se cambió bomba completa y fabricación de guarda de protección. | I78: 2 | J78: 8 | K78: 45376 | L78: 45376 | M78: 45376 | N78: 0 | O78: BACKLOG | P78: MEC_P_C | Q78: 2 | R78: 8 | S78: 16 | V78: verde | X78: CUMPLIDO | AA78: X | AF78: Ejecutada | AG78: MANTTO PLANTA | AH78: SUPERVISOR | AK78: S | AL78: MEC_P_C | AM78: 8 | AN78: 8 | AO78: 1 | AP78: 16
C79: PM02 | E79: DIA | G79: FAJA #09 DE CHANCADO | H79: Se reparó guarda lateral de polea cola. | I79: 2 | J79: 1 | K79: 45376 | L79: 45376 | M79: 45376 | N79: 0 | O79: BACKLOG | P79: MEC_P_C | Q79: 2 | R79: 1 | S79: 2 | V79: verde | X79: CUMPLIDO | AA79: X | AF79: Ejecutada | AG79: MANTTO PLANTA | AH79: SUPERVISOR | AK79: S | AL79: MEC_P_C | AM79: 1 | AN79: 1 | AO79: 1 | AP79: 2
C80: PM01 | E80: DIA | G80: SOPLADOR SPENSER | H80: Se cambió acoplamiento y se alinea. | I80: 2 | J80: 9 | K80: 45376 | L80: 45376 | M80: 45376 | N80: 0 | O80: PREVENTIVO | P80: MEC_P_C | Q80: 2 | R80: 9 | S80: 18 | V80: verde | X80: CUMPLIDO | AA80: X | AF80: Ejecutada | AG80: MANTTO PLANTA | AH80: SUPERVISOR | AK80: S | AL80: MEC_P_C | AM80: 9 | AN80: 9 | AO80: 1 | AP80: 18
C81: PM01 | E81: DIA | G81: BOMBA VERTICAL #02 DE WNCO 84 | H81: Mantenimiento, se inspeccionó los forros, encontrando en buenas condiciones. | I81: 2 | J81: 4 | K81: 45376 | L81: 45376 | M81: 45376 | N81: 0 | O81: PREVENTIVO | P81: MEC_P_C | Q81: 2 | R81: 4 | S81: 8 | V81: verde | X81: CUMPLIDO | AA81: X | AF81: Ejecutada | AG81: MANTTO PLANTA | AH81: SUPERVISOR | AK81: S | AL81: MEC_P_C | AM81: 4 | AN81: 4 | AO81: 1 | AP81: 8
C82: PM02 | E82: DIA | G82: FILTRO PRENSA | H82: Se instalo roda pies y pintado de las barandas | I82: 2 | J82: 5 | K82: 45376 | L82: 45376 | M82: 45376 | N82: 0 | O82: BACKLOG | P82: MEC_P_C | Q82: 2 | R82: 5 | S82: 10 | V82: verde | X82: CUMPLIDO | AA82: X | AF82: Ejecutada | AG82: MANTTO PLANTA | AH82: SUPERVISOR | AK82: S | AL82: MEC_P_C | AM82: 5 | AN82: 5 | AO82: 1 | AP82: 10
C83: PM01 | E83: DIA | G83: PLANTA | H83: Se traslado los materiales a punto de acopio cancha de chatarra | I83: 2 | J83: 8 | K83: 45376 | L83: 45376 | M83: 45376 | N83: 0 | O83: PREVENTIVO | P83: MEC_P_C | Q83: 2 | R83: 8 | S83: 16 | V83: verde | X83: CUMPLIDO | AA83: X | AF83: Ejecutada | AG83: MANTTO PLANTA | AH83: SUPERVISOR | AK83: S | AL83: MEC_P_C | AM83: 8 | AN83: 8 | AO83: 1 | AP83: 16
C84: PM01 | E84: DIA | G84: MARS 01 | H84: Se cambio mica visor | I84: 2 | J84: 1 | K84: 45376 | L84: 45376 | M84: 45376 | N84: 0 | O84: PREVENTIVO | P84: MEC_P_C | Q84: 2 | R84: 1 | S84: 2 | V84: verde | X84: CUMPLIDO | AA84: X | AF84: Ejecutada | AG84: MANTTO PLANTA | AH84: SUPERVISOR | AK84: S | AL84: MEC_P_C | AM84: 1 | AN84: 1 | AO84: 1 | AP84: 2
... C112: PM01 | E112: DIA | G112: EXTRACTOR DE POLVO CHANCADO SECUNDARIO | H112: Lubricacion de valvula rotativas | I112: 1 | J112: 1 | K112: 45376 | L112: 45376 | M112: 45376 | N112: 0 | O112: PREVENTIVO | P112: LUB_P_C | Q112: 1 | R112: 1 | S112: 1 | V112: verde | X112: CUMPLIDO | AA112: X | AF112: Ejecutada | AG112: MANTTO PLANTA | AH112: SUPERVISOR | AK112: S | AL112: LUB_P_C | AM112: 1 | AN112: 1 | AO112: 1 | AP112: 1
C113: PM01 | E113: DIA | G113: BOMBA VERTICAL 2.5 DE CLARIFICADOR #01 | H113: Mantenimiento, se inspeccionó los forros, encontrando en buenas condiciones | I113: 2 | J113: 4 | K113: 45377 | L113: 45377 | M113: 45377 | N113: 0 | O113: PREVENTIVO | P113: MEC_P_C | Q113: 2 | R113: 4 | S113: 8 | V113: verde | X113: CUMPLIDO | AB113: X | AF113: Ejecutada | AG113: MANTTO PLANTA | AH113: SUPERVISOR | AK113: S | AL113: MEC_P_C | AM113: 4 | AN113: 4 | AO113: 1 | AP113: 8
C114: PM01 | E114: DIA | G114: BOMBA HIDROSTAL STAN BY | H114: Se habilita base de motor y de bomba | I114: 2 | J114: 5 | K114: 45377 | L114: 45377 | M114: 45377 | N114: 0 | O114: PREVENTIVO | P114: MEC_P_C | Q114: 2 | R114: 5 | S114: 10 | V114: verde | X114: CUMPLIDO | AB114: X | AF114: Ejecutada | AG114: MANTTO PLANTA | AH114: SUPERVISOR | AK114: S | AL114: MEC_P_C | AM114: 5 | AN114: 5 | AO114: 1 | AP114: 10
C115: PM02 | E115: DIA | G115: BOMBAS MARS | H115: Reparación de pisos lado bombas mars 04 | I115: 2 | J115: 9 | K115: 45377 | L115: 45377 | M115: 45377 | N115: 0 | O115: BACKLOG | P115: MEC_P_C | Q115: 2 | R115: 9 | S115: 18 | V115: verde | X115: CUMPLIDO | AB115: X | AF115: Ejecutada | AG115: MANTTO PLANTA | AH115: SUPERVISOR | AK115: S | AL115: MEC_P_C | AM115: 9 | AN115: 9 | AO115: 1 | AP115: 18
C116: PM01 | E116: DIA | G116: MOLINO #01 | H116: Se inspeccionó los rodamientos y reajuste de pernos de las chumaceras | I116: 2 | J116: 4 | K116: 45377 | L116: 45377 | M116: 45377 | N116: 0 | O116: PREVENTIVO | P116: MEC_P_C | Q116: 2 | R116: 4 | S116: 8 | V116: verde | X116: CUMPLIDO | AB116: X | AF116: Ejecutada | AG116: MANTTO PLANTA | AH116: SUPERVISOR | AK116: S | AL116: MEC_P_C | AM116: 4 | AN116: 4 | AO116: 1 | AP116: 8
C117: PM01 | E117: DIA | G117: BOMBA 6X4 EG STAND BY | H117: Se reparó pedestal para stand by. | I117: 2 | J117: 5 | K117: 45377 | L117: 45377 | M117: 45377 | N117: 0 | O117: PREVENTIVO | P117: MEC_P_C | Q117: 2 | R117: 5 | S117: 10 | V117: verde | X117: CUMPLIDO | AB117: X | AF117: Ejecutada | AG117: MANTTO PLANTA | AH117: SUPERVISOR | AK117: S | AL117: MEC_P_C | AM117: 5 | AN117: 5 | AO117: 1 | AP117: 10
C118: PM02 | E118: DIA | G118: BOMBA VERTICAL #01 DE RETORNO CURRIER | H118: Se cambió bomba completa y fabricación de guarda de protección. | I118: 2 | J118: 8 | K118: 45377 | L118: 45377 | M118: 45377 | N118: 0 | O118: BACKLOG | P118: MEC_P_C | Q118: 2 | R118: 8 | S118: 16 | V118: verde | X118: CUMPLIDO | AB118: X | AF118: Ejecutada | AG118: MANTTO PLANTA | AH118: SUPERVISOR | AK118: S | AL118: MEC_P_C | AM118: 8 | AN118: 8 | AO118: 1 | AP118: 16
C119: PM02 | E119: DIA | G119: FAJA #09 DE CHANCADO | H119: Se reparó guarda lateral de polea cola. | I119: 2 | J119: 1 | K119: 45377 | L119: 45377 | M119: 45377 | N119: 0 | O119: BACKLOG | P119: MEC_P_C | Q119: 2 | R119: 1 | S119: 2 | V119: verde | X119: CUMPLIDO | AB119: X | AF119: Ejecutada | AG119: MANTTO PLANTA | AH119: SUPERVISOR | AK119: S | AL119: MEC_P_C | AM119: 1 | AN119: 1 | AO119: 1 | AP119: 2
C120: PM01 | E120: DIA | G120: SOPLADOR SPENSER | H120: Se cambió acoplamiento y se alinea. | I120: 2 | J120: 9 | K120: 45377 | L120: 45377 | M120: 45377 | N120: 0 | O120: PREVENTIVO | P120: MEC_P_C | Q120: 2 | R120: 9 | S120: 18 | V120: verde | X120: CUMPLIDO | AB120: X | AF120: Ejecutada | AG120: MANTTO PLANTA | AH120: SUPERVISOR | AK120: S | AL120: MEC_P_C | AM120: 9 | AN120: 9 | AO120: 1 | AP120: 18
C121: PM01 | E121: DIA | G121: BOMBA VERTICAL #02 DE WNCO 84 | H121: Mantenimiento, se inspeccionó los forros, encontrando en buenas condiciones. | I121: 2 | J121: 4 | K121: 45377 | L121: 45377 | M121: 45377 | N121: 0 | O121: PREVENTIVO | P121: MEC_P_C | Q121: 2 | R121: 4 | S121: 8 | V121: verde | X121: CUMPLIDO | AB121: X | AF121: Ejecutada | AG121: MANTTO PLANTA | AH121: SUPERVISOR | AK121: S | AL121: MEC_P_C | AM121: 4 | AN121: 4 | AO121: 1 | AP121: 8
C122: PM02 | E122: DIA | G122: FILTRO PRENSA | H122: Se instalo roda pies y pintado de las barandas | I122: 2 | J122: 5 | K122: 45377 | L122: 45377 | M122: 45377 | N122: 0 | O122: BACKLOG | P122: MEC_P_C | Q122: 2 | R122: 5 | S122: 10 | V122: verde | X122: CUMPLIDO | AB122: X | AF122: Ejecutada | AG122: MANTTO PLANTA | AH122: SUPERVISOR | AK122: S | AL122: MEC_P_C | AM122: 5 | AN122: 5 | AO122: 1 | AP122: 10
C123: PM01 | E123: DIA | G123: PLANTA | H123: Se traslado los materiales a punto de acopio cancha de chatarra | I123: 2 | J123: 8 | K123: 45377 | L123: 45377 | M123: 45377 | N123: 0 | O123: PREVENTIVO | P123: MEC_P_C | Q123: 2 | R123: 8 | S123: 16 | V123: verde | X123: CUMPLIDO | AB123: X | AF123: Ejecutada | AG123: MANTTO PLANTA | AH123: SUPERVISOR | AK123: S | AL123: MEC_P_C | AM123: 8 | AN123: 8 | AO123: 1 | AP123: 16
C124: PM01 | E124: DIA | G124: MARS 01 | H124: Se cambio mica visor | I124: 2 | J124: 1 | K124: 45377 | L124: 45377 | M124: 45377 | N124: 0 | O124: PREVENTIVO | P124: MEC_P_C | Q124: 2 | R124: 1 | S124: 2 | V124: verde | X124: CUMPLIDO | AB124: X | AF124: Ejecutada | AG124: MANTTO PLANTA | AH124: SUPERVISOR | AK124: S | AL124: MEC_P_C | AM124: 1 | AN124: 1 | AO124: 1 | AP124: 2
... C151: PM01 | E151: DIA | G151: CADENA ALIMENTADORA ( APRON FEEDER) QA1548 | H151: Lubricacion de rodillos internos | I151: 1 | J151: 0.5 | K151: 45377 | L151: 45377 | M151: 45377 | N151: 0 | O151: PREVENTIVO | P151: LUB_P_C | Q151: 1 | R151: 0.5 | S151: 0.5 | V151: verde | X151: CUMPLIDO | AB151: X | AF151: Ejecutada | AG151: MANTTO PLANTA | AH151: SUPERVISOR | AK151: S | AL151: LUB_P_C | AM151: 0.5 | AN151: 0.5 | AO151: 1 | AP151: 0.5
C152: PM01 | E152: DIA | G152: BOMBA HORIZONTAL Nº 2 DEL MOLINO CONICO 1 | H152: CAMBIO DE IMPULSOR Y FORROS DE LA CAJA | I152: 2 | J152: 5 | K152: 45378 | L152: 45378 | M152: 45378 | N152: 0 | O152: PREVENTIVO | P152: MEC_P_C | Q152: 2 | R152: 5 | S152: 10 | V152: verde | X152: CUMPLIDO | AC152: X | AF152: Ejecutada | AG152: MANTTO PLANTA | AH152: SUPERVISOR | AK152: S | AL152: MEC_P_C | AM152: 5 | AN152: 5 | AO152: 1 | AP152: 10
C153: PM01 | E153: DIA | G153: BOMBA VERTICAL DE 1,5 Nº 9 ALIMENTACION DE CONCENTRADO DE PB | H153: CAMBIO DE IMPULSOR Y FORROS DE CAJA | I153: 2 | J153: 5 | K153: 45378 | L153: 45378 | M153: 45378 | N153: 0 | O153: PREVENTIVO | P153: MEC_P_C | Q153: 2 | R153: 5 | S153: 10 | V153: verde | X153: CUMPLIDO | AC153: X | AF153: Ejecutada | AG153: MANTTO PLANTA | AH153: SUPERVISOR | AK153: S | AL153: MEC_P_C | AM153: 5 | AN153: 5 | AO153: 1 | AP153: 10
C154: PM01 | E154: DIA | G154: BOMBA VOGT Nº 1 | H154: CAMBIO DE BOCINA. FORROS DE LA CAJA E IMPULSOR EN BUEN ESTADO | I154: 2 | J154: 7 | K154: 45378 | L154: 45378 | M154: 45378 | N154: 0 | O154: PREVENTIVO | P154: MEC_P_C | Q154: 2 | R154: 7 | S154: 14 | V154: verde | X154: CUMPLIDO | AC154: X | AF154: Ejecutada | AG154: MANTTO PLANTA | AH154: SUPERVISOR | AK154: S | AL154: MEC_P_C | AM154: 7 | AN154: 7 | AO154: 1 | AP154: 14
C155: PM01 | E155: DIA | G155: BOMBA MARS 1 | H155: INSPECCION DE LA CAJA DE VALVULAS | I155: 2 | J155: 5 | K155: 45378 | L155: 45378 | M155: 45378 | N155: 0 | O155: PREVENTIVO | P155: MEC_P_C | Q155: 2 | R155: 5 | S155: 10 | V155: verde | X155: CUMPLIDO | AC155: X | AF155: Ejecutada | AG155: MANTTO PLANTA | AH155: SUPERVISOR | AK155: S | AL155: MEC_P_C | AM155: 5 | AN155: 5 | AO155: 1 | AP155: 10
C156: PM01 | E156: DIA | G156: FAJA 5C | H156: PREPARACION DE BANDA TRANSPORTADORA AVANCE 40% | I156: 2 | J156: 4 | K156: 45378 | L156: 45378 | M156: 45378 | N156: 0 | O156: PREVENTIVO | P156: MEC_P_C | Q156: 2 | R156: 4 | S156: 8 | V156: verde | X156: CUMPLIDO | AC156: X | AF156: Ejecutada | AG156: MANTTO PLANTA | AH156: SUPERVISOR | AK156: S | AL156: MEC_P_C | AM156: 4 | AN156: 4 | AO156: 1 | AP156: 8
C157: PM01 | E157: DIA | G157: CHANCADORA TERCIARIA | H157: REUBICACION DEL FILTRO DE AIRE | I157: 2 | J157: 4 | K157: 45378 | L157: 45378 | M157: 45378 | N157: 0 | O157: PREVENTIVO | P157: MEC_P_C | Q157: 2 | R157: 4 | S157: 8 | V157: verde | X157: CUMPLIDO | AC157: X | AF157: Ejecutada | AG157: MANTTO PLANTA | AH157: SUPERVISOR | AK157: S | AL157: MEC_P_C | AM157: 4 | AN157: 4 | AO157: 1 | AP157: 8
C158: PM01 | E158: DIA | G158: SOPLADOR SPENCER | H158: REVISION DE VIBRACIONES DEL SOPLADOR | I158: 2 | J158: 3 | K158: 45378 | L158: 45378 | M158: 45378 | N158: 0 | O158: PREVENTIVO | P158: MEC_P_C | Q158: 2 | R158: 3 | S158: 6 | V158: verde | X158: CUMPLIDO | AC158: X | AF158: Ejecutada | AG158: MANTTO PLANTA | AH158: SUPERVISOR | AK158: S | AL158: MEC_P_C | AM158: 3 | AN158: 3 | AO158: 1 | AP158: 6
C159: PM01 | E159: DIA | G159: EXTRACTOR DE POLVOS LABORATORIO METALURGICO | H159: INSPECCION, LIMPIEZA DE LOS DUCTOS Y PREPARACION DE TAPA | I159: 2 | J159: 9 | K159: 45378 | L159: 45378 | M159: 45378 | N159: 0 | O159: PREVENTIVO | P159: MEC_P_C | Q159: 2 | R159: 9 | S159: 18 | V159: verde | X159: CUMPLIDO | AC159: X | AF159: Ejecutada | AG159: MANTTO PLANTA | AH159: SUPERVISOR | AK159: S | AL159: MEC_P_C | AM159: 9 | AN159: 9 | AO159: 1 | AP159: 18
C160: PM01 | E160: DIA | G160: PLANTA CONCENTRADORA | H160: AJUSTE DE SELLOS DE LAS BOMBAS | I160: 2 | J160: 1 | K160: 45378 | L160: 45378 | M160: 45378 | N160: 0 | O160: PREVENTIVO | P160: MEC_P_C | Q160: 2 | R160: 1 | S160: 2 | V160: verde | X160: CUMPLIDO | AC160: X | AF160: Ejecutada | AG160: MANTTO PLANTA | AH160: SUPERVISOR | AK160: S | AL160: MEC_P_C | AM160: 1 | AN160: 1 | AO160: 1 | AP160: 2
C161: PM02 | E161: DIA | G161: BOMBA Nº 1 DE SK 240 | H161: INSPECCION DEL SISTEMA DE TRANSMISION | I161: 2 | J161: 2 | K161: 45378 | L161: 45378 | M161: 45378 | N161: 0 | O161: BACKLOG | P161: MEC_P_C | Q161: 2 | R161: 2 | S161: 4 | V161: verde | X161: CUMPLIDO | AC161: X | AF161: Ejecutada | AG161: MANTTO PLANTA | AH161: SUPERVISOR | AK161: S | AL161: MEC_P_C | AM161: 2 | AN161: 2 | AO161: 1 | AP161: 4
C162: PM01 | E162: DIA | G162: BOMBA VERTICAL 2,5 STAND BY | H162: ARMADO DE LA BOTELLA PORTARODAMIENTOS | I162: 2 | J162: 9 | K162: 45378 | L162: 45378 | M162: 45378 | N162: 0 | O162: PREVENTIVO | P162: MEC_P_C | Q162: 2 | R162: 9 | S162: 18 | V162: verde | X162: CUMPLIDO | AC162: X | AF162: Ejecutada | AG162: MANTTO PLANTA | AH162: SUPERVISOR | AK162: S | AL162: MEC_P_C | AM162: 9 | AN162: 9 | AO162: 1 | AP162: 18
C163: PM01 | E163: DIA | G163: PLANTA CONCENTRADORA | H163: Bloqueo de equipos para intervención de mantto. Atención de llamados. | I163: 1 | J163: 9 | K163: 45378 | L163: 45378 | M163: 45378 | N163: 0 | O163: PREVENTIVO | P163: ELE_P_C | Q163: 1 | R163: 9 | S163: 9 | V163: verde | X163: CUMPLIDO | AC163: X | AF163: Ejecutada | AG163: MANTTO PLANTA | AH163: SUPERVISOR | AK163: S | AL163: ELE_P_C | AM163: 9 | AN163: 9 | AO163: 1 | AP163: 9
... C191: PM01 | E191: DIA | G191: Celda Comesa SUB A-24 Limpieza de Cu #03 | H191: Lubricacion de caja de rodamientos | I191: 1 | J191: 1 | K191: 45378 | L191: 45378 | M191: 45378 | N191: 0 | O191: PREVENTIVO | P191: LUB_P_C | Q191: 1 | R191: 1 | S191: 1 | V191: verde | X191: CUMPLIDO | AC191: X | AF191: Ejecutada | AG191: MANTTO PLANTA | AH191: SUPERVISOR | AK191: S | AL191: LUB_P_C | AM191: 1 | AN191: 1 | AO191: 1 | AP191: 1
C192: PM01 | E192: DIA | G192: MOLINO CONICO Nº 2 | H192: PREPARACION PARA LA INSTALACION DEL SPOUT FEEDER MODIFICADO. AVANCE 20% | I192: 2 | J192: 9 | K192: 45379 | L192: 45379 | M192: 45379 | N192: 0 | O192: PREVENTIVO | P192: MEC_P_C | Q192: 2 | R192: 9 | S192: 18 | V192: verde | X192: CUMPLIDO | AD192: X | AF192: Ejecutada | AG192: MANTTO PLANTA | AH192: SUPERVISOR | AK192: S | AL192: MEC_P_C | AM192: 9 | AN192: 9 | AO192: 1 | AP192: 18
C193: PM02 | E193: DIA | G193: CHANCADORA SECUNDARIA | H193: INSTALACION DE PLANCHA CAIDA EN EL FRAME | I193: 2 | J193: 2 | K193: 45379 | L193: 45379 | M193: 45379 | N193: 0 | O193: BACKLOG | P193: MEC_P_C | Q193: 2 | R193: 2 | S193: 4 | V193: verde | X193: CUMPLIDO | AD193: X | AF193: Ejecutada | AG193: MANTTO PLANTA | AH193: SUPERVISOR | AK193: S | AL193: MEC_P_C | AM193: 2 | AN193: 2 | AO193: 1 | AP193: 4
C194: PM01 | E194: DIA | G194: APRON FEEDER | H194: REAJUSTE DE PERNOS DE SUJECION DEL SISTEMA DE ARRASTRE DE LAS PLACAS | I194: 2 | J194: 2 | K194: 45379 | L194: 45379 | M194: 45379 | N194: 0 | O194: PREVENTIVO | P194: MEC_P_C | Q194: 2 | R194: 2 | S194: 4 | V194: verde | X194: CUMPLIDO | AD194: X | AF194: Ejecutada | AG194: MANTTO PLANTA | AH194: SUPERVISOR | AK194: S | AL194: MEC_P_C | AM194: 2 | AN194: 2 | AO194: 1 | AP194: 4
C195: PM01 | E195: DIA | G195: BOMBA MARS 1 | H195: MANTENIMIENTO DEL SISTEMA DE BOMBEO | I195: 2 | J195: 7 | K195: 45379 | L195: 45379 | M195: 45379 | N195: 0 | O195: PREVENTIVO | P195: MEC_P_C | Q195: 2 | R195: 7 | S195: 14 | V195: verde | X195: CUMPLIDO | AD195: X | AF195: Ejecutada | AG195: MANTTO PLANTA | AH195: SUPERVISOR | AK195: S | AL195: MEC_P_C | AM195: 7 | AN195: 7 | AO195: 1 | AP195: 14
C196: PM01 | E196: DIA | G196: FAJA 5C | H196: CULMINACION DE LA PREPARACION DE LA BANDA TRANSPORTADORA | I196: 2 | J196: 7 | K196: 45379 | L196: 45379 | M196: 45379 | N196: 0 | O196: PREVENTIVO | P196: MEC_P_C | Q196: 2 | R196: 7 | S196: 14 | V196: verde | X196: CUMPLIDO | AD196: X | AF196: Ejecutada | AG196: MANTTO PLANTA | AH196: SUPERVISOR | AK196: S | AL196: MEC_P_C | AM196: 7 | AN196: 7 | AO196: 1 | AP196: 14
C197: PM01 | E197: DIA | G197: BOMBA VERTICAL 2,5 DEL CLARIFICADOR Nº 1 | H197: INSPECCION DE LA BOMBA. LOS COMPONENTES SE ENCUENTRAN EN BUEN ESTADO | I197: 2 | J197: 2 | K197: 45379 | L197: 45379 | M197: 45379 | N197: 0 | O197: PREVENTIVO | P197: MEC_P_C | Q197: 2 | R197: 2 | S197: 4 | V197: verde | X197: CUMPLIDO | AD197: X | AF197: Ejecutada | AG197: MANTTO PLANTA | AH197: SUPERVISOR | AK197: S | AL197: MEC_P_C | AM197: 2 | AN197: 2 | AO197: 1 | AP197: 4
C198: PM01 | E198: DIA | G198: BOMBA HIDROSTAL STAND BY DE NOVA | H198: PREPARACION DE BOMBA DE STAND BY | I198: 2 | J198: 7 | K198: 45379 | L198: 45379 | M198: 45379 | N198: 0 | O198: PREVENTIVO | P198: MEC_P_C | Q198: 2 | R198: 7 | S198: 14 | V198: verde | X198: CUMPLIDO | AD198: X | AF198: Ejecutada | AG198: MANTTO PLANTA | AH198: SUPERVISOR | AK198: S | AL198: MEC_P_C | AM198: 7 | AN198: 7 | AO198: 1 | AP198: 14
C199: PM01 | E199: DIA | G199: BOMBAS MARS | H199: INSPECCION, ORDEN Y LIMPIEZA DEL AREA | I199: 2 | J199: 2 | K199: 45379 | L199: 45379 | M199: 45379 | N199: 0 | O199: PREVENTIVO | P199: MEC_P_C | Q199: 2 | R199: 2 | S199: 4 | V199: verde | X199: CUMPLIDO | AD199: X | AF199: Ejecutada | AG199: MANTTO PLANTA | AH199: SUPERVISOR | AK199: S | AL199: MEC_P_C | AM199: 2 | AN199: 2 | AO199: 1 | AP199: 4
C200: PM01 | E200: DIA | G200: BOMBA 6X4 EG | H200: HABILITACION DE BOMBA DE STAND BY | I200: 2 | J200: 5 | K200: 45379 | L200: 45379 | M200: 45379 | N200: 0 | O200: PREVENTIVO | P200: MEC_P_C | Q200: 2 | R200: 5 | S200: 10 | V200: verde | X200: CUMPLIDO | AD200: X | AF200: Ejecutada | AG200: MANTTO PLANTA | AH200: SUPERVISOR | AK200: S | AL200: MEC_P_C | AM200: 5 | AN200: 5 | AO200: 1 | AP200: 10
C201: PM01 | E201: DIA | G201: BOMBA 8X6 FAH | H201: HABILITACION DE CAJA DE RODAMIENTOS. AVANCE 50% | I201: 2 | J201: 4 | K201: 45379 | L201: 45379 | M201: 45379 | N201: 0 | O201: PREVENTIVO | P201: MEC_P_C | Q201: 2 | R201: 4 | S201: 8 | V201: verde | X201: CUMPLIDO | AD201: X | AF201: Ejecutada | AG201: MANTTO PLANTA | AH201: SUPERVISOR | AK201: S | AL201: MEC_P_C | AM201: 4 | AN201: 4 | AO201: 1 | AP201: 8
C202: PM01 | E202: DIA | G202: PLANTA CONCENTRADORA | H202: Bloqueo de equipos para intervención de mantto. Atención de llamados. | I202: 1 | J202: 9 | K202: 45379 | L202: 45379 | M202: 45379 | N202: 0 | O202: PREVENTIVO | P202: ELE_P_C | Q202: 1 | R202: 9 | S202: 9 | V202: verde | X202: CUMPLIDO | AD202: X | AF202: Ejecutada | AG202: MANTTO PLANTA | AH202: SUPERVISOR | AK202: S | AL202: ELE_P_C | AM202: 9 | AN202: 9 | AO202: 1 | AP202: 9
C203: PM01 | E203: DIA | G203: BOMBA NOVA N 3 | H203: SE ESTA REALIZANDO PREPARATIVOS DE MATERIALES ELECTRICOS PARA EL CAMBIO DE BOMBA A HIDROSTAL | I203: 2 | J203: 6 | K203: 45379 | L203: 45379 | M203: 45379 | N203: 0 | O203: PREVENTIVO | P203: ELE_P_C | Q203: 2 | R203: 6 | S203: 12 | V203: verde | X203: CUMPLIDO | AD203: X | AF203: Ejecutada | AG203: MANTTO PLANTA | AH203: SUPERVISOR | AK203: S | AL203: ELE_P_C | AM203: 6 | AN203: 6 | AO203: 1 | AP203: 12
... C224: PM01 | E224: DIA | G224: Tanque de preparación de Sulfato de sodio | H224: Lubricacion de chumaceras | I224: 1 | J224: 1 | K224: 45379 | L224: 45379 | M224: 45379 | N224: 0 | O224: PREVENTIVO | P224: LUB_P_C | Q224: 1 | R224: 1 | S224: 1 | V224: verde | X224: CUMPLIDO | AD224: X | AF224: Ejecutada | AG224: MANTTO PLANTA | AH224: SUPERVISOR | AK224: S | AL224: LUB_P_C | AM224: 1 | AN224: 1 | AO224: 1 | AP224: 1
C225: PM01 | E225: DIA | G225: MOLINO CONICO Nº 2 | H225: PREPARACION PARA LA INSTALACION DEL SPOUT FEEDER MODIFICADO. AVANCE 40% | I225: 2 | J225: 9 | K225: 45380 | L225: 45380 | N225: 0 | O225: PREVENTIVO | P225: MEC_P_C | Q225: 2 | R225: 9 | S225: 18 | V225: ROJO | X225: PENDIENTE | AE225: X | AF225: No Ejecutada | AG225: MANTTO PLANTA | AH225: SUPERVISOR | AI225: Actividad en proceso | AJ225: Falta de M.O. Interna | AK225: S | AL225: MEC_P_C | AM225: 9 | AN225: 9 | AO225: 1 | AP225: 18
C226: PM01 | E226: DIA | G226: BOMBA HIDROSTAL STAND BY DE NOVA | H226: PREPARACION DE BOMBA DE STAND BY | I226: 2 | J226: 7 | K226: 45380 | L226: 45380 | M226: 45380 | N226: 0 | O226: PREVENTIVO | P226: MEC_P_C | Q226: 2 | R226: 7 | S226: 14 | V226: verde | X226: CUMPLIDO | AE226: X | AF226: Ejecutada | AG226: MANTTO PLANTA | AH226: SUPERVISOR | AK226: S | AL226: MEC_P_C | AM226: 7 | AN226: 7 | AO226: 1 | AP226: 14
C227: PM02 | E227: DIA | G227: BOMBA MARS 4 | H227: REPARACION DE LA TUBERIA DE ALIMENTACION | I227: 2 | J227: 2 | K227: 45380 | L227: 45380 | M227: 45380 | N227: 0 | O227: BACKLOG | P227: MEC_P_C | Q227: 2 | R227: 2 | S227: 4 | V227: verde | X227: CUMPLIDO | AE227: X | AF227: Ejecutada | AG227: MANTTO PLANTA | AH227: SUPERVISOR | AK227: S | AL227: MEC_P_C | AM227: 2 | AN227: 2 | AO227: 1 | AP227: 4
C228: PM02 | E228: DIA | G228: BOMBA HORIZONTAL 104 | H228: CAMBIO DE IMPULSOR Y FORROS DE LA CAJA | I228: 2 | J228: 2 | K228: 45380 | L228: 45380 | M228: 45380 | N228: 0 | O228: BACKLOG | P228: MEC_P_C | Q228: 2 | R228: 2 | S228: 4 | V228: verde | X228: CUMPLIDO | AE228: X | AF228: Ejecutada | AG228: MANTTO PLANTA | AH228: SUPERVISOR | AK228: S | AL228: MEC_P_C | AM228: 2 | AN228: 2 | AO228: 1 | AP228: 4
C229: PM01 | E229: DIA | G229: FAJA 2 | H229: TRASLADO DE POLEA Y REDUCTOR | I229: 2 | J229: 7 | K229: 45380 | L229: 45380 | M229: 45380 | N229: 0 | O229: PREVENTIVO | P229: MEC_P_C | Q229: 2 | R229: 7 | S229: 14 | V229: verde | X229: CUMPLIDO | AE229: X | AF229: Ejecutada | AG229: MANTTO PLANTA | AH229: SUPERVISOR | AK229: S | AL229: MEC_P_C | AM229: 7 | AN229: 7 | AO229: 1 | AP229: 14
C230: PM01 | E230: DIA | G230: PLANTA CONCENTRADORA | H230: TRASLADO DE REPUESTOS | I230: 2 | J230: 9 | K230: 45380 | L230: 45380 | M230: 45380 | N230: 0 | O230: PREVENTIVO | P230: MEC_P_C | Q230: 2 | R230: 9 | S230: 18 | V230: verde | X230: CUMPLIDO | AE230: X | AF230: Ejecutada | AG230: MANTTO PLANTA | AH230: SUPERVISOR | AK230: S | AL230: MEC_P_C | AM230: 9 | AN230: 9 | AO230: 1 | AP230: 18
C231: PM01 | E231: DIA | G231: PLANTA CONCENTRADORA | H231: Bloqueo de equipos para intervención de mantto. Atención de llamados. | I231: 1 | J231: 9 | K231: 45380 | L231: 45380 | M231: 45380 | N231: 0 | O231: PREVENTIVO | P231: ELE_P_C | Q231: 1 | R231: 9 | S231: 9 | V231: verde | X231: CUMPLIDO | AE231: X | AF231: Ejecutada | AG231: MANTTO PLANTA | AH231: SUPERVISOR | AK231: S | AL231: ELE_P_C | AM231: 9 | AN231: 9 | AO231: 1 | AP231: 9
C232: PM01 | E232: DIA | G232: PLANTA CONCENTRADORA | H232: Se realizo inspección de tablero , cableado para el cambio de motor a la wenco #2 de plomo, se reviso el tablero si esta adecuado para ese cambio de motor de 50hp. Se realizo el levantamiento de observacion de la bomba vertical de plomo #9 ya que la tubería conduit no está fijada, el cable dela caja de borneras estaba espuesto , se realizo mejora , se dejó trabajando. Se realizó trabajos en relavera se puse armellas en la caja principal de distribución, se cambió tomacorriente. Se realizó inspección de puente grúa. Se levantaron observaciones de tableros eléctricos. | I232: 1 | J232: 9 | K232: 45380 | L232: 45380 | M232: 45380 | N232: 0 | O232: PREVENTIVO | P232: ELE_P_C | Q232: 1 | R232: 9 | S232: 9 | V232: verde | X232: CUMPLIDO | AE232: X | AF232: Ejecutada | AG232: MANTTO PLANTA | AH232: SUPERVISOR | AK232: S | AL232: ELE_P_C | AM232: 9 | AN232: 9 | AO232: 1 | AP232: 9
C233: PM01 | E233: DIA | G233: ESPESADOR DE RELAVES | H233: calibracion de electrodo de ph de espesador de relave | I233: 2 | J233: 3 | K233: 45380 | L233: 45380 | M233: 45380 | N233: 0 | O233: PREVENTIVO | P233: ELECN_P_C | Q233: 2 | R233: 3 | S233: 6 | V233: verde | X233: CUMPLIDO | AE233: X | AF233: Ejecutada | AG233: MANTTO PLANTA | AH233: SUPERVISOR | AK233: S | AL233: ELECN_P_C | AM233: 3 | AN233: 3 | AO233: 1 | AP233: 6
C234: PM02 | E234: DIA | G234: BOMBA MARS 4 | H234: inspeccion ,cambio de conector rápido curvo de cilindro de válvula neumática de alimento de carga a la bomba Mars 4 | I234: 2 | J234: 2 | K234: 45380 | L234: 45380 | M234: 45380 | N234: 0 | O234: BACKLOG | P234: ELECN_P_C | Q234: 2 | R234: 2 | S234: 4 | V234: verde | X234: CUMPLIDO | AE234: X | AF234: Ejecutada | AG234: MANTTO PLANTA | AH234: SUPERVISOR | AK234: S | AL234: ELECN_P_C | AM234: 2 | AN234: 2 | AO234: 1 | AP234: 4
C235: PM01 | E235: DIA | G235: PLANTA CONCENTRADORA | H235: inspeccion de de fugas de aire en válvula proporcional de ingresos de agua al molino 8x11 -desconeccion de parada de emergencia para reubicación de la faja del molino №2 -reubicacion de boya de control de válvula de alimentación de carga a la bomba 104 -inspeccion bombas dosificadoras de reactivos y se agrego glicerina a la bomba №131 | I235: 2 | J235: 4 | K235: 45380 | L235: 45380 | M235: 45380 | N235: 0 | O235: PREVENTIVO | P235: ELECN_P_C | Q235: 2 | R235: 4 | S235: 8 | V235: verde | X235: CUMPLIDO | AE235: X | AF235: Ejecutada | AG235: MANTTO PLANTA | AH235: SUPERVISOR | AK235: S | AL235: ELECN_P_C | AM235: 4 | AN235: 4 | AO235: 1 | AP235: 8
C236: PM01 | E236: DIA | G236: CHANCADO TERCIARIO | H236: Fabricación de estructura para kit antiderrame | I236: 2 | J236: 9 | K236: 45380 | L236: 45380 | M236: 45380 | N236: 0 | O236: PREVENTIVO | P236: INST_P_C | Q236: 2 | R236: 9 | S236: 18 | V236: verde | X236: CUMPLIDO | AE236: X | AF236: Ejecutada | AG236: MANTTO PLANTA | AH236: SUPERVISOR | AK236: S | AL236: INST_P_C | AM236: 9 | AN236: 9 | AO236: 1 | AP236: 18
C237: PM02 | E237: DIA | G237: PLANTA DE NEUTRALIZACION | H237: Fijación de piso grating en la base de estructura del reactor nª2 | I237: 2 | J237: 4 | K237: 45380 | L237: 45380 | M237: 45380 | N237: 0 | O237: BACKLOG | P237: INST_P_C | Q237: 2 | R237: 4 | S237: 8 | V237: verde | X237: CUMPLIDO | AE237: X | AF237: Ejecutada | AG237: MANTTO PLANTA | AH237: SUPERVISOR | AK237: S | AL237: INST_P_C | AM237: 4 | AN237: 4 | AO237: 1 | AP237: 8
... C239: PM01 | E239: DIA | G239: BOMBA Nª1 FLOTACION BULK | H239: Fabricación de codo de 4" de fierro | I239: 2 | J239: 3 | K239: 45380 | L239: 45380 | M239: 45380 | N239: 0 | O239: PREVENTIVO | P239: INST_P_C | Q239: 2 | R239: 3 | S239: 6 | V239: verde | X239: CUMPLIDO | AE239: X | AF239: Ejecutada | AG239: MANTTO PLANTA | AH239: SUPERVISOR | AK239: S | AL239: INST_P_C | AM239: 3 | AN239: 3 | AO239: 1 | AP239: 6
C240: PM02 | E240: DIA | G240: MOLINO Nª2 | H240: Reubicación de faja y modificación del chute de alimento a la faja | I240: 3 | J240: 9 | K240: 45380 | L240: 45380 | N240: 0 | O240: BACKLOG | P240: INST_P_C | Q240: 3 | R240: 9 | S240: 27 | V240: ROJO | X240: PENDIENTE | AE240: X | AF240: No Ejecutada | AG240: MANTTO PLANTA | AH240: SUPERVISOR | AI240: Actividad en proceso | AJ240: Falta de M.O. Interna | AK240: S | AL240: INST_P_C | AM240: 9 | AN240: 9 | AO240: 1 | AP240: 27
C241: PM02 | E241: DIA | G241: ESPESADOR DE COBRE | H241: Traslado y armado de andamio | I241: 3 | J241: 7 | K241: 45380 | L241: 45380 | M241: 45380 | N241: 0 | O241: BACKLOG | P241: INST_P_C | Q241: 3 | R241: 7 | S241: 21 | V241: verde | X241: CUMPLIDO | AE241: X | AF241: Ejecutada | AG241: MANTTO PLANTA | AH241: SUPERVISOR | AK241: S | AL241: INST_P_C | AM241: 7 | AN241: 7 | AO241: 1 | AP241: 21
C242: PM02 | E242: DIA | G242: FILTRO CC6 Nª1 | H242: Habilitación de material para prolongación de chute de descarga | I242: 2 | J242: 2 | K242: 45380 | L242: 45380 | M242: 45380 | N242: 0 | O242: BACKLOG | P242: INST_P_C | Q242: 2 | R242: 2 | S242: 4 | V242: verde | X242: CUMPLIDO | AE242: X | AF242: Ejecutada | AG242: MANTTO PLANTA | AH242: SUPERVISOR | AK242: S | AL242: INST_P_C | AM242: 2 | AN242: 2 | AO242: 1 | AP242: 4
C243: PM01 | E243: DIA | G243: BOMBA MARS Nª5 | H243: Instalación de tapa para buzón de línea de descarga de flujo de agua | I243: 2 | J243: 2 | K243: 45380 | L243: 45380 | M243: 45380 | N243: 0 | O243: PREVENTIVO | P243: INST_P_C | Q243: 2 | R243: 2 | S243: 4 | V243: verde | X243: CUMPLIDO | AE243: X | AF243: Ejecutada | AG243: MANTTO PLANTA | AH243: SUPERVISOR | AK243: S | AL243: INST_P_C | AM243: 2 | AN243: 2 | AO243: 1 | AP243: 4
C244: PM01 | E244: DIA | G244: BOMBA MARS L-180 N° 1 | H244: Lubricacion de motor electrico | I244: 1 | J244: 1 | K244: 45380 | L244: 45380 | M244: 45380 | N244: 0 | O244: PREVENTIVO | P244: LUB_P_C | Q244: 1 | R244: 1 | S244: 1 | V244: verde | X244: CUMPLIDO | AE244: X | AF244: Ejecutada | AG244: MANTTO PLANTA | AH244: SUPERVISOR | AK244: S | AL244: LUB_P_C | AM244: 1 | AN244: 1 | AO244: 1 | AP244: 1
...

Sheet RUTINA
F1: 13 | N1: FECHAS | U1: MO | W1: OC | X1: =DATE(2024,1,1) - MOD(WEEKDAY(DATE(2022,1,1)), 7)+ (F1-2)*7+5 -> 45374 | Y1: =+X1+1 -> 45375 | Z1: =+Y1+1 -> 45376 | AA1: =+Z1+1 -> 45377 | AB1: =+AA1+1 -> 45378 | AC1: =+AB1+1 -> 45379 | AD1: =+AC1+1 -> 45380 | AE1: DIAS | AJ1: ADH
A2: =+CONCATENATE("PROGRAMA - SEMANA ",F1) -> PROGRAMA - SEMANA 13 | O2: MEC_P_C | P2: ELE_P_C | Q2: ELECN_P_C | R2: INST_P_C | S2: LUB_P_C | X2: =+CONCATENATE("SEMANA ",F1) -> SEMANA 13 | AE2: ADHERENCIA | AJ2: CONTROL HORAS HOMBRE
A3: OT | B3: PM | C3: CODIGO | D3: TURNO | E3: PREV. | F3: EQUIPO | G3: SISTEMA FUNCIONAL | H3: FREC CANT | I3: HORAS ACUM SOLICITADO | J3: FECHA PROGRAMA | K3: INICIO PARADA | L3: FIN PARADA | M3: REPUESTO | N3: SUSTENTO | O3: PERSONAL | P3: H | Q3: HH | R3: HH// | S3: HORAS PARADA | T3: OS | U3: INDICADOR | V3: ORDEN COMPRA | W3: SEGUIMIENTO | X3: SABADO | Y3: DOMINGO | Z3: LUNES | AA3: MARTES | AB3: MIÉRCOLES | AC3: JUEVES | AD3: VIERNES | AE3: ACTIVIDAD | AF3: EJECUTANTE | AG3: SOLICITA | AH3: CAUSA 1 | AI3: CAUSA 2 | AJ3: S/N | AK3: PTRAB | AL3: HH PLAN | AM3: HH REAL | AN3: DESVIO | AO3: HH//REAL
B4: PM01 | D4: DIA | F4: FAJA 5"A" | G4: Se vulcanizóel jebe antifricción del trinquete. | H4: 2 | I4: 9 | J4: 45374 | K4: 45374 | L4: 45374 | M4: =Tabla1[[#This Row],[REPUESTO]:[SUSTENTO]] -> 0 | N4: =IF(Tabla1[[#This Row],[PM]]="PM01","PREVENTIVO",IF(Tabla1[[#This Row],[PM]]="PM02","BACKLOG","CORRECTIVO")) -> PREVENTIVO | O4: MEC_P_C | P4: =Tabla1[[#This Row],[FREC CANT]] -> 2 | Q4: =Tabla1[[#This Row],[HORAS ACUM SOLICITADO]] -> 9 | R4: =(Tabla1[[#This Row],[H]]*Tabla1[[#This Row],[HH]]) -> 18 | U4: verde | W4: =IF(Tabla1[[#This Row],[SUSTENTO]]="CORRECTIVO","ADICIONAL",IF(AND(Tabla1[[#This Row],[SUSTENTO]]="PREVENTIVO",Tabla1[[#This Row],[INDICADOR]]="VERDE"),"CUMPLIDO",IF(AND(Tabla1[[#This Row],[SUSTENTO]]="BACKLOG",Tabla1[[#This Row],[INDICADOR]]="VERDE"),"CUMPLIDO","PENDIENTE"))) -> CUMPLIDO | X4: =+IF(X$1=Tabla1[[#This Row],[INICIO PARADA]],"X",IF(Tabla1[[#This Row],[FIN PARADA]]=X$1,"X","")) -> X | Y4: =+IF(Y$1=Tabla1[[#This Row],[INICIO PARADA]],"X",IF(Tabla1[[#This Row],[FIN PARADA]]=Y$1,"X","")) | Z4: =+IF(Z$1=Tabla1[[#This Row],[INICIO PARADA]],"X",IF(Tabla1[[#This Row],[FIN PARADA]]=Z$1,"X","")) | AA4: =+IF(AA$1=Tabla1[[#This Row],[INICIO PARADA]],"X",IF(Tabla1[[#This Row],[FIN PARADA]]=AA$1,"X","")) | AB4: =+IF(AB$1=Tabla1[[#This Row],[INICIO PARADA]],"X",IF(Tabla1[[#This Row],[FIN PARADA]]=AB$1,"X","")) | AC4: =+IF(AC$1=Tabla1[[#This Row],[INICIO PARADA]],"X",IF(Tabla1[[#This Row],[FIN PARADA]]=AC$1,"X","")) | AD4: =+IF(AD$1=Tabla1[[#This Row],[INICIO PARADA]],"X",IF(Tabla1[[#This Row],[FIN PARADA]]=AD$1,"X","")) | AE4: =+IF(Tabla1[[#This Row],[SEGUIMIENTO]]="CUMPLIDO","Ejecutada",IF(Tabla1[[#This Row],[SEGUIMIENTO]]="PENDIENTE","No Ejecutada","ADICIONAL")) -> Ejecutada | AF4: MANTTO PLANTA | AG4: SUPERVISOR | AJ4: =IF(Tabla1[[#This Row],[SUSTENTO]]="CORRECTIVO","N","S") -> S | AK4: =+Tabla1[[#This Row],[PERSONAL]] -> MEC_P_C | AL4: =+IF(Tabla1[[#This Row],[S/N]]="S",IF(Tabla1[[#This Row],[HH]]=0,Tabla1[[#This Row],[HH//]],Tabla1[[#This Row],[HH]]),0) -> 9 | AM4: 9 | AN4: =IF(Tabla1[[#This Row],[S/N]]="s",+IFERROR(Tabla1[[#This Row],[HH REAL]]/Tabla1[[#This Row],[HH PLAN]],0),"") -> 1 | AO4: =Tabla1[[#This Row],[FREC CANT]]*Tabla1[[#This Row],[HH REAL]] -> 18
B5: PM02 | D5: DIA | F5: BOMBAS MARS | G5: Se reparó las parrillas de la canaleta acceso a bomba putzmeister. | H5: 2 | I5: 7 | J5: 45374 | K5: 45374 | L5: 45374 | M5: =Tabla1[[#This Row],[REPUESTO]:[SUSTENTO]] -> 0 | N5: =IF(Tabla1[[#This Row],[PM]]="PM01","PREVENTIVO",IF(Tabla1[[#This Row],[PM]]="PM02","BACKLOG","CORRECTIVO")) -> BACKLOG | O5: MEC_P_C | P5: =Tabla1[[#This Row],[FREC CANT]] -> 2 | Q5: =Tabla1[[#This Row],[HORAS ACUM SOLICITADO]] -> 7 | R5: =(Tabla1[[#This Row],[H]]*Tabla1[[#This Row],[HH]]) -> 14 | U5: verde | W5: =IF(Tabla1[[#This Row],[SUSTENTO]]="CORRECTIVO","ADICIONAL",IF(AND(Tabla1[[#This Row],[SUSTENTO]]="PREVENTIVO",Tabla1[[#This Row],[INDICADOR]]="VERDE"),"CUMPLIDO",IF(AND(Tabla1[[#This Row],[SUSTENTO]]="BACKLOG",Tabla1[[#This Row],[INDICADOR]]="VERDE"),"CUMPLIDO","PENDIENTE"))) -> CUMPLIDO | X5: =+IF(X$1=Tabla1[[#This Row],[INICIO PARADA]],"X",IF(Tabla1[[#This Row],[FIN PARADA]]=X$1,"X","")) -> X | Y5: =+IF(Y$1=Tabla1[[#This Row],[INICIO PARADA]],"X",IF(Tabla1[[#This Row],[FIN PARADA]]=Y$1,"X","")) | Z5: =+IF(Z$1=Tabla1[[#This Row],[INICIO PARADA]],"X",IF(Tabla1[[#This Row],[FIN PARADA]]=Z$1,"X","")) | AA5: =+IF(AA$1=Tabla1[[#This Row],[INICIO PARADA]],"X",IF(Tabla1[[#This Row],[FIN PARADA]]=AA$1,"X","")) | AB5: =+IF(AB$1=Tabla1[[#This Row],[INICIO PARADA]],"X",IF(Tabla1[[#This Row],[FIN PARADA]]=AB$1,"X","")) | AC5: =+IF(AC$1=Tabla1[[#This Row],[INICIO PARADA]],"X",IF(Tabla1[[#This Row],[FIN PARADA]]=AC$1,"X","")) | AD5: =+IF(AD$1=Tabla1[[#This Row],[INICIO PARADA]],"X",IF(Tabla1[[#This Row],[FIN PARADA]]=AD$1,"X","")) | AE5: =+IF(Tabla1[[#This Row],[SEGUIMIENTO]]="CUMPLIDO","Ejecutada",IF(Tabla1[[#This Row],[SEGUIMIENTO]]="PENDIENTE","No Ejecutada","ADICIONAL")) -> Ejecutada | AF5: MANTTO PLANTA | AG5: SUPERVISOR | AJ5: =IF(Tabla1[[#This Row],[SUSTENTO]]="CORRECTIVO","N","S") -> S | AK5: =+Tabla1[[#This Row],[PERSONAL]] -> MEC_P_C | AL5: =+IF(Tabla1[[#This Row],[S/N]]="S",IF(Tabla1[[#This Row],[HH]]=0,Tabla1[[#This Row],[HH//]],Tabla1[[#This Row],[HH]]),0) -> 7 | AM5: 7 | AN5: =IF(Tabla1[[#This Row],[S/N]]="s",+IFERROR(Tabla1[[#This Row],[HH REAL]]/Tabla1[[#This Row],[HH PLAN]],0),"") -> 1 | AO5: =Tabla1[[#This Row],[FREC CANT]]*Tabla1[[#This Row],[HH REAL]] -> 14
B6: PM01 | D6: DIA | F6: STAND BY WENCO 84 | G6: Se desmontó los rodamientos de bomba y se trasladó el eje hacia maestranza para su maquinado. | H6: 2 | I6: 1 | J6: 45374 | K6: 45374 | L6: 45374 | M6: =Tabla1[[#This Row],[REPUESTO]:[SUSTENTO]] -> 0 | N6: =IF(Tabla1[[#This Row],[PM]]="PM01","PREVENTIVO",IF(Tabla1[[#This Row],[PM]]="PM02","BACKLOG","CORRECTIVO")) -> PREVENTIVO | O6: MEC_P_C | P6: =Tabla1[[#This Row],[FREC CANT]] -> 2 | Q6: =Tabla1[[#This Row],[HORAS ACUM SOLICITADO]] -> 1 | R6: =(Tabla1[[#This Row],[H]]*Tabla1[[#This Row],[HH]]) -> 2 | U6: verde | W6: =IF(Tabla1[[#This Row],[SUSTENTO]]="CORRECTIVO","ADICIONAL",IF(AND(Tabla1[[#This Row],[SUSTENTO]]="PREVENTIVO",Tabla1[[#This Row],[INDICADOR]]="VERDE"),"CUMPLIDO",IF(AND(Tabla1[[#This Row],[SUSTENTO]]="BACKLOG",Tabla1[[#This Row],[INDICADOR]]="VERDE"),"CUMPLIDO","PENDIENTE"))) -> CUMPLIDO | X6: =+IF(X$1=Tabla1[[#This Row],[INICIO PARADA]],"X",IF(Tabla1[[#This Row],[FIN PARADA]]=X$1,"X","")) -> X | Y6: =+IF(Y$1=Tabla1[[#This Row],[INICIO PARADA]],"X",IF(Tabla1[[#This Row],[FIN PARADA]]=Y$1,"X","")) | Z6: =+IF(Z$1=Tabla1[[#This Row],[INICIO PARADA]],"X",IF(Tabla1[[#This Row],[FIN PARADA]]=Z$1,"X","")) | AA6: =+IF(AA$1=Tabla1[[#This Row],[INICIO PARADA]],"X",IF(Tabla1[[#This Row],[FIN PARADA]]=AA$1,"X","")) | AB6: =+IF(AB$1=Tabla1[[#This Row],[INICIO PARADA]],"X",IF(Tabla1[[#This Row],[FIN PARADA]]=AB$1,"X","")) | AC6: =+IF(AC$1=Tabla1[[#This Row],[INICIO PARADA]],"X",IF(Tabla1[[#This Row],[FIN PARADA]]=AC$1,"X","")) | AD6: =+IF(AD$1=Tabla1[[#This Row],[INICIO PARADA]],"X",IF(Tabla1[[#This Row],[FIN PARADA]]=AD$1,"X","")) | AE6: =+IF(Tabla1[[#This Row],[SEGUIMIENTO]]="CUMPLIDO","Ejecutada",IF(Tabla1[[#This Row],[SEGUIMIENTO]]="PENDIENTE","No Ejecutada","ADICIONAL")) -> Ejecutada | AF6: MANTTO PLANTA | AG6: SUPERVISOR | AJ6: =IF(Tabla1[[#This Row],[SUSTENTO]]="CORRECTIVO","N","S") -> S | AK6: =+Tabla1[[#This Row],[PERSONAL]] -> MEC_P_C | AL6: =+IF(Tabla1[[#This Row],[S/N]]="S",IF(Tabla1[[#This Row],[HH]]=0,Tabla1[[#This Row],[HH//]],Tabla1[[#This Row],[HH]]),0) -> 1 | AM6: 1 | AN6: =IF(Tabla1[[#This Row],[S/N]]="s",+IFERROR(Tabla1[[#This Row],[HH REAL]]/Tabla1[[#This Row],[HH PLAN]],0),"") -> 1 | AO6: =Tabla1[[#This Row],[FREC CANT]]*Tabla1[[#This Row],[HH REAL]] -> 2
B7: PM01 | D7: DIA | F7: CHANCADORA TERCIARIA | G7: Se habilitó materiales para reubicar el filtro de aire de chancadora terciaría. | H7: 2 | I7: 1 | J7: 45374 | K7: 45374 | L7: 45374 | M7: =Tabla1[[#This Row],[REPUESTO]:[SUSTENTO]] -> 0 | N7: =IF(Tabla1[[#This Row],[PM]]="PM01","PREVENTIVO",IF(Tabla1[[#This Row],[PM]]="PM02","BACKLOG","CORRECTIVO")) -> PREVENTIVO | O7: MEC_P_C | P7: =Tabla1[[#This Row],[FREC CANT]] -> 2 | Q7: =Tabla1[[#This Row],[HORAS ACUM SOLICITADO]] -> 1 | R7: =(Tabla1[[#This Row],[H]]*Tabla1[[#This Row],[HH]]) -> 2 | U7: verde | W7: =IF(Tabla1[[#This Row],[SUSTENTO]]="CORRECTIVO","ADICIONAL",IF(AND(Tabla1[[#This Row],[SUSTENTO]]="PREVENTIVO",Tabla1[[#This Row],[INDICADOR]]="VERDE"),"CUMPLIDO",IF(AND(Tabla1[[#This Row],[SUSTENTO]]="BACKLOG",Tabla1[[#This Row],[INDICADOR]]="VERDE"),"CUMPLIDO","PENDIENTE"))) -> CUMPLIDO | X7: =+IF(X$1=Tabla1[[#This Row],[INICIO PARADA]],"X",IF(Tabla1[[#This Row],[FIN PARADA]]=X$1,"X","")) -> X | Y7: =+IF(Y$1=Tabla1[[#This Row],[INICIO PARADA]],"X",IF(Tabla1[[#This Row],[FIN PARADA]]=Y$1,"X","")) | Z7: =+IF(Z$1=Tabla1[[#This Row],[INICIO PARADA]],"X",IF(Tabla1[[#This Row],[FIN PARADA]]=Z$1,"X","")) | AA7: =+IF(AA$1=Tabla1[[#This Row],[INICIO PARADA]],"X",IF(Tabla1[[#This Row],[FIN PARADA]]=AA$1,"X","")) | AB7: =+IF(AB$1=Tabla1[[#This Row],[INICIO PARADA]],"X",IF(Tabla1[[#This Row],[FIN PARADA]]=AB$1,"X","")) | AC7: =+IF(AC$1=Tabla1[[#This Row],[INICIO PARADA]],"X",IF(Tabla1[[#This Row],[FIN PARADA]]=AC$1,"X","")) | AD7: =+IF(AD$1=Tabla1[[#This Row],[INICIO PARADA]],"X",IF(Tabla1[[#This Row],[FIN PARADA]]=AD$1,"X","")) | AE7: =+IF(Tabla1[[#This Row],[SEGUIMIENTO]]="CUMPLIDO","Ejecutada",IF(Tabla1[[#This Row],[SEGUIMIENTO]]="PENDIENTE","No Ejecutada","ADICIONAL")) -> Ejecutada | AF7: MANTTO PLANTA | AG7: SUPERVISOR | AJ7: =IF(Tabla1[[#This Row],[SUSTENTO]]="CORRECTIVO","N","S") -> S | AK7: =+Tabla1[[#This Row],[PERSONAL]] -> MEC_P_C | AL7: =+IF(Tabla1[[#This Row],[S/N]]="S",IF(Tabla1[[#This Row],[HH]]=0,Tabla1[[#This Row],[HH//]],Tabla1[[#This Row],[HH]]),0) -> 1 | AM7: 1 | AN7: =IF(Tabla1[[#This Row],[S/N]]="s",+IFERROR(Tabla1[[#This Row],[HH REAL]]/Tabla1[[#This Row],[HH PLAN]],0),"") -> 1 | AO7: =Tabla1[[#This Row],[FREC CANT]]*Tabla1[[#This Row],[HH REAL]] -> 2
B8: PM03 | D8: DIA | F8: BOMBA DE CICLON DE CAL | G8: Se cambió forros, frame, cover, impulsor, bocina, retenes y oring de bomba de ciclon de cal. | H8: 2 | I8: 5 | J8: 45374 | K8: 45374 | L8: 45374 | M8: =Tabla1[[#This Row],[REPUESTO]:[SUSTENTO]] -> 0 | N8: =IF(Tabla1[[#This Row],[PM]]="PM01","PREVENTIVO",IF(Tabla1[[#This Row],[PM]]="PM02","BACKLOG","CORRECTIVO")) -> CORRECTIVO | O8: MEC_P_C | P8: =Tabla1[[#This Row],[FREC CANT]] -> 2 | Q8: =Tabla1[[#This Row],[HORAS ACUM SOLICITADO]] -> 5 | R8: =(Tabla1[[#This Row],[H]]*Tabla1[[#This Row],[HH]]) -> 10 | U8: verde | W8: =IF(Tabla1[[#This Row],[SUSTENTO]]="CORRECTIVO","ADICIONAL",IF(AND(Tabla1[[#This Row],[SUSTENTO]]="PREVENTIVO",Tabla1[[#This Row],[INDICADOR]]="VERDE"),"CUMPLIDO",IF(AND(Tabla1[[#This Row],[SUSTENTO]]="BACKLOG",Tabla1[[#This Row],[INDICADOR]]="VERDE"),"CUMPLIDO","PENDIENTE"))) -> ADICIONAL | X8: =+IF(X$1=Tabla1[[#This Row],[INICIO PARADA]],"X",IF(Tabla1[[#This Row],[FIN PARADA]]=X$1,"X","")) -> X | Y8: =+IF(Y$1=Tabla1[[#This Row],[INICIO PARADA]],"X",IF(Tabla1[[#This Row],[FIN PARADA]]=Y$1,"X","")) | Z8: =+IF(Z$1=Tabla1[[#This Row],[INICIO PARADA]],"X",IF(Tabla1[[#This Row],[FIN PARADA]]=Z$1,"X","")) | AA8: =+IF(AA$1=Tabla1[[#This Row],[INICIO PARADA]],"X",IF(Tabla1[[#This Row],[FIN PARADA]]=AA$1,"X","")) | AB8: =+IF(AB$1=Tabla1[[#This Row],[INICIO PARADA]],"X",IF(Tabla1[[#This Row],[FIN PARADA]]=AB$1,"X","")) | AC8: =+IF(AC$1=Tabla1[[#This Row],[INICIO PARADA]],"X",IF(Tabla1[[#This Row],[FIN PARADA]]=AC$1,"X","")) | AD8: =+IF(AD$1=Tabla1[[#This Row],[INICIO PARADA]],"X",IF(Tabla1[[#This Row],[FIN PARADA]]=AD$1,"X","")) | AE8: =+IF(Tabla1[[#This Row],[SEGUIMIENTO]]="CUMPLIDO","Ejecutada",IF(Tabla1[[#This Row],[SEGUIMIENTO]]="PENDIENTE","No Ejecutada","ADICIONAL")) -> ADICIONAL | AF8: MANTTO PLANTA | AG8: SUPERVISOR | AH8: Incluída en Backlog | AJ8: =IF(Tabla1[[#This Row],[SUSTENTO]]="CORRECTIVO","N","S") -> N | AK8: =+Tabla1[[#This Row],[PERSONAL]] -> MEC_P_C | AL8: =+IF(Tabla1[[#This Row],[S/N]]="S",IF(Tabla1[[#This Row],[HH]]=0,Tabla1[[#This Row],[HH//]],Tabla1[[#This Row],[HH]]),0) -> 0 | AM8: 5 | AN8: =IF(Tabla1[[#This Row],[S/N]]="s",+IFERROR(Tabla1[[#This Row],[HH REAL]]/Tabla1[[#This Row],[HH PLAN]],0),"") | AO8: =Tabla1[[#This Row],[FREC CANT]]*Tabla1[[#This Row],[HH REAL]] -> 10
B9: PM01 | D9: DIA | F9: APRON FEEDER | G9: Se reajusto los pernos de 1/2 y se realizó la sujeción de las placas | H9: 2 | I9: 1 | J9: 45374 | K9: 45374 | L9: 45374 | M9: =Tabla1[[#This Row],[REPUESTO]:[SUSTENTO]] -> 0 | N9: =IF(Tabla1[[#This Row],[PM]]="PM01","PREVENTIVO",IF(Tabla1[[#This Row],[PM]]="PM02","BACKLOG","CORRECTIVO")) -> PREVENTIVO | O9: MEC_P_C | P9: =Tabla1[[#This Row],[FREC CANT]] -> 2 | Q9: =Tabla1[[#This Row],[HORAS ACUM SOLICITADO]] -> 1 | R9: =(Tabla1[[#This Row],[H]]*Tabla1[[#This Row],[HH]]) -> 2 | U9: verde | W9: =IF(Tabla1[[#This Row],[SUSTENTO]]="CORRECTIVO","ADICIONAL",IF(AND(Tabla1[[#This Row],[SUSTENTO]]="PREVENTIVO",Tabla1[[#This Row],[INDICADOR]]="VERDE"),"CUMPLIDO",IF(AND(Tabla1[[#This Row],[SUSTENTO]]="BACKLOG",Tabla1[[#This Row],[INDICADOR]]="VERDE"),"CUMPLIDO","PENDIENTE"))) -> CUMPLIDO | X9: =+IF(X$1=Tabla1[[#This Row],[INICIO PARADA]],"X",IF(Tabla1[[#This Row],[FIN PARADA]]=X$1,"X","")) -> X | Y9: =+IF(Y$1=Tabla1[[#This Row],[INICIO PARADA]],"X",IF(Tabla1[[#This Row],[FIN PARADA]]=Y$1,"X","")) | Z9: =+IF(Z$1=Tabla1[[#This Row],[INICIO PARADA]],"X",IF(Tabla1[[#This Row],[FIN PARADA]]=Z$1,"X","")) | AA9: =+IF(AA$1=Tabla1[[#This Row],[INICIO PARADA]],"X",IF(Tabla1[[#This Row],[FIN PARADA]]=AA$1,"X","")) | AB9: =+IF(AB$1=Tabla1[[#This Row],[INICIO PARADA]],"X",IF(Tabla1[[#This Row],[FIN PARADA]]=AB$1,"X","")) | AC9: =+IF(AC$1=Tabla1[[#This Row],[INICIO PARADA]],"X",IF(Tabla1[[#This Row],[FIN PARADA]]=AC$1,"X","")) | AD9: =+IF(AD$1=Tabla1[[#This Row],[INICIO PARADA]],"X",IF(Tabla1[[#This Row],[FIN PARADA]]=AD$1,"X","")) | AE9: =+IF(Tabla1[[#This Row],[SEGUIMIENTO]]="CUMPLIDO","Ejecutada",IF(Tabla1[[#This Row],[SEGUIMIENTO]]="PENDIENTE","No Ejecutada","ADICIONAL")) -> Ejecutada | AF9: MANTTO PLANTA | AG9: SUPERVISOR | AJ9: =IF(Tabla1[[#This Row],[SUSTENTO]]="CORRECTIVO","N","S") -> S | AK9: =+Tabla1[[#This Row],[PERSONAL]] -> MEC_P_C | AL9: =+IF(Tabla1[[#This Row],[S/N]]="S",IF(Tabla1[[#This Row],[HH]]=0,Tabla1[[#This Row],[HH//]],Tabla1[[#This Row],[HH]]),0) -> 1 | AM9: 1 | AN9: =IF(Tabla1[[#This Row],[S/N]]="s",+IFERROR(Tabla1[[#This Row],[HH REAL]]/Tabla1[[#This Row],[HH PLAN]],0),"") -> 1 | AO9: =Tabla1[[#This Row],[FREC CANT]]*Tabla1[[#This Row],[HH REAL]] -> 2
B10: PM01 | D10: DIA | F10: SOPLADOR SPENSER | G10: Se realizó el alineamiento de eje motor de soplador, aun se continuara con el alineamiento. | H10: 2 | I10: 8 | J10: 45374 | K10: 45374 | L10: 45374 | M10: =Tabla1[[#This Row],[REPUESTO]:[SUSTENTO]] -> 0 | N10: =IF(Tabla1[[#This Row],[PM]]="PM01","PREVENTIVO",IF(Tabla1[[#This Row],[PM]]="PM02","BACKLOG","CORRECTIVO")) -> PREVENTIVO | O10: MEC_P_C | P10: =Tabla1[[#This Row],[FREC CANT]] -> 2 | Q10: =Tabla1[[#This Row],[HORAS ACUM SOLICITADO]] -> 8 | R10: =(Tabla1[[#This Row],[H]]*Tabla1[[#This Row],[HH]]) -> 16 | U10: verde | W10: =IF(Tabla1[[#This Row],[SUSTENTO]]="CORRECTIVO","ADICIONAL",IF(AND(Tabla1[[#This Row],[SUSTENTO]]="PREVENTIVO",Tabla1[[#This Row],[INDICADOR]]="VERDE"),"CUMPLIDO",IF(AND(Tabla1[[#This Row],[SUSTENTO]]="BACKLOG",Tabla1[[#This Row],[INDICADOR]]="VERDE"),"CUMPLIDO","PENDIENTE"))) -> CUMPLIDO | X10: =+IF(X$1=Tabla1[[#This Row],[INICIO PARADA]],"X",IF(Tabla1[[#This Row],[FIN PARADA]]=X$1,"X","")) -> X | Y10: =+IF(Y$1=Tabla1[[#This Row],[INICIO PARADA]],"X",IF(Tabla1[[#This Row],[FIN PARADA]]=Y$1,"X","")) | Z10: =+IF(Z$1=Tabla1[[#This Row],[INICIO PARADA]],"X",IF(Tabla1[[#This Row],[FIN PARADA]]=Z$1,"X","")) | AA10: =+IF(AA$1=Tabla1[[#This Row],[INICIO PARADA]],"X",IF(Tabla1[[#This Row],[FIN PARADA]]=AA$1,"X","")) | AB10: =+IF(AB$1=Tabla1[[#This Row],[INICIO PARADA]],"X",IF(Tabla1[[#This Row],[FIN PARADA]]=AB$1,"X","")) | AC10: =+IF(AC$1=Tabla1[[#This Row],[INICIO PARADA]],"X",IF(Tabla1[[#This Row],[FIN PARADA]]=AC$1,"X","")) | AD10: =+IF(AD$1=Tabla1[[#This Row],[INICIO PARADA]],"X",IF(Tabla1[[#This Row],[FIN PARADA]]=AD$1,"X","")) | AE10: =+IF(Tabla1[[#This Row],[SEGUIMIENTO]]="CUMPLIDO","Ejecutada",IF(Tabla1[[#This Row],[SEGUIMIENTO]]="PENDIENTE","No Ejecutada","ADICIONAL")) -> Ejecutada | AF10: MANTTO PLANTA | AG10: SUPERVISOR | AJ10: =IF(Tabla1[[#This Row],[SUSTENTO]]="CORRECTIVO","N","S") -> S | AK10: =+Tabla1[[#This Row],[PERSONAL]] -> MEC_P_C | AL10: =+IF(Tabla1[[#This Row],[S/N]]="S",IF(Tabla1[[#This Row],[HH]]=0,Tabla1[[#This Row],[HH//]],Tabla1[[#This Row],[HH]]),0) -> 8 | AM10: 8 | AN10: =IF(Tabla1[[#This Row],[S/N]]="s",+IFERROR(Tabla1[[#This Row],[HH REAL]]/Tabla1[[#This Row],[HH PLAN]],0),"") -> 1 | AO10: =Tabla1[[#This Row],[FREC CANT]]*Tabla1[[#This Row],[HH REAL]] -> 16
B11: PM02 | D11: DIA | F11: FILTRO PRENSA | G11: Se cambió baranda en plataforma superior. | H11: 2 | I11: 7 | J11: 45374 | K11: 45374 | L11: 45374 | M11: =Tabla1[[#This Row],[REPUESTO]:[SUSTENTO]] -> 0 | N11: =IF(Tabla1[[#This Row],[PM]]="PM01","PREVENTIVO",IF(Tabla1[[#This Row],[PM]]="PM02","BACKLOG","CORRECTIVO")) -> BACKLOG | O11: MEC_P_C | P11: =Tabla1[[#This Row],[FREC CANT]] -> 2 | Q11: =Tabla1[[#This Row],[HORAS ACUM SOLICITADO]] -> 7 | R11: =(Tabla1[[#This Row],[H]]*Tabla1[[#This Row],[HH]]) -> 14 | U11: verde | W11: =IF(Tabla1[[#This Row],[SUSTENTO]]="CORRECTIVO","ADICIONAL",IF(AND(Tabla1[[#This Row],[SUSTENTO]]="PREVENTIVO",Tabla1[[#This Row],[INDICADOR]]="VERDE"),"CUMPLIDO",IF(AND(Tabla1[[#This Row],[SUSTENTO]]="BACKLOG",Tabla1[[#This Row],[INDICADOR]]="VERDE"),"CUMPLIDO","PENDIENTE"))) -> CUMPLIDO | X11: =+IF(X$1=Tabla1[[#This Row],[INICIO PARADA]],"X",IF(Tabla1[[#This Row],[FIN PARADA]]=X$1,"X","")) -> X | Y11: =+IF(Y$1=Tabla1[[#This Row],[INICIO PARADA]],"X",IF(Tabla1[[#This Row],[FIN PARADA]]=Y$1,"X","")) | Z11: =+IF(Z$1=Tabla1[[#This Row],[INICIO PARADA]],"X",IF(Tabla1[[#This Row],[FIN PARADA]]=Z$1,"X","")) | AA11: =+IF(AA$1=Tabla1[[#This Row],[INICIO PARADA]],"X",IF(Tabla1[[#This Row],[FIN PARADA]]=AA$1,"X","")) | AB11: =+IF(AB$1=Tabla1[[#This Row],[INICIO PARADA]],"X",IF(Tabla1[[#This Row],[FIN PARADA]]=AB$1,"X","")) | AC11: =+IF(AC$1=Tabla1[[#This Row],[INICIO PARADA]],"X",IF(Tabla1[[#This Row],[FIN PARADA]]=AC$1,"X","")) | AD11: =+IF(AD$1=Tabla1[[#This Row],[INICIO PARADA]],"X",IF(Tabla1[[#This Row],[FIN PARADA]]=AD$1,"X","")) | AE11: =+IF(Tabla1[[#This Row],[SEGUIMIENTO]]="CUMPLIDO","Ejecutada",IF(Tabla1[[#This Row],[SEGUIMIENTO]]="PENDIENTE","No Ejecutada","ADICIONAL")) -> Ejecutada | AF11: MANTTO PLANTA | AG11: SUPERVISOR | AJ11: =IF(Tabla1[[#This Row],[SUSTENTO]]="CORRECTIVO","N","S") -> S | AK11: =+Tabla1[[#This Row],[PERSONAL]] -> MEC_P_C | AL11: =+IF(Tabla1[[#This Row],[S/N]]="S",IF(Tabla1[[#This Row],[HH]]=0,Tabla1[[#This Row],[HH//]],Tabla1[[#This Row],[HH]]),0) -> 7 | AM11: 7 | AN11: =IF(Tabla1[[#This Row],[S/N]]="s",+IFERROR(Tabla1[[#This Row],[HH REAL]]/Tabla1[[#This Row],[HH PLAN]],0),"") -> 1 | AO11: =Tabla1[[#This Row],[FREC CANT]]*Tabla1[[#This Row],[HH REAL]] -> 14
B12: PM01 | D12: DIA | F12: FAJAS CHANCADO | G12: Se realizó la Inspección y el levantamiento de datos de fajas transportadoras. | H12: 2 | I12: 2 | J12: 45374 | K12: 45374 | L12: 45374 | M12: =Tabla1[[#This Row],[REPUESTO]:[SUSTENTO]] -> 0 | N12: =IF(Tabla1[[#This Row],[PM]]="PM01","PREVENTIVO",IF(Tabla1[[#This Row],[PM]]="PM02","BACKLOG","CORRECTIVO")) -> PREVENTIVO | O12: MEC_P_C | P12: =Tabla1[[#This Row],[FREC CANT]] -> 2 | Q12: =Tabla1[[#This Row],[HORAS ACUM SOLICITADO]] -> 2 | R12: =(Tabla1[[#This Row],[H]]*Tabla1[[#This Row],[HH]]) -> 4 | U12: verde | W12: =IF(Tabla1[[#This Row],[SUSTENTO]]="CORRECTIVO","ADICIONAL",IF(AND(Tabla1[[#This Row],[SUSTENTO]]="PREVENTIVO",Tabla1[[#This Row],[INDICADOR]]="VERDE"),"CUMPLIDO",IF(AND(Tabla1[[#This Row],[SUSTENTO]]="BACKLOG",Tabla1[[#This Row],[INDICADOR]]="VERDE"),"CUMPLIDO","PENDIENTE"))) -> CUMPLIDO | X12: =+IF(X$1=Tabla1[[#This Row],[INICIO PARADA]],"X",IF(Tabla1[[#This Row],[FIN PARADA]]=X$1,"X","")) -> X | Y12: =+IF(Y$1=Tabla1[[#This Row],[INICIO PARADA]],"X",IF(Tabla1[[#This Row],[FIN PARADA]]=Y$1,"X","")) | Z12: =+IF(Z$1=Tabla1[[#This Row],[INICIO PARADA]],"X",IF(Tabla1[[#This Row],[FIN PARADA]]=Z$1,"X","")) | AA12: =+IF(AA$1=Tabla1[[#This Row],[INICIO PARADA]],"X",IF(Tabla1[[#This Row],[FIN PARADA]]=AA$1,"X","")) | AB12: =+IF(AB$1=Tabla1[[#This Row],[INICIO PARADA]],"X",IF(Tabla1[[#This Row],[FIN PARADA]]=AB$1,"X","")) | AC12: =+IF(AC$1=Tabla1[[#This Row],[INICIO PARADA]],"X",IF(Tabla1[[#This Row],[FIN PARADA]]=AC$1,"X","")) | AD12: =+IF(AD$1=Tabla1[[#This Row],[INICIO PARADA]],"X",IF(Tabla1[[#This Row],[FIN PARADA]]=AD$1,"X","")) | AE12: =+IF(Tabla1[[#This Row],[SEGUIMIENTO]]="CUMPLIDO","Ejecutada",IF(Tabla1[[#This Row],[SEGUIMIENTO]]="PENDIENTE","No Ejecutada","ADICIONAL")) -> Ejecutada | AF12: MANTTO PLANTA | AG12: SUPERVISOR | AJ12: =IF(Tabla1[[#This Row],[SUSTENTO]]="CORRECTIVO","N","S") -> S | AK12: =+Tabla1[[#This Row],[PERSONAL]] -> MEC_P_C | AL12: =+IF(Tabla1[[#This Row],[S/N]]="S",IF(Tabla1[[#This Row],[HH]]=0,Tabla1[[#This Row],[HH//]],Tabla1[[#This Row],[HH]]),0) -> 2 | AM12: 2 | AN12: =IF(Tabla1[[#This Row],[S/N]]="s",+IFERROR(Tabla1[[#This Row],[HH REAL]]/Tabla1[[#This Row],[HH PLAN]],0),"") -> 1 | AO12: =Tabla1[[#This Row],[FREC CANT]]*Tabla1[[#This Row],[HH REAL]] -> 4
B13: PM02 | D13: DIA | F13: BOMBA PUTZMEISTER | G13: Se niveló aceite en los tanques hidráulicos. | H13: 2 | I13: 4 | J13: 45374 | K13: 45374 | L13: 45374 | M13: =Tabla1[[#This Row],[REPUESTO]:[SUSTENTO]] -> 0 | N13: =IF(Tabla1[[#This Row],[PM]]="PM01","PREVENTIVO",IF(Tabla1[[#This Row],[PM]]="PM02","BACKLOG","CORRECTIVO")) -> BACKLOG | O13: MEC_P_C | P13: =Tabla1[[#This Row],[FREC CANT]] -> 2 | Q13: =Tabla1[[#This Row],[HORAS ACUM SOLICITADO]] -> 4 | R13: =(Tabla1[[#This Row],[H]]*Tabla1[[#This Row],[HH]]) -> 8 | U13: verde | W13: =IF(Tabla1[[#This Row],[SUSTENTO]]="CORRECTIVO","ADICIONAL",IF(AND(Tabla1[[#This Row],[SUSTENTO]]="PREVENTIVO",Tabla1[[#This Row],[INDICADOR]]="VERDE"),"CUMPLIDO",IF(AND(Tabla1[[#This Row],[SUSTENTO]]="BACKLOG",Tabla1[[#This Row],[INDICADOR]]="VERDE"),"CUMPLIDO","PENDIENTE"))) -> CUMPLIDO | X13: =+IF(X$1=Tabla1[[#This Row],[INICIO PARADA]],"X",IF(Tabla1[[#This Row],[FIN PARADA]]=X$1,"X","")) -> X | Y13: =+IF(Y$1=Tabla1[[#This Row],[INICIO PARADA]],"X",IF(Tabla1[[#This Row],[FIN PARADA]]=Y$1,"X","")) | Z13: =+IF(Z$1=Tabla1[[#This Row],[INICIO PARADA]],"X",IF(Tabla1[[#This Row],[FIN PARADA]]=Z$1,"X","")) | AA13: =+IF(AA$1=Tabla1[[#This Row],[INICIO PARADA]],"X",IF(Tabla1[[#This Row],[FIN PARADA]]=AA$1,"X","")) | AB13: =+IF(AB$1=Tabla1[[#This Row],[INICIO PARADA]],"X",IF(Tabla1[[#This Row],[FIN PARADA]]=AB$1,"X","")) | AC13: =+IF(AC$1=Tabla1[[#This Row],[INICIO PARADA]],"X",IF(Tabla1[[#This Row],[FIN PARADA]]=AC$1,"X","")) | AD13: =+IF(AD$1=Tabla1[[#This Row],[INICIO PARADA]],"X",IF(Tabla1[[#This Row],[FIN PARADA]]=AD$1,"X","")) | AE13: =+IF(Tabla1[[#This Row],[SEGUIMIENTO]]="CUMPLIDO","Ejecutada",IF(Tabla1[[#This Row],[SEGUIMIENTO]]="PENDIENTE","No Ejecutada","ADICIONAL")) -> Ejecutada | AF13: MANTTO PLANTA | AG13: SUPERVISOR | AJ13: =IF(Tabla1[[#This Row],[SUSTENTO]]="CORRECTIVO","N","S") -> S | AK13: =+Tabla1[[#This Row],[PERSONAL]] -> MEC_P_C | AL13: =+IF(Tabla1[[#This Row],[S/N]]="S",IF(Tabla1[[#This Row],[HH]]=0,Tabla1[[#This Row],[HH//]],Tabla1[[#This Row],[HH]]),0) -> 4 | AM13: 4 | AN13: =IF(Tabla1[[#This Row],[S/N]]="s",+IFERROR(Tabla1[[#This Row],[HH REAL]]/Tabla1[[#This Row],[HH PLAN]],0),"") -> 1 | AO13: =Tabla1[[#This Row],[FREC CANT]]*Tabla1[[#This Row],[HH REAL]] -> 8
B14: PM01 | D14: DIA | F14: BLOQUEO DE EQUIPOS EN PLANTA | G14: Se realizó los bloqueos y desbloqueo de las áreas de chancado, molienda, flotación y filtros. Se realizó limpieza, inspección, reajuste de tablero del estractor de polvo. Se dejó bloqueado faja 5A, se está trasladando las herramientas al nuevo taller. | H14: 1 | I14: 9 | J14: 45374 | K14: 45374 | L14: 45374 | M14: =Tabla1[[#This Row],[REPUESTO]:[SUSTENTO]] -> 0 | N14: =IF(Tabla1[[#This Row],[PM]]="PM01","PREVENTIVO",IF(Tabla1[[#This Row],[PM]]="PM02","BACKLOG","CORRECTIVO")) -> PREVENTIVO | O14: ELE_P_C | P14: =Tabla1[[#This Row],[FREC CANT]] -> 1 | Q14: =Tabla1[[#This Row],[HORAS ACUM SOLICITADO]] -> 9 | R14: =(Tabla1[[#This Row],[H]]*Tabla1[[#This Row],[HH]]) -> 9 | U14: verde | W14: =IF(Tabla1[[#This Row],[SUSTENTO]]="CORRECTIVO","ADICIONAL",IF(AND(Tabla1[[#This Row],[SUSTENTO]]="PREVENTIVO",Tabla1[[#This Row],[INDICADOR]]="VERDE"),"CUMPLIDO",IF(AND(Tabla1[[#This Row],[SUSTENTO]]="BACKLOG",Tabla1[[#This Row],[INDICADOR]]="VERDE"),"CUMPLIDO","PENDIENTE"))) -> CUMPLIDO | X14: =+IF(X$1=Tabla1[[#This Row],[INICIO PARADA]],"X",IF(Tabla1[[#This Row],[FIN PARADA]]=X$1,"X","")) -> X | Y14: =+IF(Y$1=Tabla1[[#This Row],[INICIO PARADA]],"X",IF(Tabla1[[#This Row],[FIN PARADA]]=Y$1,"X","")) | Z14: =+IF(Z$1=Tabla1[[#This Row],[INICIO PARADA]],"X",IF(Tabla1[[#This Row],[FIN PARADA]]=Z$1,"X","")) | AA14: =+IF(AA$1=Tabla1[[#This Row],[INICIO PARADA]],"X",IF(Tabla1[[#This Row],[FIN PARADA]]=AA$1,"X","")) | AB14: =+IF(AB$1=Tabla1[[#This Row],[INICIO PARADA]],"X",IF(Tabla1[[#This Row],[FIN PARADA]]=AB$1,"X","")) | AC14: =+IF(AC$1=Tabla1[[#This Row],[INICIO PARADA]],"X",IF(Tabla1[[#This Row],[FIN PARADA]]=AC$1,"X","")) | AD14: =+IF(AD$1=Tabla1[[#This Row],[INICIO PARADA]],"X",IF(Tabla1[[#This Row],[FIN PARADA]]=AD$1,"X","")) | AE14: =+IF(Tabla1[[#This Row],[SEGUIMIENTO]]="CUMPLIDO","Ejecutada",IF(Tabla1[[#This Row],[SEGUIMIENTO]]="PENDIENTE","No Ejecutada","ADICIONAL")) -> Ejecutada | AF14: MANTTO PLANTA | AG14: SUPERVISOR | AJ14: =IF(Tabla1[[#This Row],[SUSTENTO]]="CORRECTIVO","N","S") -> S | AK14: =+Tabla1[[#This Row],[PERSONAL]] -> ELE_P_C | AL14: =+IF(Tabla1[[#This Row],[S/N]]="S",IF(Tabla1[[#This Row],[HH]]=0,Tabla1[[#This Row],[HH//]],Tabla1[[#This Row],[HH]]),0) -> 9 | AM14: 9 | AN14: =IF(Tabla1[[#This Row],[S/N]]="s",+IFERROR(Tabla1[[#This Row],[HH REAL]]/Tabla1[[#This Row],[HH PLAN]],0),"") -> 1 | AO14: =Tabla1[[#This Row],[FREC CANT]]*Tabla1[[#This Row],[HH REAL]] -> 9
B15: PM01 | D15: DIA | F15: TALLER ELÉCTRICO | G15: Se realizó la limpieza y el mantenimiento correctivo y cambio de rodamientos de los motores que están en el taller eléctrico. | H15: 2 | I15: 6 | J15: 45374 | K15: 45374 | L15: 45374 | M15: =Tabla1[[#This Row],[REPUESTO]:[SUSTENTO]] -> 0 | N15: =IF(Tabla1[[#This Row],[PM]]="PM01","PREVENTIVO",IF(Tabla1[[#This Row],[PM]]="PM02","BACKLOG","CORRECTIVO")) -> PREVENTIVO | O15: ELE_P_C | P15: =Tabla1[[#This Row],[FREC CANT]] -> 2 | Q15: =Tabla1[[#This Row],[HORAS ACUM SOLICITADO]] -> 6 | R15: =(Tabla1[[#This Row],[H]]*Tabla1[[#This Row],[HH]]) -> 12 | U15: verde | W15: =IF(Tabla1[[#This Row],[SUSTENTO]]="CORRECTIVO","ADICIONAL",IF(AND(Tabla1[[#This Row],[SUSTENTO]]="PREVENTIVO",Tabla1[[#This Row],[INDICADOR]]="VERDE"),"CUMPLIDO",IF(AND(Tabla1[[#This Row],[SUSTENTO]]="BACKLOG",Tabla1[[#This Row],[INDICADOR]]="VERDE"),"CUMPLIDO","PENDIENTE"))) -> CUMPLIDO | X15: =+IF(X$1=Tabla1[[#This Row],[INICIO PARADA]],"X",IF(Tabla1[[#This Row],[FIN PARADA]]=X$1,"X","")) -> X | Y15: =+IF(Y$1=Tabla1[[#This Row],[INICIO PARADA]],"X",IF(Tabla1[[#This Row],[FIN PARADA]]=Y$1,"X","")) | Z15: =+IF(Z$1=Tabla1[[#This Row],[INICIO PARADA]],"X",IF(Tabla1[[#This Row],[FIN PARADA]]=Z$1,"X","")) | AA15: =+IF(AA$1=Tabla1[[#This Row],[INICIO PARADA]],"X",IF(Tabla1[[#This Row],[FIN PARADA]]=AA$1,"X","")) | AB15: =+IF(AB$1=Tabla1[[#This Row],[INICIO PARADA]],"X",IF(Tabla1[[#This Row],[FIN PARADA]]=AB$1,"X","")) | AC15: =+IF(AC$1=Tabla1[[#This Row],[INICIO PARADA]],"X",IF(Tabla1[[#This Row],[FIN PARADA]]=AC$1,"X","")) | AD15: =+IF(AD$1=Tabla1[[#This Row],[INICIO PARADA]],"X",IF(Tabla1[[#This Row],[FIN PARADA]]=AD$1,"X","")) | AE15: =+IF(Tabla1[[#This Row],[SEGUIMIENTO]]="CUMPLIDO","Ejecutada",IF(Tabla1[[#This Row],[SEGUIMIENTO]]="PENDIENTE","No Ejecutada","ADICIONAL")) -> Ejecutada | AF15: MANTTO PLANTA | AG15: SUPERVISOR | AJ15: =IF(Tabla1[[#This Row],[SUSTENTO]]="CORRECTIVO","N","S") -> S | AK15: =+Tabla1[[#This Row],[PERSONAL]] -> ELE_P_C | AL15: =+IF(Tabla1[[#This Row],[S/N]]="S",IF(Tabla1[[#This Row],[HH]]=0,Tabla1[[#This Row],[HH//]],Tabla1[[#This Row],[HH]]),0) -> 6 | AM15: 6 | AN15: =IF(Tabla1[[#This Row],[S/N]]="s",+IFERROR(Tabla1[[#This Row],[HH REAL]]/Tabla1[[#This Row],[HH PLAN]],0),"") -> 1 | AO15: =Tabla1[[#This Row],[FREC CANT]]*Tabla1[[#This Row],[HH REAL]] -> 12
B16: PM02 | D16: DIA | F16: ZARANDA DE ALTA FRECUENCIA | G16: Se realizó el monitoreo de amperaje del motor de la ZAF, realizando el desmontaje y trasladandolo hacia taller central para su revisión, equipo queda inoperativo. | H16: 2 | I16: 3 | J16: 45374 | K16: 45374 | L16: 45374 | M16: =Tabla1[[#This Row],[REPUESTO]:[SUSTENTO]] -> 0 | N16: =IF(Tabla1[[#This Row],[PM]]="PM01","PREVENTIVO",IF(Tabla1[[#This Row],[PM]]="PM02","BACKLOG","CORRECTIVO")) -> BACKLOG | O16: ELE_P_C | P16: =Tabla1[[#This Row],[FREC CANT]] -> 2 | Q16: =Tabla1[[#This Row],[HORAS ACUM SOLICITADO]] -> 3 | R16: =(Tabla1[[#This Row],[H]]*Tabla1[[#This Row],[HH]]) -> 6 | U16: verde | W16: =IF(Tabla1[[#This Row],[SUSTENTO]]="CORRECTIVO","ADICIONAL",IF(AND(Tabla1[[#This Row],[SUSTENTO]]="PREVENTIVO",Tabla1[[#This Row],[INDICADOR]]="VERDE"),"CUMPLIDO",IF(AND(Tabla1[[#This Row],[SUSTENTO]]="BACKLOG",Tabla1[[#This Row],[INDICADOR]]="VERDE"),"CUMPLIDO","PENDIENTE"))) -> CUMPLIDO | X16: =+IF(X$1=Tabla1[[#This Row],[INICIO PARADA]],"X",IF(Tabla1[[#This Row],[FIN PARADA]]=X$1,"X","")) -> X | Y16: =+IF(Y$1=Tabla1[[#This Row],[INICIO PARADA]],"X",IF(Tabla1[[#This Row],[FIN PARADA]]=Y$1,"X","")) | Z16: =+IF(Z$1=Tabla1[[#This Row],[INICIO PARADA]],"X",IF(Tabla1[[#This Row],[FIN PARADA]]=Z$1,"X","")) | AA16: =+IF(AA$1=Tabla1[[#This Row],[INICIO PARADA]],"X",IF(Tabla1[[#This Row],[FIN PARADA]]=AA$1,"X","")) | AB16: =+IF(AB$1=Tabla1[[#This Row],[INICIO PARADA]],"X",IF(Tabla1[[#This Row],[FIN PARADA]]=AB$1,"X","")) | AC16: =+IF(AC$1=Tabla1[[#This Row],[INICIO PARADA]],"X",IF(Tabla1[[#This Row],[FIN PARADA]]=AC$1,"X","")) | AD16: =+IF(AD$1=Tabla1[[#This Row],[INICIO PARADA]],"X",IF(Tabla1[[#This Row],[FIN PARADA]]=AD$1,"X","")) | AE16: =+IF(Tabla1[[#This Row],[SEGUIMIENTO]]="CUMPLIDO","Ejecutada",IF(Tabla1[[#This Row],[SEGUIMIENTO]]="PENDIENTE","No Ejecutada","ADICIONAL")) -> Ejecutada | AF16: MANTTO PLANTA | AG16: SUPERVISOR | AJ16: =IF(Tabla1[[#This Row],[SUSTENTO]]="CORRECTIVO","N","S") -> S | AK16: =+Tabla1[[#This Row],[PERSONAL]] -> ELE_P_C | AL16: =+IF(Tabla1[[#This Row],[S/N]]="S",IF(Tabla1[[#This Row],[HH]]=0,Tabla1[[#This Row],[HH//]],Tabla1[[#This Row],[HH]]),0) -> 3 | AM16: 3 | AN16: =IF(Tabla1[[#This Row],[S/N]]="s",+IFERROR(Tabla1[[#This Row],[HH REAL]]/Tabla1[[#This Row],[HH PLAN]],0),"") -> 1 | AO16: =Tabla1[[#This Row],[FREC CANT]]*Tabla1[[#This Row],[HH REAL]] -> 6
B17: PM02 | D17: DIA | F17: CELDA SK 240 | G17: Con apoyo del programador, se restablece en el SCADA la lectura de PH de la celda unitaria SK-240, queda operativo, en Molienda. | H17: 1 | I17: 2 | J17: 45374 | K17: 45374 | L17: 45374 | M17: =Tabla1[[#This Row],[REPUESTO]:[SUSTENTO]] -> 0 | N17: =IF(Tabla1[[#This Row],[PM]]="PM01","PREVENTIVO",IF(Tabla1[[#This Row],[PM]]="PM02","BACKLOG","CORRECTIVO")) -> BACKLOG | O17: ELECN_P_C | P17: =Tabla1[[#This Row],[FREC CANT]] -> 1 | Q17: =Tabla1[[#This Row],[HORAS ACUM SOLICITADO]] -> 2 | R17: =(Tabla1[[#This Row],[H]]*Tabla1[[#This Row],[HH]]) -> 2 | U17: verde | W17: =IF(Tabla1[[#This Row],[SUSTENTO]]="CORRECTIVO","ADICIONAL",IF(AND(Tabla1[[#This Row],[SUSTENTO]]="PREVENTIVO",Tabla1[[#This Row],[INDICADOR]]="VERDE"),"CUMPLIDO",IF(AND(Tabla1[[#This Row],[SUSTENTO]]="BACKLOG",Tabla1[[#This Row],[INDICADOR]]="VERDE"),"CUMPLIDO","PENDIENTE"))) -> CUMPLIDO | X17: =+IF(X$1=Tabla1[[#This Row],[INICIO PARADA]],"X",IF(Tabla1[[#This Row],[FIN PARADA]]=X$1,"X","")) -> X | Y17: =+IF(Y$1=Tabla1[[#This Row],[INICIO PARADA]],"X",IF(Tabla1[[#This Row],[FIN PARADA]]=Y$1,"X","")) | Z17: =+IF(Z$1=Tabla1[[#This Row],[INICIO PARADA]],"X",IF(Tabla1[[#This Row],[FIN PARADA]]=Z$1,"X","")) | AA17: =+IF(AA$1=Tabla1[[#This Row],[INICIO PARADA]],"X",IF(Tabla1[[#This Row],[FIN PARADA]]=AA$1,"X","")) | AB17: =+IF(AB$1=Tabla1[[#This Row],[INICIO PARADA]],"X",IF(Tabla1[[#This Row],[FIN PARADA]]=AB$1,"X","")) | AC17: =+IF(AC$1=Tabla1[[#This Row],[INICIO PARADA]],"X",IF(Tabla1[[#This Row],[FIN PARADA]]=AC$1,"X","")) | AD17: =+IF(AD$1=Tabla1[[#This Row],[INICIO PARADA]],"X",IF(Tabla1[[#This Row],[FIN PARADA]]=AD$1,"X","")) | AE17: =+IF(Tabla1[[#This Row],[SEGUIMIENTO]]="CUMPLIDO","Ejecutada",IF(Tabla1[[#This Row],[SEGUIMIENTO]]="PENDIENTE","No Ejecutada","ADICIONAL")) -> Ejecutada | AF17: MANTTO PLANTA | AG17: SUPERVISOR | AJ17: =IF(Tabla1[[#This Row],[SUSTENTO]]="CORRECTIVO","N","S") -> S | AK17: =+Tabla1[[#This Row],[PERSONAL]] -> ELECN_P_C | AL17: =+IF(Tabla1[[#This Row],[S/N]]="S",IF(Tabla1[[#This Row],[HH]]=0,Tabla1[[#This Row],[HH//]],Tabla1[[#This Row],[HH]]),0) -> 2 | AM17: 2 | AN17: =IF(Tabla1[[#This Row],[S/N]]="s",+IFERROR(Tabla1[[#This Row],[HH REAL]]/Tabla1[[#This Row],[HH PLAN]],0),"") -> 1 | AO17: =Tabla1[[#This Row],[FREC CANT]]*Tabla1[[#This Row],[HH REAL]] -> 2
B18: PM02 | D18: DIA | F18: BOMBA PERISTALTICA N° 131 | G18: Rellenado de glicerina por nivel bajo (rotura de manga) en bomba peristáltica 131, en zona de reactivos. | H18: 1 | I18: 2 | J18: 45374 | K18: 45374 | L18: 45374 | M18: =Tabla1[[#This Row],[REPUESTO]:[SUSTENTO]] -> 0 | N18: =IF(Tabla1[[#This Row],[PM]]="PM01","PREVENTIVO",IF(Tabla1[[#This Row],[PM]]="PM02","BACKLOG","CORRECTIVO")) -> BACKLOG | O18: ELECN_P_C | P18: =Tabla1[[#This Row],[FREC CANT]] -> 1 | Q18: =Tabla1[[#This Row],[HORAS ACUM SOLICITADO]] -> 2 | R18: =(Tabla1[[#This Row],[H]]*Tabla1[[#This Row],[HH]]) -> 2 | U18: verde | W18: =IF(Tabla1[[#This Row],[SUSTENTO]]="CORRECTIVO","ADICIONAL",IF(AND(Tabla1[[#This Row],[SUSTENTO]]="PREVENTIVO",Tabla1[[#This Row],[INDICADOR]]="VERDE"),"CUMPLIDO",IF(AND(Tabla1[[#This Row],[SUSTENTO]]="BACKLOG",Tabla1[[#This Row],[INDICADOR]]="VERDE"),"CUMPLIDO","PENDIENTE"))) -> CUMPLIDO | X18: =+IF(X$1=Tabla1[[#This Row],[INICIO PARADA]],"X",IF(Tabla1[[#This Row],[FIN PARADA]]=X$1,"X","")) -> X | Y18: =+IF(Y$1=Tabla1[[#This Row],[INICIO PARADA]],"X",IF(Tabla1[[#This Row],[FIN PARADA]]=Y$1,"X","")) | Z18: =+IF(Z$1=Tabla1[[#This Row],[INICIO PARADA]],"X",IF(Tabla1[[#This Row],[FIN PARADA]]=Z$1,"X","")) | AA18: =+IF(AA$1=Tabla1[[#This Row],[INICIO PARADA]],"X",IF(Tabla1[[#This Row],[FIN PARADA]]=AA$1,"X","")) | AB18: =+IF(AB$1=Tabla1[[#This Row],[INICIO PARADA]],"X",IF(Tabla1[[#This Row],[FIN PARADA]]=AB$1,"X","")) | AC18: =+IF(AC$1=Tabla1[[#This Row],[INICIO PARADA]],"X",IF(Tabla1[[#This Row],[FIN PARADA]]=AC$1,"X","")) | AD18: =+IF(AD$1=Tabla1[[#This Row],[INICIO PARADA]],"X",IF(Tabla1[[#This Row],[FIN PARADA]]=AD$1,"X","")) | AE18: =+IF(Tabla1[[#This Row],[SEGUIMIENTO]]="CUMPLIDO","Ejecutada",IF(Tabla1[[#This Row],[SEGUIMIENTO]]="PENDIENTE","No Ejecutada","ADICIONAL")) -> Ejecutada | AF18: MANTTO PLANTA | AG18: SUPERVISOR | AJ18: =IF(Tabla1[[#This Row],[SUSTENTO]]="CORRECTIVO","N","S") -> S | AK18: =+Tabla1[[#This Row],[PERSONAL]] -> ELECN_P_C | AL18: =+IF(Tabla1[[#This Row],[S/N]]="S",IF(Tabla1[[#This Row],[HH]]=0,Tabla1[[#This Row],[HH//]],Tabla1[[#This Row],[HH]]),0) -> 2 | AM18: 2 | AN18: =IF(Tabla1[[#This Row],[S/N]]="s",+IFERROR(Tabla1[[#This Row],[HH REAL]]/Tabla1[[#This Row],[HH PLAN]],0),"") -> 1 | AO18: =Tabla1[[#This Row],[FREC CANT]]*Tabla1[[#This Row],[HH REAL]] -> 2
B19: PM02 | D19: DIA | F19: MOLINO N° 1 | G19: Se modifica a 5 seg. el tiempo de postsoplado para el ciclo de lubricación del Molino N°1. | H19: 1 | I19: 3 | J19: 45374 | K19: 45374 | L19: 45374 | M19: =Tabla1[[#This Row],[REPUESTO]:[SUSTENTO]] -> 0 | N19: =IF(Tabla1[[#This Row],[PM]]="PM01","PREVENTIVO",IF(Tabla1[[#This Row],[PM]]="PM02","BACKLOG","CORRECTIVO")) -> BACKLOG | O19: ELECN_P_C | P19: =Tabla1[[#This Row],[FREC CANT]] -> 1 | Q19: =Tabla1[[#This Row],[HORAS ACUM SOLICITADO]] -> 3 | R19: =(Tabla1[[#This Row],[H]]*Tabla1[[#This Row],[HH]]) -> 3 | U19: verde | W19: =IF(Tabla1[[#This Row],[SUSTENTO]]="CORRECTIVO","ADICIONAL",IF(AND(Tabla1[[#This Row],[SUSTENTO]]="PREVENTIVO",Tabla1[[#This Row],[INDICADOR]]="VERDE"),"CUMPLIDO",IF(AND(Tabla1[[#This Row],[SUSTENTO]]="BACKLOG",Tabla1[[#This Row],[INDICADOR]]="VERDE"),"CUMPLIDO","PENDIENTE"))) -> CUMPLIDO | X19: =+IF(X$1=Tabla1[[#This Row],[INICIO PARADA]],"X",IF(Tabla1[[#This Row],[FIN PARADA]]=X$1,"X","")) -> X | Y19: =+IF(Y$1=Tabla1[[#This Row],[INICIO PARADA]],"X",IF(Tabla1[[#This Row],[FIN PARADA]]=Y$1,"X","")) | Z19: =+IF(Z$1=Tabla1[[#This Row],[INICIO PARADA]],"X",IF(Tabla1[[#This Row],[FIN PARADA]]=Z$1,"X","")) | AA19: =+IF(AA$1=Tabla1[[#This Row],[INICIO PARADA]],"X",IF(Tabla1[[#This Row],[FIN PARADA]]=AA$1,"X","")) | AB19: =+IF(AB$1=Tabla1[[#This Row],[INICIO PARADA]],"X",IF(Tabla1[[#This Row],[FIN PARADA]]=AB$1,"X","")) | AC19: =+IF(AC$1=Tabla1[[#This Row],[INICIO PARADA]],"X",IF(Tabla1[[#This Row],[FIN PARADA]]=AC$1,"X","")) | AD19: =+IF(AD$1=Tabla1[[#This Row],[INICIO PARADA]],"X",IF(Tabla1[[#This Row],[FIN PARADA]]=AD$1,"X","")) | AE19: =+IF(Tabla1[[#This Row],[SEGUIMIENTO]]="CUMPLIDO","Ejecutada",IF(Tabla1[[#This Row],[SEGUIMIENTO]]="PENDIENTE","No Ejecutada","ADICIONAL")) -> Ejecutada | AF19: MANTTO PLANTA | AG19: SUPERVISOR | AJ19: =IF(Tabla1[[#This Row],[SUSTENTO]]="CORRECTIVO","N","S") -> S | AK19: =+Tabla1[[#This Row],[PERSONAL]] -> ELECN_P_C | AL19: =+IF(Tabla1[[#This Row],[S/N]]="S",IF(Tabla1[[#This Row],[HH]]=0,Tabla1[[#This Row],[HH//]],Tabla1[[#This Row],[HH]]),0) -> 3 | AM19: 3 | AN19: =IF(Tabla1[[#This Row],[S/N]]="s",+IFERROR(Tabla1[[#This Row],[HH REAL]]/Tabla1[[#This Row],[HH PLAN]],0),"") -> 1 | AO19: =Tabla1[[#This Row],[FREC CANT]]*Tabla1[[#This Row],[HH REAL]] -> 3
B20: PM02 | D20: DIA | F20: MOLINO 8x11 | G20: Se revisaron parámetros de configuración del transmisor de nivel para funcionamiento automático de las bombas de Molino 8x11, queda pendiente realizar pruebas el día de mañana, en Molienda. | H20: 1 | I20: 2 | J20: 45374 | K20: 45374 | L20: 45374 | M20: =Tabla1[[#This Row],[REPUESTO]:[SUSTENTO]] -> 0 | N20: =IF(Tabla1[[#This Row],[PM]]="PM01","PREVENTIVO",IF(Tabla1[[#This Row],[PM]]="PM02","BACKLOG","CORRECTIVO")) -> BACKLOG | O20: ELECN_P_C | P20: =Tabla1[[#This Row],[FREC CANT]] -> 1 | Q20: =Tabla1[[#This Row],[HORAS ACUM SOLICITADO]] -> 2 | R20: =(Tabla1[[#This Row],[H]]*Tabla1[[#This Row],[HH]]) -> 2 | U20: verde | W20: =IF(Tabla1[[#This Row],[SUSTENTO]]="CORRECTIVO","ADICIONAL",IF(AND(Tabla1[[#This Row],[SUSTENTO]]="PREVENTIVO",Tabla1[[#This Row],[INDICADOR]]="VERDE"),"CUMPLIDO",IF(AND(Tabla1[[#This Row],[SUSTENTO]]="BACKLOG",Tabla1[[#This Row],[INDICADOR]]="VERDE"),"CUMPLIDO","PENDIENTE"))) -> CUMPLIDO | X20: =+IF(X$1=Tabla1[[#This Row],[INICIO PARADA]],"X",IF(Tabla1[[#This Row],[FIN PARADA]]=X$1,"X","")) -> X | Y20: =+IF(Y$1=Tabla1[[#This Row],[INICIO PARADA]],"X",IF(Tabla1[[#This Row],[FIN PARADA]]=Y$1,"X","")) | Z20: =+IF(Z$1=Tabla1[[#This Row],[INICIO PARADA]],"X",IF(Tabla1[[#This Row],[FIN PARADA]]=Z$1,"X","")) | AA20: =+IF(AA$1=Tabla1[[#This Row],[INICIO PARADA]],"X",IF(Tabla1[[#This Row],[FIN PARADA]]=AA$1,"X","")) | AB20: =+IF(AB$1=Tabla1[[#This Row],[INICIO PARADA]],"X",IF(Tabla1[[#This Row],[FIN PARADA]]=AB$1,"X","")) | AC20: =+IF(AC$1=Tabla1[[#This Row],[INICIO PARADA]],"X",IF(Tabla1[[#This Row],[FIN PARADA]]=AC$1,"X","")) | AD20: =+IF(AD$1=Tabla1[[#This Row],[INICIO PARADA]],"X",IF(Tabla1[[#This Row],[FIN PARADA]]=AD$1,"X","")) | AE20: =+IF(Tabla1[[#This Row],[SEGUIMIENTO]]="CUMPLIDO","Ejecutada",IF(Tabla1[[#This Row],[SEGUIMIENTO]]="PENDIENTE","No Ejecutada","ADICIONAL")) -> Ejecutada | AF20: MANTTO PLANTA | AG20: SUPERVISOR | AJ20: =IF(Tabla1[[#This Row],[SUSTENTO]]="CORRECTIVO","N","S") -> S | AK20: =+Tabla1[[#This Row],[PERSONAL]] -> ELECN_P_C | AL20: =+IF(Tabla1[[#This Row],[S/N]]="S",IF(Tabla1[[#This Row],[HH]]=0,Tabla1[[#This Row],[HH//]],Tabla1[[#This Row],[HH]]),0) -> 2 | AM20: 2 | AN20: =IF(Tabla1[[#This Row],[S/N]]="s",+IFERROR(Tabla1[[#This Row],[HH REAL]]/Tabla1[[#This Row],[HH PLAN]],0),"") -> 1 | AO20: =Tabla1[[#This Row],[FREC CANT]]*Tabla1[[#This Row],[HH REAL]] -> 2
... B51: PM02 | D51: DIA | F51: BODEGA DE ELECTRICISTAS | G51: *se realizó el traslado de las herramientas y accesorios al nuevo ambiente de la parte Eléctrica. Se hace las pruebas. | H51: 2 | I51: 2 | J51: 45375 | K51: 45375 | L51: 45375 | M51: =Tabla1[[#This Row],[REPUESTO]:[SUSTENTO]] -> 0 | N51: =IF(Tabla1[[#This Row],[PM]]="PM01","PREVENTIVO",IF(Tabla1[[#This Row],[PM]]="PM02","BACKLOG","CORRECTIVO")) -> BACKLOG | O51: ELE_P_C | P51: =Tabla1[[#This Row],[FREC CANT]] -> 2 | Q51: =Tabla1[[#This Row],[HORAS ACUM SOLICITADO]] -> 2 | R51: =(Tabla1[[#This Row],[H]]*Tabla1[[#This Row],[HH]]) -> 4 | U51: verde | W51: =IF(Tabla1[[#This Row],[SUSTENTO]]="CORRECTIVO","ADICIONAL",IF(AND(Tabla1[[#This Row],[SUSTENTO]]="PREVENTIVO",Tabla1[[#This Row],[INDICADOR]]="VERDE"),"CUMPLIDO",IF(AND(Tabla1[[#This Row],[SUSTENTO]]="BACKLOG",Tabla1[[#This Row],[INDICADOR]]="VERDE"),"CUMPLIDO","PENDIENTE"))) -> CUMPLIDO | X51: =+IF(X$1=Tabla1[[#This Row],[INICIO PARADA]],"X",IF(Tabla1[[#This Row],[FIN PARADA]]=X$1,"X","")) | Y51: =+IF(Y$1=Tabla1[[#This Row],[INICIO PARADA]],"X",IF(Tabla1[[#This Row],[FIN PARADA]]=Y$1,"X","")) -> X | Z51: =+IF(Z$1=Tabla1[[#This Row],[INICIO PARADA]],"X",IF(Tabla1[[#This Row],[FIN PARADA]]=Z$1,"X","")) | AA51: =+IF(AA$1=Tabla1[[#This Row],[INICIO PARADA]],"X",IF(Tabla1[[#This Row],[FIN PARADA]]=AA$1,"X","")) | AB51: =+IF(AB$1=Tabla1[[#This Row],[INICIO PARADA]],"X",IF(Tabla1[[#This Row],[FIN PARADA]]=AB$1,"X","")) | AC51: =+IF(AC$1=Tabla1[[#This Row],[INICIO PARADA]],"X",IF(Tabla1[[#This Row],[FIN PARADA]]=AC$1,"X","")) | AD51: =+IF(AD$1=Tabla1[[#This Row],[INICIO PARADA]],"X",IF(Tabla1[[#This Row],[FIN PARADA]]=AD$1,"X","")) | AE51: =+IF(Tabla1[[#This Row],[SEGUIMIENTO]]="CUMPLIDO","Ejecutada",IF(Tabla1[[#This Row],[SEGUIMIENTO]]="PENDIENTE","No Ejecutada","ADICIONAL")) -> Ejecutada | AF51: MANTTO PLANTA | AG51: SUPERVISOR | AJ51: =IF(Tabla1[[#This Row],[SUSTENTO]]="CORRECTIVO","N","S") -> S | AK51: =+Tabla1[[#This Row],[PERSONAL]] -> ELE_P_C | AL51: =+IF(Tabla1[[#This Row],[S/N]]="S",IF(Tabla1[[#This Row],[HH]]=0,Tabla1[[#This Row],[HH//]],Tabla1[[#This Row],[HH]]),0) -> 2 | AM51: 2 | AN51: =IF(Tabla1[[#This Row],[S/N]]="s",+IFERROR(Tabla1[[#This Row],[HH REAL]]/Tabla1[[#This Row],[HH PLAN]],0),"") -> 1 | AO51: =Tabla1[[#This Row],[FREC CANT]]*Tabla1[[#This Row],[HH REAL]] -> 4
B52: PM03 | D52: DIA | F52: MOTOR DE ZARANDA DE ALTA FRECUENCIA | G52: Se realizó el armado del motor de la ZAF queda pendiente el montaje. | H52: 2 | I52: 2 | J52: 45375 | K52: 45375 | L52: 45375 | M52: =Tabla1[[#This Row],[REPUESTO]:[SUSTENTO]] -> 0 | N52: =IF(Tabla1[[#This Row],[PM]]="PM01","PREVENTIVO",IF(Tabla1[[#This Row],[PM]]="PM02","BACKLOG","CORRECTIVO")) -> CORRECTIVO | O52: ELE_P_C | P52: =Tabla1[[#This Row],[FREC CANT]] -> 2 | Q52: =Tabla1[[#This Row],[HORAS ACUM SOLICITADO]] -> 2 | R52: =(Tabla1[[#This Row],[H]]*Tabla1[[#This Row],[HH]]) -> 4 | U52: verde | W52: =IF(Tabla1[[#This Row],[SUSTENTO]]="CORRECTIVO","ADICIONAL",IF(AND(Tabla1[[#This Row],[SUSTENTO]]="PREVENTIVO",Tabla1[[#This Row],[INDICADOR]]="VERDE"),"CUMPLIDO",IF(AND(Tabla1[[#This Row],[SUSTENTO]]="BACKLOG",Tabla1[[#This Row],[INDICADOR]]="VERDE"),"CUMPLIDO","PENDIENTE"))) -> ADICIONAL | X52: =+IF(X$1=Tabla1[[#This Row],[INICIO PARADA]],"X",IF(Tabla1[[#This Row],[FIN PARADA]]=X$1,"X","")) | Y52: =+IF(Y$1=Tabla1[[#This Row],[INICIO PARADA]],"X",IF(Tabla1[[#This Row],[FIN PARADA]]=Y$1,"X","")) -> X | Z52: =+IF(Z$1=Tabla1[[#This Row],[INICIO PARADA]],"X",IF(Tabla1[[#This Row],[FIN PARADA]]=Z$1,"X","")) | AA52: =+IF(AA$1=Tabla1[[#This Row],[INICIO PARADA]],"X",IF(Tabla1[[#This Row],[FIN PARADA]]=AA$1,"X","")) | AB52: =+IF(AB$1=Tabla1[[#This Row],[INICIO PARADA]],"X",IF(Tabla1[[#This Row],[FIN PARADA]]=AB$1,"X","")) | AC52: =+IF(AC$1=Tabla1[[#This Row],[INICIO PARADA]],"X",IF(Tabla1[[#This Row],[FIN PARADA]]=AC$1,"X","")) | AD52: =+IF(AD$1=Tabla1[[#This Row],[INICIO PARADA]],"X",IF(Tabla1[[#This Row],[FIN PARADA]]=AD$1,"X","")) | AE52: =+IF(Tabla1[[#This Row],[SEGUIMIENTO]]="CUMPLIDO","Ejecutada",IF(Tabla1[[#This Row],[SEGUIMIENTO]]="PENDIENTE","No Ejecutada","ADICIONAL")) -> ADICIONAL | AF52: MANTTO PLANTA | AG52: SUPERVISOR | AH52: No incluída en Backlog | AJ52: =IF(Tabla1[[#This Row],[SUSTENTO]]="CORRECTIVO","N","S") -> N | AK52: =+Tabla1[[#This Row],[PERSONAL]] -> ELE_P_C | AL52: =+IF(Tabla1[[#This Row],[S/N]]="S",IF(Tabla1[[#This Row],[HH]]=0,Tabla1[[#This Row],[HH//]],Tabla1[[#This Row],[HH]]),0) -> 0 | AM52: 2 | AN52: =IF(Tabla1[[#This Row],[S/N]]="s",+IFERROR(Tabla1[[#This Row],[HH REAL]]/Tabla1[[#This Row],[HH PLAN]],0),"") | AO52: =Tabla1[[#This Row],[FREC CANT]]*Tabla1[[#This Row],[HH REAL]] -> 4
B53: PM02 | D53: DIA | F53: BOMBA GENERAL DE RELAVE N° 2 | G53: se realizó la desconección y desmontaje y montaje de la bomba general de relave # 2, presenta vibración, se realizará seguimiento. | H53: 2 | I53: 5 | J53: 45375 | K53: 45375 | L53: 45375 | M53: =Tabla1[[#This Row],[REPUESTO]:[SUSTENTO]] -> 0 | N53: =IF(Tabla1[[#This Row],[PM]]="PM01","PREVENTIVO",IF(Tabla1[[#This Row],[PM]]="PM02","BACKLOG","CORRECTIVO")) -> BACKLOG | O53: ELE_P_C | P53: =Tabla1[[#This Row],[FREC CANT]] -> 2 | Q53: =Tabla1[[#This Row],[HORAS ACUM SOLICITADO]] -> 5 | R53: =(Tabla1[[#This Row],[H]]*Tabla1[[#This Row],[HH]]) -> 10 | U53: verde | W53: =IF(Tabla1[[#This Row],[SUSTENTO]]="CORRECTIVO","ADICIONAL",IF(AND(Tabla1[[#This Row],[SUSTENTO]]="PREVENTIVO",Tabla1[[#This Row],[INDICADOR]]="VERDE"),"CUMPLIDO",IF(AND(Tabla1[[#This Row],[SUSTENTO]]="BACKLOG",Tabla1[[#This Row],[INDICADOR]]="VERDE"),"CUMPLIDO","PENDIENTE"))) -> CUMPLIDO | X53: =+IF(X$1=Tabla1[[#This Row],[INICIO PARADA]],"X",IF(Tabla1[[#This Row],[FIN PARADA]]=X$1,"X","")) | Y53: =+IF(Y$1=Tabla1[[#This Row],[INICIO PARADA]],"X",IF(Tabla1[[#This Row],[FIN PARADA]]=Y$1,"X","")) -> X | Z53: =+IF(Z$1=Tabla1[[#This Row],[INICIO PARADA]],"X",IF(Tabla1[[#This Row],[FIN PARADA]]=Z$1,"X","")) | AA53: =+IF(AA$1=Tabla1[[#This Row],[INICIO PARADA]],"X",IF(Tabla1[[#This Row],[FIN PARADA]]=AA$1,"X","")) | AB53: =+IF(AB$1=Tabla1[[#This Row],[INICIO PARADA]],"X",IF(Tabla1[[#This Row],[FIN PARADA]]=AB$1,"X","")) | AC53: =+IF(AC$1=Tabla1[[#This Row],[INICIO PARADA]],"X",IF(Tabla1[[#This Row],[FIN PARADA]]=AC$1,"X","")) | AD53: =+IF(AD$1=Tabla1[[#This Row],[INICIO PARADA]],"X",IF(Tabla1[[#This Row],[FIN PARADA]]=AD$1,"X","")) | AE53: =+IF(Tabla1[[#This Row],[SEGUIMIENTO]]="CUMPLIDO","Ejecutada",IF(Tabla1[[#This Row],[SEGUIMIENTO]]="PENDIENTE","No Ejecutada","ADICIONAL")) -> Ejecutada | AF53: MANTTO PLANTA | AG53: SUPERVISOR | AJ53: =IF(Tabla1[[#This Row],[SUSTENTO]]="CORRECTIVO","N","S") -> S | AK53: =+Tabla1[[#This Row],[PERSONAL]] -> ELE_P_C | AL53: =+IF(Tabla1[[#This Row],[S/N]]="S",IF(Tabla1[[#This Row],[HH]]=0,Tabla1[[#This Row],[HH//]],Tabla1[[#This Row],[HH]]),0) -> 5 | AM53: 5 | AN53: =IF(Tabla1[[#This Row],[S/N]]="s",+IFERROR(Tabla1[[#This Row],[HH REAL]]/Tabla1[[#This Row],[HH PLAN]],0),"") -> 1 | AO53: =Tabla1[[#This Row],[FREC CANT]]*Tabla1[[#This Row],[HH REAL]] -> 10
B54: PM02 | D54: DIA | F54: CELDA SK 240 | G54: Instalación de display de Phmetro de celda unitaria SK-240, se colocó en la tapa del tablero para que el operador tenga acceso a visualizar los valores. | H54: 1 | I54: 2 | J54: 45375 | K54: 45375 | L54: 45375 | M54: =Tabla1[[#This Row],[REPUESTO]:[SUSTENTO]] -> 0 | N54: =IF(Tabla1[[#This Row],[PM]]="PM01","PREVENTIVO",IF(Tabla1[[#This Row],[PM]]="PM02","BACKLOG","CORRECTIVO")) -> BACKLOG | O54: ELECN_P_C | P54: =Tabla1[[#This Row],[FREC CANT]] -> 1 | Q54: =Tabla1[[#This Row],[HORAS ACUM SOLICITADO]] -> 2 | R54: =(Tabla1[[#This Row],[H]]*Tabla1[[#This Row],[HH]]) -> 2 | U54: verde | W54: =IF(Tabla1[[#This Row],[SUSTENTO]]="CORRECTIVO","ADICIONAL",IF(AND(Tabla1[[#This Row],[SUSTENTO]]="PREVENTIVO",Tabla1[[#This Row],[INDICADOR]]="VERDE"),"CUMPLIDO",IF(AND(Tabla1[[#This Row],[SUSTENTO]]="BACKLOG",Tabla1[[#This Row],[INDICADOR]]="VERDE"),"CUMPLIDO","PENDIENTE"))) -> CUMPLIDO | X54: =+IF(X$1=Tabla1[[#This Row],[INICIO PARADA]],"X",IF(Tabla1[[#This Row],[FIN PARADA]]=X$1,"X","")) | Y54: =+IF(Y$1=Tabla1[[#This Row],[INICIO PARADA]],"X",IF(Tabla1[[#This Row],[FIN PARADA]]=Y$1,"X","")) -> X | Z54: =+IF(Z$1=Tabla1[[#This Row],[INICIO PARADA]],"X",IF(Tabla1[[#This Row],[FIN PARADA]]=Z$1,"X","")) | AA54: =+IF(AA$1=Tabla1[[#This Row],[INICIO PARADA]],"X",IF(Tabla1[[#This Row],[FIN PARADA]]=AA$1,"X","")) | AB54: =+IF(AB$1=Tabla1[[#This Row],[INICIO PARADA]],"X",IF(Tabla1[[#This Row],[FIN PARADA]]=AB$1,"X","")) | AC54: =+IF(AC$1=Tabla1[[#This Row],[INICIO PARADA]],"X",IF(Tabla1[[#This Row],[FIN PARADA]]=AC$1,"X","")) | AD54: =+IF(AD$1=Tabla1[[#This Row],[INICIO PARADA]],"X",IF(Tabla1[[#This Row],[FIN PARADA]]=AD$1,"X","")) | AE54: =+IF(Tabla1[[#This Row],[SEGUIMIENTO]]="CUMPLIDO","Ejecutada",IF(Tabla1[[#This Row],[SEGUIMIENTO]]="PENDIENTE","No Ejecutada","ADICIONAL")) -> Ejecutada | AF54: MANTTO PLANTA | AG54: SUPERVISOR | AJ54: =IF(Tabla1[[#This Row],[SUSTENTO]]="CORRECTIVO","N","S") -> S | AK54: =+Tabla1[[#This Row],[PERSONAL]] -> ELECN_P_C | AL54: =+IF(Tabla1[[#This Row],[S/N]]="S",IF(Tabla1[[#This Row],[HH]]=0,Tabla1[[#This Row],[HH//]],Tabla1[[#This Row],[HH]]),0) -> 2 | AM54: 2 | AN54: =IF(Tabla1[[#This Row],[S/N]]="s",+IFERROR(Tabla1[[#This Row],[HH REAL]]/Tabla1[[#This Row],[HH PLAN]],0),"") -> 1 | AO54: =Tabla1[[#This Row],[FREC CANT]]*Tabla1[[#This Row],[HH REAL]] -> 2
B55: PM02 | D55: DIA | F55: BOMBA N° 1 DE MOLINO 8x11 | G55: Configuración de transmisor de nivel para funcionamiento automático de bomba N°1 de molino 8x11, se realizaron pruebas queda operativo. | H55: 1 | I55: 2 | J55: 45375 | K55: 45375 | L55: 45375 | M55: =Tabla1[[#This Row],[REPUESTO]:[SUSTENTO]] -> 0 | N55: =IF(Tabla1[[#This Row],[PM]]="PM01","PREVENTIVO",IF(Tabla1[[#This Row],[PM]]="PM02","BACKLOG","CORRECTIVO")) -> BACKLOG | O55: ELECN_P_C | P55: =Tabla1[[#This Row],[FREC CANT]] -> 1 | Q55: =Tabla1[[#This Row],[HORAS ACUM SOLICITADO]] -> 2 | R55: =(Tabla1[[#This Row],[H]]*Tabla1[[#This Row],[HH]]) -> 2 | U55: verde | W55: =IF(Tabla1[[#This Row],[SUSTENTO]]="CORRECTIVO","ADICIONAL",IF(AND(Tabla1[[#This Row],[SUSTENTO]]="PREVENTIVO",Tabla1[[#This Row],[INDICADOR]]="VERDE"),"CUMPLIDO",IF(AND(Tabla1[[#This Row],[SUSTENTO]]="BACKLOG",Tabla1[[#This Row],[INDICADOR]]="VERDE"),"CUMPLIDO","PENDIENTE"))) -> CUMPLIDO | X55: =+IF(X$1=Tabla1[[#This Row],[INICIO PARADA]],"X",IF(Tabla1[[#This Row],[FIN PARADA]]=X$1,"X","")) | Y55: =+IF(Y$1=Tabla1[[#This Row],[INICIO PARADA]],"X",IF(Tabla1[[#This Row],[FIN PARADA]]=Y$1,"X","")) -> X | Z55: =+IF(Z$1=Tabla1[[#This Row],[INICIO PARADA]],"X",IF(Tabla1[[#This Row],[FIN PARADA]]=Z$1,"X","")) | AA55: =+IF(AA$1=Tabla1[[#This Row],[INICIO PARADA]],"X",IF(Tabla1[[#This Row],[FIN PARADA]]=AA$1,"X","")) | AB55: =+IF(AB$1=Tabla1[[#This Row],[INICIO PARADA]],"X",IF(Tabla1[[#This Row],[FIN PARADA]]=AB$1,"X","")) | AC55: =+IF(AC$1=Tabla1[[#This Row],[INICIO PARADA]],"X",IF(Tabla1[[#This Row],[FIN PARADA]]=AC$1,"X","")) | AD55: =+IF(AD$1=Tabla1[[#This Row],[INICIO PARADA]],"X",IF(Tabla1[[#This Row],[FIN PARADA]]=AD$1,"X","")) | AE55: =+IF(Tabla1[[#This Row],[SEGUIMIENTO]]="CUMPLIDO","Ejecutada",IF(Tabla1[[#This Row],[SEGUIMIENTO]]="PENDIENTE","No Ejecutada","ADICIONAL")) -> Ejecutada | AF55: MANTTO PLANTA | AG55: SUPERVISOR | AJ55: =IF(Tabla1[[#This Row],[SUSTENTO]]="CORRECTIVO","N","S") -> S | AK55: =+Tabla1[[#This Row],[PERSONAL]] -> ELECN_P_C | AL55: =+IF(Tabla1[[#This Row],[S/N]]="S",IF(Tabla1[[#This Row],[HH]]=0,Tabla1[[#This Row],[HH//]],Tabla1[[#This Row],[HH]]),0) -> 2 | AM55: 2 | AN55: =IF(Tabla1[[#This Row],[S/N]]="s",+IFERROR(Tabla1[[#This Row],[HH REAL]]/Tabla1[[#This Row],[HH PLAN]],0),"") -> 1 | AO55: =Tabla1[[#This Row],[FREC CANT]]*Tabla1[[#This Row],[HH REAL]] -> 2
B56: PM02 | D56: DIA | F56: SIRENA CHANCADO SECUNDARIO | G56: Se cambió el fusible de sirena en tablero de PLC de chancado secundario, queda operativo. | H56: 1 | I56: 2 | J56: 45375 | K56: 45375 | L56: 45375 | M56: =Tabla1[[#This Row],[REPUESTO]:[SUSTENTO]] -> 0 | N56: =IF(Tabla1[[#This Row],[PM]]="PM01","PREVENTIVO",IF(Tabla1[[#This Row],[PM]]="PM02","BACKLOG","CORRECTIVO")) -> BACKLOG | O56: ELECN_P_C | P56: =Tabla1[[#This Row],[FREC CANT]] -> 1 | Q56: =Tabla1[[#This Row],[HORAS ACUM SOLICITADO]] -> 2 | R56: =(Tabla1[[#This Row],[H]]*Tabla1[[#This Row],[HH]]) -> 2 | U56: verde | W56: =IF(Tabla1[[#This Row],[SUSTENTO]]="CORRECTIVO","ADICIONAL",IF(AND(Tabla1[[#This Row],[SUSTENTO]]="PREVENTIVO",Tabla1[[#This Row],[INDICADOR]]="VERDE"),"CUMPLIDO",IF(AND(Tabla1[[#This Row],[SUSTENTO]]="BACKLOG",Tabla1[[#This Row],[INDICADOR]]="VERDE"),"CUMPLIDO","PENDIENTE"))) -> CUMPLIDO | X56: =+IF(X$1=Tabla1[[#This Row],[INICIO PARADA]],"X",IF(Tabla1[[#This Row],[FIN PARADA]]=X$1,"X","")) | Y56: =+IF(Y$1=Tabla1[[#This Row],[INICIO PARADA]],"X",IF(Tabla1[[#This Row],[FIN PARADA]]=Y$1,"X","")) -> X | Z56: =+IF(Z$1=Tabla1[[#This Row],[INICIO PARADA]],"X",IF(Tabla1[[#This Row],[FIN PARADA]]=Z$1,"X","")) | AA56: =+IF(AA$1=Tabla1[[#This Row],[INICIO PARADA]],"X",IF(Tabla1[[#This Row],[FIN PARADA]]=AA$1,"X","")) | AB56: =+IF(AB$1=Tabla1[[#This Row],[INICIO PARADA]],"X",IF(Tabla1[[#This Row],[FIN PARADA]]=AB$1,"X","")) | AC56: =+IF(AC$1=Tabla1[[#This Row],[INICIO PARADA]],"X",IF(Tabla1[[#This Row],[FIN PARADA]]=AC$1,"X","")) | AD56: =+IF(AD$1=Tabla1[[#This Row],[INICIO PARADA]],"X",IF(Tabla1[[#This Row],[FIN PARADA]]=AD$1,"X","")) | AE56: =+IF(Tabla1[[#This Row],[SEGUIMIENTO]]="CUMPLIDO","Ejecutada",IF(Tabla1[[#This Row],[SEGUIMIENTO]]="PENDIENTE","No Ejecutada","ADICIONAL")) -> Ejecutada | AF56: MANTTO PLANTA | AG56: SUPERVISOR | AJ56: =IF(Tabla1[[#This Row],[SUSTENTO]]="CORRECTIVO","N","S") -> S | AK56: =+Tabla1[[#This Row],[PERSONAL]] -> ELECN_P_C | AL56: =+IF(Tabla1[[#This Row],[S/N]]="S",IF(Tabla1[[#This Row],[HH]]=0,Tabla1[[#This Row],[HH//]],Tabla1[[#This Row],[HH]]),0) -> 2 | AM56: 2 | AN56: =IF(Tabla1[[#This Row],[S/N]]="s",+IFERROR(Tabla1[[#This Row],[HH REAL]]/Tabla1[[#This Row],[HH PLAN]],0),"") -> 1 | AO56: =Tabla1[[#This Row],[FREC CANT]]*Tabla1[[#This Row],[HH REAL]] -> 2
B57: PM02 | D57: DIA | F57: BOMBAS NOVA | G57: Con apoyo del programador, se actualizan en el SCADA los horometros de las bombas Nova ya que el operador observo variación. | H57: 1 | I57: 3 | J57: 45375 | K57: 45375 | L57: 45375 | M57: =Tabla1[[#This Row],[REPUESTO]:[SUSTENTO]] -> 0 | N57: =IF(Tabla1[[#This Row],[PM]]="PM01","PREVENTIVO",IF(Tabla1[[#This Row],[PM]]="PM02","BACKLOG","CORRECTIVO")) -> BACKLOG | O57: ELECN_P_C | P57: =Tabla1[[#This Row],[FREC CANT]] -> 1 | Q57: =Tabla1[[#This Row],[HORAS ACUM SOLICITADO]] -> 3 | R57: =(Tabla1[[#This Row],[H]]*Tabla1[[#This Row],[HH]]) -> 3 | U57: verde | W57: =IF(Tabla1[[#This Row],[SUSTENTO]]="CORRECTIVO","ADICIONAL",IF(AND(Tabla1[[#This Row],[SUSTENTO]]="PREVENTIVO",Tabla1[[#This Row],[INDICADOR]]="VERDE"),"CUMPLIDO",IF(AND(Tabla1[[#This Row],[SUSTENTO]]="BACKLOG",Tabla1[[#This Row],[INDICADOR]]="VERDE"),"CUMPLIDO","PENDIENTE"))) -> CUMPLIDO | X57: =+IF(X$1=Tabla1[[#This Row],[INICIO PARADA]],"X",IF(Tabla1[[#This Row],[FIN PARADA]]=X$1,"X","")) | Y57: =+IF(Y$1=Tabla1[[#This Row],[INICIO PARADA]],"X",IF(Tabla1[[#This Row],[FIN PARADA]]=Y$1,"X","")) -> X | Z57: =+IF(Z$1=Tabla1[[#This Row],[INICIO PARADA]],"X",IF(Tabla1[[#This Row],[FIN PARADA]]=Z$1,"X","")) | AA57: =+IF(AA$1=Tabla1[[#This Row],[INICIO PARADA]],"X",IF(Tabla1[[#This Row],[FIN PARADA]]=AA$1,"X","")) | AB57: =+IF(AB$1=Tabla1[[#This Row],[INICIO PARADA]],"X",IF(Tabla1[[#This Row],[FIN PARADA]]=AB$1,"X","")) | AC57: =+IF(AC$1=Tabla1[[#This Row],[INICIO PARADA]],"X",IF(Tabla1[[#This Row],[FIN PARADA]]=AC$1,"X","")) | AD57: =+IF(AD$1=Tabla1[[#This Row],[INICIO PARADA]],"X",IF(Tabla1[[#This Row],[FIN PARADA]]=AD$1,"X","")) | AE57: =+IF(Tabla1[[#This Row],[SEGUIMIENTO]]="CUMPLIDO","Ejecutada",IF(Tabla1[[#This Row],[SEGUIMIENTO]]="PENDIENTE","No Ejecutada","ADICIONAL")) -> Ejecutada | AF57: MANTTO PLANTA | AG57: SUPERVISOR | AJ57: =IF(Tabla1[[#This Row],[SUSTENTO]]="CORRECTIVO","N","S") -> S | AK57: =+Tabla1[[#This Row],[PERSONAL]] -> ELECN_P_C | AL57: =+IF(Tabla1[[#This Row],[S/N]]="S",IF(Tabla1[[#This Row],[HH]]=0,Tabla1[[#This Row],[HH//]],Tabla1[[#This Row],[HH]]),0) -> 3 | AM57: 3 | AN57: =IF(Tabla1[[#This Row],[S/N]]="s",+IFERROR(Tabla1[[#This Row],[HH REAL]]/Tabla1[[#This Row],[HH PLAN]],0),"") -> 1 | AO57: =Tabla1[[#This Row],[FREC CANT]]*Tabla1[[#This Row],[HH REAL]] -> 3
B58: PM02 | D58: DIA | F58: BOMBA MARS N° 1 | G58: Se esta realizando limpieza de oil chamber de bomba mars N° 1. | H58: 1 | I58: 9 | J58: 45375 | K58: 45375 | L58: 45375 | M58: =Tabla1[[#This Row],[REPUESTO]:[SUSTENTO]] -> 0 | N58: =IF(Tabla1[[#This Row],[PM]]="PM01","PREVENTIVO",IF(Tabla1[[#This Row],[PM]]="PM02","BACKLOG","CORRECTIVO")) -> BACKLOG | O58: INST_P_C | P58: =Tabla1[[#This Row],[FREC CANT]] -> 1 | Q58: =Tabla1[[#This Row],[HORAS ACUM SOLICITADO]] -> 9 | R58: =(Tabla1[[#This Row],[H]]*Tabla1[[#This Row],[HH]]) -> 9 | U58: verde | W58: =IF(Tabla1[[#This Row],[SUSTENTO]]="CORRECTIVO","ADICIONAL",IF(AND(Tabla1[[#This Row],[SUSTENTO]]="PREVENTIVO",Tabla1[[#This Row],[INDICADOR]]="VERDE"),"CUMPLIDO",IF(AND(Tabla1[[#This Row],[SUSTENTO]]="BACKLOG",Tabla1[[#This Row],[INDICADOR]]="VERDE"),"CUMPLIDO","PENDIENTE"))) -> CUMPLIDO | X58: =+IF(X$1=Tabla1[[#This Row],[INICIO PARADA]],"X",IF(Tabla1[[#This Row],[FIN PARADA]]=X$1,"X","")) | Y58: =+IF(Y$1=Tabla1[[#This Row],[INICIO PARADA]],"X",IF(Tabla1[[#This Row],[FIN PARADA]]=Y$1,"X","")) -> X | Z58: =+IF(Z$1=Tabla1[[#This Row],[INICIO PARADA]],"X",IF(Tabla1[[#This Row],[FIN PARADA]]=Z$1,"X","")) | AA58: =+IF(AA$1=Tabla1[[#This Row],[INICIO PARADA]],"X",IF(Tabla1[[#This Row],[FIN PARADA]]=AA$1,"X","")) | AB58: =+IF(AB$1=Tabla1[[#This Row],[INICIO PARADA]],"X",IF(Tabla1[[#This Row],[FIN PARADA]]=AB$1,"X","")) | AC58: =+IF(AC$1=Tabla1[[#This Row],[INICIO PARADA]],"X",IF(Tabla1[[#This Row],[FIN PARADA]]=AC$1,"X","")) | AD58: =+IF(AD$1=Tabla1[[#This Row],[INICIO PARADA]],"X",IF(Tabla1[[#This Row],[FIN PARADA]]=AD$1,"X","")) | AE58: =+IF(Tabla1[[#This Row],[SEGUIMIENTO]]="CUMPLIDO","Ejecutada",IF(Tabla1[[#This Row],[SEGUIMIENTO]]="PENDIENTE","No Ejecutada","ADICIONAL")) -> Ejecutada | AF58: MANTTO PLANTA | AG58: SUPERVISOR | AJ58: =IF(Tabla1[[#This Row],[SUSTENTO]]="CORRECTIVO","N","S") -> S | AK58: =+Tabla1[[#This Row],[PERSONAL]] -> INST_P_C | AL58: =+IF(Tabla1[[#This Row],[S/N]]="S",IF(Tabla1[[#This Row],[HH]]=0,Tabla1[[#This Row],[HH//]],Tabla1[[#This Row],[HH]]),0) -> 9 | AM58: 9 | AN58: =IF(Tabla1[[#This Row],[S/N]]="s",+IFERROR(Tabla1[[#This Row],[HH REAL]]/Tabla1[[#This Row],[HH PLAN]],0),"") -> 1 | AO58: =Tabla1[[#This Row],[FREC CANT]]*Tabla1[[#This Row],[HH REAL]] -> 9
B59: PM02 | D59: DIA | F59: SEGURIDAD | G59: Se realizó el retiro de planchas, habilitación , orden y limpieza d evigas, etc. Aún no se culmina con el trabajo. | H59: 3 | I59: 9 | J59: 45375 | K59: 45375 | L59: 45375 | M59: =Tabla1[[#This Row],[REPUESTO]:[SUSTENTO]] -> 0 | N59: =IF(Tabla1[[#This Row],[PM]]="PM01","PREVENTIVO",IF(Tabla1[[#This Row],[PM]]="PM02","BACKLOG","CORRECTIVO")) -> BACKLOG | O59: INST_P_C | P59: =Tabla1[[#This Row],[FREC CANT]] -> 3 | Q59: =Tabla1[[#This Row],[HORAS ACUM SOLICITADO]] -> 9 | R59: =(Tabla1[[#This Row],[H]]*Tabla1[[#This Row],[HH]]) -> 27 | U59: verde | W59: =IF(Tabla1[[#This Row],[SUSTENTO]]="CORRECTIVO","ADICIONAL",IF(AND(Tabla1[[#This Row],[SUSTENTO]]="PREVENTIVO",Tabla1[[#This Row],[INDICADOR]]="VERDE"),"CUMPLIDO",IF(AND(Tabla1[[#This Row],[SUSTENTO]]="BACKLOG",Tabla1[[#This Row],[INDICADOR]]="VERDE"),"CUMPLIDO","PENDIENTE"))) -> CUMPLIDO | X59: =+IF(X$1=Tabla1[[#This Row],[INICIO PARADA]],"X",IF(Tabla1[[#This Row],[FIN PARADA]]=X$1,"X","")) | Y59: =+IF(Y$1=Tabla1[[#This Row],[INICIO PARADA]],"X",IF(Tabla1[[#This Row],[FIN PARADA]]=Y$1,"X","")) -> X | Z59: =+IF(Z$1=Tabla1[[#This Row],[INICIO PARADA]],"X",IF(Tabla1[[#This Row],[FIN PARADA]]=Z$1,"X","")) | AA59: =+IF(AA$1=Tabla1[[#This Row],[INICIO PARADA]],"X",IF(Tabla1[[#This Row],[FIN PARADA]]=AA$1,"X","")) | AB59: =+IF(AB$1=Tabla1[[#This Row],[INICIO PARADA]],"X",IF(Tabla1[[#This Row],[FIN PARADA]]=AB$1,"X","")) | AC59: =+IF(AC$1=Tabla1[[#This Row],[INICIO PARADA]],"X",IF(Tabla1[[#This Row],[FIN PARADA]]=AC$1,"X","")) | AD59: =+IF(AD$1=Tabla1[[#This Row],[INICIO PARADA]],"X",IF(Tabla1[[#This Row],[FIN PARADA]]=AD$1,"X","")) | AE59: =+IF(Tabla1[[#This Row],[SEGUIMIENTO]]="CUMPLIDO","Ejecutada",IF(Tabla1[[#This Row],[SEGUIMIENTO]]="PENDIENTE","No Ejecutada","ADICIONAL")) -> Ejecutada | AF59: MANTTO PLANTA | AG59: SUPERVISOR | AJ59: =IF(Tabla1[[#This Row],[SUSTENTO]]="CORRECTIVO","N","S") -> S | AK59: =+Tabla1[[#This Row],[PERSONAL]] -> INST_P_C | AL59: =+IF(Tabla1[[#This Row],[S/N]]="S",IF(Tabla1[[#This Row],[HH]]=0,Tabla1[[#This Row],[HH//]],Tabla1[[#This Row],[HH]]),0) -> 9 | AM59: 9 | AN59: =IF(Tabla1[[#This Row],[S/N]]="s",+IFERROR(Tabla1[[#This Row],[HH REAL]]/Tabla1[[#This Row],[HH PLAN]],0),"") -> 1 | AO59: =Tabla1[[#This Row],[FREC CANT]]*Tabla1[[#This Row],[HH REAL]] -> 27
B60: PM02 | D60: DIA | F60: LINEA DE TUBERÍA DE DESCARGA DEL HIDROCICLON. | G60: Se realizó el pegado de línea de descarga de hidrociclón, tubería de 6 plg. HDPE. | H60: 2 | I60: 9 | J60: 45375 | K60: 45375 | L60: 45375 | M60: =Tabla1[[#This Row],[REPUESTO]:[SUSTENTO]] -> 0 | N60: =IF(Tabla1[[#This Row],[PM]]="PM01","PREVENTIVO",IF(Tabla1[[#This Row],[PM]]="PM02","BACKLOG","CORRECTIVO")) -> BACKLOG | O60: INST_P_C | P60: =Tabla1[[#This Row],[FREC CANT]] -> 2 | Q60: =Tabla1[[#This Row],[HORAS ACUM SOLICITADO]] -> 9 | R60: =(Tabla1[[#This Row],[H]]*Tabla1[[#This Row],[HH]]) -> 18 | U60: verde | W60: =IF(Tabla1[[#This Row],[SUSTENTO]]="CORRECTIVO","ADICIONAL",IF(AND(Tabla1[[#This Row],[SUSTENTO]]="PREVENTIVO",Tabla1[[#This Row],[INDICADOR]]="VERDE"),"CUMPLIDO",IF(AND(Tabla1[[#This Row],[SUSTENTO]]="BACKLOG",Tabla1[[#This Row],[INDICADOR]]="VERDE"),"CUMPLIDO","PENDIENTE"))) -> CUMPLIDO | X60: =+IF(X$1=Tabla1[[#This Row],[INICIO PARADA]],"X",IF(Tabla1[[#This Row],[FIN PARADA]]=X$1,"X","")) | Y60: =+IF(Y$1=Tabla1[[#This Row],[INICIO PARADA]],"X",IF(Tabla1[[#This Row],[FIN PARADA]]=Y$1,"X","")) -> X | Z60: =+IF(Z$1=Tabla1[[#This Row],[INICIO PARADA]],"X",IF(Tabla1[[#This Row],[FIN PARADA]]=Z$1,"X","")) | AA60: =+IF(AA$1=Tabla1[[#This Row],[INICIO PARADA]],"X",IF(Tabla1[[#This Row],[FIN PARADA]]=AA$1,"X","")) | AB60: =+IF(AB$1=Tabla1[[#This Row],[INICIO PARADA]],"X",IF(Tabla1[[#This Row],[FIN PARADA]]=AB$1,"X","")) | AC60: =+IF(AC$1=Tabla1[[#This Row],[INICIO PARADA]],"X",IF(Tabla1[[#This Row],[FIN PARADA]]=AC$1,"X","")) | AD60: =+IF(AD$1=Tabla1[[#This Row],[INICIO PARADA]],"X",IF(Tabla1[[#This Row],[FIN PARADA]]=AD$1,"X","")) | AE60: =+IF(Tabla1[[#This Row],[SEGUIMIENTO]]="CUMPLIDO","Ejecutada",IF(Tabla1[[#This Row],[SEGUIMIENTO]]="PENDIENTE","No Ejecutada","ADICIONAL")) -> Ejecutada | AF60: MANTTO PLANTA | AG60: SUPERVISOR | AJ60: =IF(Tabla1[[#This Row],[SUSTENTO]]="CORRECTIVO","N","S") -> S | AK60: =+Tabla1[[#This Row],[PERSONAL]] -> INST_P_C | AL60: =+IF(Tabla1[[#This Row],[S/N]]="S",IF(Tabla1[[#This Row],[HH]]=0,Tabla1[[#This Row],[HH//]],Tabla1[[#This Row],[HH]]),0) -> 9 | AM60: 9 | AN60: =IF(Tabla1[[#This Row],[S/N]]="s",+IFERROR(Tabla1[[#This Row],[HH REAL]]/Tabla1[[#This Row],[HH PLAN]],0),"") -> 1 | AO60: =Tabla1[[#This Row],[FREC CANT]]*Tabla1[[#This Row],[HH REAL]] -> 18
B61: PM01 | D61: DIA | F61: CANCHA DE CONCENTRADO DE Pb y Zn. | G61: Se culminó con la colocación de parrillas en cancha de concentrado de pb. y zinc. | H61: 2 | I61: 9 | J61: 45375 | K61: 45375 | L61: 45375 | M61: =Tabla1[[#This Row],[REPUESTO]:[SUSTENTO]] -> 0 | N61: =IF(Tabla1[[#This Row],[PM]]="PM01","PREVENTIVO",IF(Tabla1[[#This Row],[PM]]="PM02","BACKLOG","CORRECTIVO")) -> PREVENTIVO | O61: INST_P_C | P61: =Tabla1[[#This Row],[FREC CANT]] -> 2 | Q61: =Tabla1[[#This Row],[HORAS ACUM SOLICITADO]] -> 9 | R61: =(Tabla1[[#This Row],[H]]*Tabla1[[#This Row],[HH]]) -> 18 | U61: verde | W61: =IF(Tabla1[[#This Row],[SUSTENTO]]="CORRECTIVO","ADICIONAL",IF(AND(Tabla1[[#This Row],[SUSTENTO]]="PREVENTIVO",Tabla1[[#This Row],[INDICADOR]]="VERDE"),"CUMPLIDO",IF(AND(Tabla1[[#This Row],[SUSTENTO]]="BACKLOG",Tabla1[[#This Row],[INDICADOR]]="VERDE"),"CUMPLIDO","PENDIENTE"))) -> CUMPLIDO | X61: =+IF(X$1=Tabla1[[#This Row],[INICIO PARADA]],"X",IF(Tabla1[[#This Row],[FIN PARADA]]=X$1,"X","")) | Y61: =+IF(Y$1=Tabla1[[#This Row],[INICIO PARADA]],"X",IF(Tabla1[[#This Row],[FIN PARADA]]=Y$1,"X","")) -> X | Z61: =+IF(Z$1=Tabla1[[#This Row],[INICIO PARADA]],"X",IF(Tabla1[[#This Row],[FIN PARADA]]=Z$1,"X","")) | AA61: =+IF(AA$1=Tabla1[[#This Row],[INICIO PARADA]],"X",IF(Tabla1[[#This Row],[FIN PARADA]]=AA$1,"X","")) | AB61: =+IF(AB$1=Tabla1[[#This Row],[INICIO PARADA]],"X",IF(Tabla1[[#This Row],[FIN PARADA]]=AB$1,"X","")) | AC61: =+IF(AC$1=Tabla1[[#This Row],[INICIO PARADA]],"X",IF(Tabla1[[#This Row],[FIN PARADA]]=AC$1,"X","")) | AD61: =+IF(AD$1=Tabla1[[#This Row],[INICIO PARADA]],"X",IF(Tabla1[[#This Row],[FIN PARADA]]=AD$1,"X","")) | AE61: =+IF(Tabla1[[#This Row],[SEGUIMIENTO]]="CUMPLIDO","Ejecutada",IF(Tabla1[[#This Row],[SEGUIMIENTO]]="PENDIENTE","No Ejecutada","ADICIONAL")) -> Ejecutada | AF61: MANTTO PLANTA | AG61: SUPERVISOR | AJ61: =IF(Tabla1[[#This Row],[SUSTENTO]]="CORRECTIVO","N","S") -> S | AK61: =+Tabla1[[#This Row],[PERSONAL]] -> INST_P_C | AL61: =+IF(Tabla1[[#This Row],[S/N]]="S",IF(Tabla1[[#This Row],[HH]]=0,Tabla1[[#This Row],[HH//]],Tabla1[[#This Row],[HH]]),0) -> 9 | AM61: 9 | AN61: =IF(Tabla1[[#This Row],[S/N]]="s",+IFERROR(Tabla1[[#This Row],[HH REAL]]/Tabla1[[#This Row],[HH PLAN]],0),"") -> 1 | AO61: =Tabla1[[#This Row],[FREC CANT]]*Tabla1[[#This Row],[HH REAL]] -> 18
B62: PM01 | D62: DIA | F62: MEDICION DE TUBERIAS | G62: Medición de tubería de relave por ultrasonido. Cant. 20 tubos ,Línea 1( 267:268;269) línea 2(292;293;294), línea 3(207;208-C;208;209;210;211;212;213;214;215), Línea 4(296;297;298;299). | H62: 2 | I62: 9 | J62: 45375 | K62: 45375 | L62: 45375 | M62: =Tabla1[[#This Row],[REPUESTO]:[SUSTENTO]] -> 0 | N62: =IF(Tabla1[[#This Row],[PM]]="PM01","PREVENTIVO",IF(Tabla1[[#This Row],[PM]]="PM02","BACKLOG","CORRECTIVO")) -> PREVENTIVO | O62: INST_P_C | P62: =Tabla1[[#This Row],[FREC CANT]] -> 2 | Q62: =Tabla1[[#This Row],[HORAS ACUM SOLICITADO]] -> 9 | R62: =(Tabla1[[#This Row],[H]]*Tabla1[[#This Row],[HH]]) -> 18 | U62: verde | W62: =IF(Tabla1[[#This Row],[SUSTENTO]]="CORRECTIVO","ADICIONAL",IF(AND(Tabla1[[#This Row],[SUSTENTO]]="PREVENTIVO",Tabla1[[#This Row],[INDICADOR]]="VERDE"),"CUMPLIDO",IF(AND(Tabla1[[#This Row],[SUSTENTO]]="BACKLOG",Tabla1[[#This Row],[INDICADOR]]="VERDE"),"CUMPLIDO","PENDIENTE"))) -> CUMPLIDO | X62: =+IF(X$1=Tabla1[[#This Row],[INICIO PARADA]],"X",IF(Tabla1[[#This Row],[FIN PARADA]]=X$1,"X","")) | Y62: =+IF(Y$1=Tabla1[[#This Row],[INICIO PARADA]],"X",IF(Tabla1[[#This Row],[FIN PARADA]]=Y$1,"X","")) -> X | Z62: =+IF(Z$1=Tabla1[[#This Row],[INICIO PARADA]],"X",IF(Tabla1[[#This Row],[FIN PARADA]]=Z$1,"X","")) | AA62: =+IF(AA$1=Tabla1[[#This Row],[INICIO PARADA]],"X",IF(Tabla1[[#This Row],[FIN PARADA]]=AA$1,"X","")) | AB62: =+IF(AB$1=Tabla1[[#This Row],[INICIO PARADA]],"X",IF(Tabla1[[#This Row],[FIN PARADA]]=AB$1,"X","")) | AC62: =+IF(AC$1=Tabla1[[#This Row],[INICIO PARADA]],"X",IF(Tabla1[[#This Row],[FIN PARADA]]=AC$1,"X","")) | AD62: =+IF(AD$1=Tabla1[[#This Row],[INICIO PARADA]],"X",IF(Tabla1[[#This Row],[FIN PARADA]]=AD$1,"X","")) | AE62: =+IF(Tabla1[[#This Row],[SEGUIMIENTO]]="CUMPLIDO","Ejecutada",IF(Tabla1[[#This Row],[SEGUIMIENTO]]="PENDIENTE","No Ejecutada","ADICIONAL")) -> Ejecutada | AF62: MANTTO PLANTA | AG62: SUPERVISOR | AJ62: =IF(Tabla1[[#This Row],[SUSTENTO]]="CORRECTIVO","N","S") -> S | AK62: =+Tabla1[[#This Row],[PERSONAL]] -> INST_P_C | AL62: =+IF(Tabla1[[#This Row],[S/N]]="S",IF(Tabla1[[#This Row],[HH]]=0,Tabla1[[#This Row],[HH//]],Tabla1[[#This Row],[HH]]),0) -> 9 | AM62: 9 | AN62: =IF(Tabla1[[#This Row],[S/N]]="s",+IFERROR(Tabla1[[#This Row],[HH REAL]]/Tabla1[[#This Row],[HH PLAN]],0),"") -> 1 | AO62: =Tabla1[[#This Row],[FREC CANT]]*Tabla1[[#This Row],[HH REAL]] -> 18
B63: PM01 | D63: DIA | F63: CELDAS DENVER DE FLOTACIÓN DR-500 PB #01 | G63: Lubricacion de caja de rodamientos | H63: 1 | I63: 0.5 | J63: 45375 | K63: 45375 | L63: 45375 | M63: =Tabla1[[#This Row],[REPUESTO]:[SUSTENTO]] -> 0 | N63: =IF(Tabla1[[#This Row],[PM]]="PM01","PREVENTIVO",IF(Tabla1[[#This Row],[PM]]="PM02","BACKLOG","CORRECTIVO")) -> PREVENTIVO | O63: LUB_P_C | P63: =Tabla1[[#This Row],[FREC CANT]] -> 1 | Q63: =Tabla1[[#This Row],[HORAS ACUM SOLICITADO]] -> 0.5 | R63: =(Tabla1[[#This Row],[H]]*Tabla1[[#This Row],[HH]]) -> 0.5 | U63: verde | W63: =IF(Tabla1[[#This Row],[SUSTENTO]]="CORRECTIVO","ADICIONAL",IF(AND(Tabla1[[#This Row],[SUSTENTO]]="PREVENTIVO",Tabla1[[#This Row],[INDICADOR]]="VERDE"),"CUMPLIDO",IF(AND(Tabla1[[#This Row],[SUSTENTO]]="BACKLOG",Tabla1[[#This Row],[INDICADOR]]="VERDE"),"CUMPLIDO","PENDIENTE"))) -> CUMPLIDO | X63: =+IF(X$1=Tabla1[[#This Row],[INICIO PARADA]],"X",IF(Tabla1[[#This Row],[FIN PARADA]]=X$1,"X","")) | Y63: =+IF(Y$1=Tabla1[[#This Row],[INICIO PARADA]],"X",IF(Tabla1[[#This Row],[FIN PARADA]]=Y$1,"X","")) -> X | Z63: =+IF(Z$1=Tabla1[[#This Row],[INICIO PARADA]],"X",IF(Tabla1[[#This Row],[FIN PARADA]]=Z$1,"X","")) | AA63: =+IF(AA$1=Tabla1[[#This Row],[INICIO PARADA]],"X",IF(Tabla1[[#This Row],[FIN PARADA]]=AA$1,"X","")) | AB63: =+IF(AB$1=Tabla1[[#This Row],[INICIO PARADA]],"X",IF(Tabla1[[#This Row],[FIN PARADA]]=AB$1,"X","")) | AC63: =+IF(AC$1=Tabla1[[#This Row],[INICIO PARADA]],"X",IF(Tabla1[[#This Row],[FIN PARADA]]=AC$1,"X","")) | AD63: =+IF(AD$1=Tabla1[[#This Row],[INICIO PARADA]],"X",IF(Tabla1[[#This Row],[FIN PARADA]]=AD$1,"X","")) | AE63: =+IF(Tabla1[[#This Row],[SEGUIMIENTO]]="CUMPLIDO","Ejecutada",IF(Tabla1[[#This Row],[SEGUIMIENTO]]="PENDIENTE","No Ejecutada","ADICIONAL")) -> Ejecutada | AF63: MANTTO PLANTA | AG63: SUPERVISOR | AJ63: =IF(Tabla1[[#This Row],[SUSTENTO]]="CORRECTIVO","N","S") -> S | AK63: =+Tabla1[[#This Row],[PERSONAL]] -> LUB_P_C | AL63: =+IF(Tabla1[[#This Row],[S/N]]="S",IF(Tabla1[[#This Row],[HH]]=0,Tabla1[[#This Row],[HH//]],Tabla1[[#This Row],[HH]]),0) -> 0.5 | AM63: 0.5 | AN63: =IF(Tabla1[[#This Row],[S/N]]="s",+IFERROR(Tabla1[[#This Row],[HH REAL]]/Tabla1[[#This Row],[HH PLAN]],0),"") -> 1 | AO63: =Tabla1[[#This Row],[FREC CANT]]*Tabla1[[#This Row],[HH REAL]] -> 0.5
B64: PM01 | D64: DIA | F64: Chancadora secundaria new CH430 | G64: Lubricacion de contraeje | H64: 1 | I64: 1 | J64: 45375 | K64: 45375 | L64: 45375 | M64: =Tabla1[[#This Row],[REPUESTO]:[SUSTENTO]] -> 0 | N64: =IF(Tabla1[[#This Row],[PM]]="PM01","PREVENTIVO",IF(Tabla1[[#This Row],[PM]]="PM02","BACKLOG","CORRECTIVO")) -> PREVENTIVO | O64: LUB_P_C | P64: =Tabla1[[#This Row],[FREC CANT]] -> 1 | Q64: =Tabla1[[#This Row],[HORAS ACUM SOLICITADO]] -> 1 | R64: =(Tabla1[[#This Row],[H]]*Tabla1[[#This Row],[HH]]) -> 1 | U64: verde | W64: =IF(Tabla1[[#This Row],[SUSTENTO]]="CORRECTIVO","ADICIONAL",IF(AND(Tabla1[[#This Row],[SUSTENTO]]="PREVENTIVO",Tabla1[[#This Row],[INDICADOR]]="VERDE"),"CUMPLIDO",IF(AND(Tabla1[[#This Row],[SUSTENTO]]="BACKLOG",Tabla1[[#This Row],[INDICADOR]]="VERDE"),"CUMPLIDO","PENDIENTE"))) -> CUMPLIDO | X64: =+IF(X$1=Tabla1[[#This Row],[INICIO PARADA]],"X",IF(Tabla1[[#This Row],[FIN PARADA]]=X$1,"X","")) | Y64: =+IF(Y$1=Tabla1[[#This Row],[INICIO PARADA]],"X",IF(Tabla1[[#This Row],[FIN PARADA]]=Y$1,"X","")) -> X | Z64: =+IF(Z$1=Tabla1[[#This Row],[INICIO PARADA]],"X",IF(Tabla1[[#This Row],[FIN PARADA]]=Z$1,"X","")) | AA64: =+IF(AA$1=Tabla1[[#This Row],[INICIO PARADA]],"X",IF(Tabla1[[#This Row],[FIN PARADA]]=AA$1,"X","")) | AB64: =+IF(AB$1=Tabla1[[#This Row],[INICIO PARADA]],"X",IF(Tabla1[[#This Row],[FIN PARADA]]=AB$1,"X","")) | AC64: =+IF(AC$1=Tabla1[[#This Row],[INICIO PARADA]],"X",IF(Tabla1[[#This Row],[FIN PARADA]]=AC$1,"X","")) | AD64: =+IF(AD$1=Tabla1[[#This Row],[INICIO PARADA]],"X",IF(Tabla1[[#This Row],[FIN PARADA]]=AD$1,"X","")) | AE64: =+IF(Tabla1[[#This Row],[SEGUIMIENTO]]="CUMPLIDO","Ejecutada",IF(Tabla1[[#This Row],[SEGUIMIENTO]]="PENDIENTE","No Ejecutada","ADICIONAL")) -> Ejecutada | AF64: MANTTO PLANTA | AG64: SUPERVISOR | AJ64: =IF(Tabla1[[#This Row],[SUSTENTO]]="CORRECTIVO","N","S") -> S | AK64: =+Tabla1[[#This Row],[PERSONAL]] -> LUB_P_C | AL64: =+IF(Tabla1[[#This Row],[S/N]]="S",IF(Tabla1[[#This Row],[HH]]=0,Tabla1[[#This Row],[HH//]],Tabla1[[#This Row],[HH]]),0) -> 1 | AM64: 1 | AN64: =IF(Tabla1[[#This Row],[S/N]]="s",+IFERROR(Tabla1[[#This Row],[HH REAL]]/Tabla1[[#This Row],[HH PLAN]],0),"") -> 1 | AO64: =Tabla1[[#This Row],[FREC CANT]]*Tabla1[[#This Row],[HH REAL]] -> 1
... B136: PM01 | D136: DIA | F136: BOMBA MARS N° 4 | G136: Se cambia tuberia de relave N° 23 de la linea N° 2 - MARS N° 4. | H136: 3 | I136: 9 | J136: 45377 | K136: 45377 | L136: 45377 | M136: =Tabla1[[#This Row],[REPUESTO]:[SUSTENTO]] -> 0 | N136: =IF(Tabla1[[#This Row],[PM]]="PM01","PREVENTIVO",IF(Tabla1[[#This Row],[PM]]="PM02","BACKLOG","CORRECTIVO")) -> PREVENTIVO | O136: INST_P_C | P136: =Tabla1[[#This Row],[FREC CANT]] -> 3 | Q136: =Tabla1[[#This Row],[HORAS ACUM SOLICITADO]] -> 9 | R136: =(Tabla1[[#This Row],[H]]*Tabla1[[#This Row],[HH]]) -> 27 | U136: verde | W136: =IF(Tabla1[[#This Row],[SUSTENTO]]="CORRECTIVO","ADICIONAL",IF(AND(Tabla1[[#This Row],[SUSTENTO]]="PREVENTIVO",Tabla1[[#This Row],[INDICADOR]]="VERDE"),"CUMPLIDO",IF(AND(Tabla1[[#This Row],[SUSTENTO]]="BACKLOG",Tabla1[[#This Row],[INDICADOR]]="VERDE"),"CUMPLIDO","PENDIENTE"))) -> CUMPLIDO | X136: =+IF(X$1=Tabla1[[#This Row],[INICIO PARADA]],"X",IF(Tabla1[[#This Row],[FIN PARADA]]=X$1,"X","")) | Y136: =+IF(Y$1=Tabla1[[#This Row],[INICIO PARADA]],"X",IF(Tabla1[[#This Row],[FIN PARADA]]=Y$1,"X","")) | Z136: =+IF(Z$1=Tabla1[[#This Row],[INICIO PARADA]],"X",IF(Tabla1[[#This Row],[FIN PARADA]]=Z$1,"X","")) | AA136: =+IF(AA$1=Tabla1[[#This Row],[INICIO PARADA]],"X",IF(Tabla1[[#This Row],[FIN PARADA]]=AA$1,"X","")) -> X | AB136: =+IF(AB$1=Tabla1[[#This Row],[INICIO PARADA]],"X",IF(Tabla1[[#This Row],[FIN PARADA]]=AB$1,"X","")) | AC136: =+IF(AC$1=Tabla1[[#This Row],[INICIO PARADA]],"X",IF(Tabla1[[#This Row],[FIN PARADA]]=AC$1,"X","")) | AD136: =+IF(AD$1=Tabla1[[#This Row],[INICIO PARADA]],"X",IF(Tabla1[[#This Row],[FIN PARADA]]=AD$1,"X","")) | AE136: =+IF(Tabla1[[#This Row],[SEGUIMIENTO]]="CUMPLIDO","Ejecutada",IF(Tabla1[[#This Row],[SEGUIMIENTO]]="PENDIENTE","No Ejecutada","ADICIONAL")) -> Ejecutada | AF136: MANTTO PLANTA | AG136: SUPERVISOR | AJ136: =IF(Tabla1[[#This Row],[SUSTENTO]]="CORRECTIVO","N","S") -> S | AK136: =+Tabla1[[#This Row],[PERSONAL]] -> INST_P_C | AL136: =+IF(Tabla1[[#This Row],[S/N]]="S",IF(Tabla1[[#This Row],[HH]]=0,Tabla1[[#This Row],[HH//]],Tabla1[[#This Row],[HH]]),0) -> 9 | AM136: 9 | AN136: =IF(Tabla1[[#This Row],[S/N]]="s",+IFERROR(Tabla1[[#This Row],[HH REAL]]/Tabla1[[#This Row],[HH PLAN]],0),"") -> 1 | AO136: =Tabla1[[#This Row],[FREC CANT]]*Tabla1[[#This Row],[HH REAL]] -> 27
B137: PM03 | D137: DIA | F137: LÍNEA DE DESCARGA DE HIDROCICLÓN RELAVE | G137: Se realizó el soldeo de fisura en linea de descarga de Hidrociclón de relavera. | H137: 2 | I137: 3 | J137: 45377 | K137: 45377 | L137: 45377 | M137: =Tabla1[[#This Row],[REPUESTO]:[SUSTENTO]] -> 0 | N137: =IF(Tabla1[[#This Row],[PM]]="PM01","PREVENTIVO",IF(Tabla1[[#This Row],[PM]]="PM02","BACKLOG","CORRECTIVO")) -> CORRECTIVO | O137: INST_P_C | P137: =Tabla1[[#This Row],[FREC CANT]] -> 2 | Q137: =Tabla1[[#This Row],[HORAS ACUM SOLICITADO]] -> 3 | R137: =(Tabla1[[#This Row],[H]]*Tabla1[[#This Row],[HH]]) -> 6 | U137: verde | W137: =IF(Tabla1[[#This Row],[SUSTENTO]]="CORRECTIVO","ADICIONAL",IF(AND(Tabla1[[#This Row],[SUSTENTO]]="PREVENTIVO",Tabla1[[#This Row],[INDICADOR]]="VERDE"),"CUMPLIDO",IF(AND(Tabla1[[#This Row],[SUSTENTO]]="BACKLOG",Tabla1[[#This Row],[INDICADOR]]="VERDE"),"CUMPLIDO","PENDIENTE"))) -> ADICIONAL | X137: =+IF(X$1=Tabla1[[#This Row],[INICIO PARADA]],"X",IF(Tabla1[[#This Row],[FIN PARADA]]=X$1,"X","")) | Y137: =+IF(Y$1=Tabla1[[#This Row],[INICIO PARADA]],"X",IF(Tabla1[[#This Row],[FIN PARADA]]=Y$1,"X","")) | Z137: =+IF(Z$1=Tabla1[[#This Row],[INICIO PARADA]],"X",IF(Tabla1[[#This Row],[FIN PARADA]]=Z$1,"X","")) | AA137: =+IF(AA$1=Tabla1[[#This Row],[INICIO PARADA]],"X",IF(Tabla1[[#This Row],[FIN PARADA]]=AA$1,"X","")) -> X | AB137: =+IF(AB$1=Tabla1[[#This Row],[INICIO PARADA]],"X",IF(Tabla1[[#This Row],[FIN PARADA]]=AB$1,"X","")) | AC137: =+IF(AC$1=Tabla1[[#This Row],[INICIO PARADA]],"X",IF(Tabla1[[#This Row],[FIN PARADA]]=AC$1,"X","")) | AD137: =+IF(AD$1=Tabla1[[#This Row],[INICIO PARADA]],"X",IF(Tabla1[[#This Row],[FIN PARADA]]=AD$1,"X","")) | AE137: =+IF(Tabla1[[#This Row],[SEGUIMIENTO]]="CUMPLIDO","Ejecutada",IF(Tabla1[[#This Row],[SEGUIMIENTO]]="PENDIENTE","No Ejecutada","ADICIONAL")) -> ADICIONAL | AF137: MANTTO PLANTA | AG137: SUPERVISOR | AH137: Adicional | AJ137: =IF(Tabla1[[#This Row],[SUSTENTO]]="CORRECTIVO","N","S") -> N | AK137: =+Tabla1[[#This Row],[PERSONAL]] -> INST_P_C | AL137: =+IF(Tabla1[[#This Row],[S/N]]="S",IF(Tabla1[[#This Row],[HH]]=0,Tabla1[[#This Row],[HH//]],Tabla1[[#This Row],[HH]]),0) -> 0 | AM137: 3 | AN137: =IF(Tabla1[[#This Row],[S/N]]="s",+IFERROR(Tabla1[[#This Row],[HH REAL]]/Tabla1[[#This Row],[HH PLAN]],0),"") | AO137: =Tabla1[[#This Row],[FREC CANT]]*Tabla1[[#This Row],[HH REAL]] -> 6
B138: PM02 | D138: DIA | F138: TANKE DE SULFATO DE COBRE | G138: se realiza la fabricación de cajón y cambio de piso graiting en el tanke sulfato de cobre. | H138: 2 | I138: 3 | J138: 45377 | K138: 45377 | L138: 45377 | M138: =Tabla1[[#This Row],[REPUESTO]:[SUSTENTO]] -> 0 | N138: =IF(Tabla1[[#This Row],[PM]]="PM01","PREVENTIVO",IF(Tabla1[[#This Row],[PM]]="PM02","BACKLOG","CORRECTIVO")) -> BACKLOG | O138: INST_P_C | P138: =Tabla1[[#This Row],[FREC CANT]] -> 2 | Q138: =Tabla1[[#This Row],[HORAS ACUM SOLICITADO]] -> 3 | R138: =(Tabla1[[#This Row],[H]]*Tabla1[[#This Row],[HH]]) -> 6 | U138: verde | W138: =IF(Tabla1[[#This Row],[SUSTENTO]]="CORRECTIVO","ADICIONAL",IF(AND(Tabla1[[#This Row],[SUSTENTO]]="PREVENTIVO",Tabla1[[#This Row],[INDICADOR]]="VERDE"),"CUMPLIDO",IF(AND(Tabla1[[#This Row],[SUSTENTO]]="BACKLOG",Tabla1[[#This Row],[INDICADOR]]="VERDE"),"CUMPLIDO","PENDIENTE"))) -> CUMPLIDO | X138: =+IF(X$1=Tabla1[[#This Row],[INICIO PARADA]],"X",IF(Tabla1[[#This Row],[FIN PARADA]]=X$1,"X","")) | Y138: =+IF(Y$1=Tabla1[[#This Row],[INICIO PARADA]],"X",IF(Tabla1[[#This Row],[FIN PARADA]]=Y$1,"X","")) | Z138: =+IF(Z$1=Tabla1[[#This Row],[INICIO PARADA]],"X",IF(Tabla1[[#This Row],[FIN PARADA]]=Z$1,"X","")) | AA138: =+IF(AA$1=Tabla1[[#This Row],[INICIO PARADA]],"X",IF(Tabla1[[#This Row],[FIN PARADA]]=AA$1,"X","")) -> X | AB138: =+IF(AB$1=Tabla1[[#This Row],[INICIO PARADA]],"X",IF(Tabla1[[#This Row],[FIN PARADA]]=AB$1,"X","")) | AC138: =+IF(AC$1=Tabla1[[#This Row],[INICIO PARADA]],"X",IF(Tabla1[[#This Row],[FIN PARADA]]=AC$1,"X","")) | AD138: =+IF(AD$1=Tabla1[[#This Row],[INICIO PARADA]],"X",IF(Tabla1[[#This Row],[FIN PARADA]]=AD$1,"X","")) | AE138: =+IF(Tabla1[[#This Row],[SEGUIMIENTO]]="CUMPLIDO","Ejecutada",IF(Tabla1[[#This Row],[SEGUIMIENTO]]="PENDIENTE","No Ejecutada","ADICIONAL")) -> Ejecutada | AF138: MANTTO PLANTA | AG138: SUPERVISOR | AJ138: =IF(Tabla1[[#This Row],[SUSTENTO]]="CORRECTIVO","N","S") -> S | AK138: =+Tabla1[[#This Row],[PERSONAL]] -> INST_P_C | AL138: =+IF(Tabla1[[#This Row],[S/N]]="S",IF(Tabla1[[#This Row],[HH]]=0,Tabla1[[#This Row],[HH//]],Tabla1[[#This Row],[HH]]),0) -> 3 | AM138: 3 | AN138: =IF(Tabla1[[#This Row],[S/N]]="s",+IFERROR(Tabla1[[#This Row],[HH REAL]]/Tabla1[[#This Row],[HH PLAN]],0),"") -> 1 | AO138: =Tabla1[[#This Row],[FREC CANT]]*Tabla1[[#This Row],[HH REAL]] -> 6
B139: PM02 | D139: DIA | F139: LINEA DE LUB DE CAL | G139: Fabricación de codo para cambio por problemas de fisura. | H139: 2 | I139: 3 | J139: 45377 | K139: 45377 | L139: 45377 | M139: =Tabla1[[#This Row],[REPUESTO]:[SUSTENTO]] -> 0 | N139: =IF(Tabla1[[#This Row],[PM]]="PM01","PREVENTIVO",IF(Tabla1[[#This Row],[PM]]="PM02","BACKLOG","CORRECTIVO")) -> BACKLOG | O139: INST_P_C | P139: =Tabla1[[#This Row],[FREC CANT]] -> 2 | Q139: =Tabla1[[#This Row],[HORAS ACUM SOLICITADO]] -> 3 | R139: =(Tabla1[[#This Row],[H]]*Tabla1[[#This Row],[HH]]) -> 6 | U139: verde | W139: =IF(Tabla1[[#This Row],[SUSTENTO]]="CORRECTIVO","ADICIONAL",IF(AND(Tabla1[[#This Row],[SUSTENTO]]="PREVENTIVO",Tabla1[[#This Row],[INDICADOR]]="VERDE"),"CUMPLIDO",IF(AND(Tabla1[[#This Row],[SUSTENTO]]="BACKLOG",Tabla1[[#This Row],[INDICADOR]]="VERDE"),"CUMPLIDO","PENDIENTE"))) -> CUMPLIDO | X139: =+IF(X$1=Tabla1[[#This Row],[INICIO PARADA]],"X",IF(Tabla1[[#This Row],[FIN PARADA]]=X$1,"X","")) | Y139: =+IF(Y$1=Tabla1[[#This Row],[INICIO PARADA]],"X",IF(Tabla1[[#This Row],[FIN PARADA]]=Y$1,"X","")) | Z139: =+IF(Z$1=Tabla1[[#This Row],[INICIO PARADA]],"X",IF(Tabla1[[#This Row],[FIN PARADA]]=Z$1,"X","")) | AA139: =+IF(AA$1=Tabla1[[#This Row],[INICIO PARADA]],"X",IF(Tabla1[[#This Row],[FIN PARADA]]=AA$1,"X","")) -> X | AB139: =+IF(AB$1=Tabla1[[#This Row],[INICIO PARADA]],"X",IF(Tabla1[[#This Row],[FIN PARADA]]=AB$1,"X","")) | AC139: =+IF(AC$1=Tabla1[[#This Row],[INICIO PARADA]],"X",IF(Tabla1[[#This Row],[FIN PARADA]]=AC$1,"X","")) | AD139: =+IF(AD$1=Tabla1[[#This Row],[INICIO PARADA]],"X",IF(Tabla1[[#This Row],[FIN PARADA]]=AD$1,"X","")) | AE139: =+IF(Tabla1[[#This Row],[SEGUIMIENTO]]="CUMPLIDO","Ejecutada",IF(Tabla1[[#This Row],[SEGUIMIENTO]]="PENDIENTE","No Ejecutada","ADICIONAL")) -> Ejecutada | AF139: MANTTO PLANTA | AG139: SUPERVISOR | AJ139: =IF(Tabla1[[#This Row],[SUSTENTO]]="CORRECTIVO","N","S") -> S | AK139: =+Tabla1[[#This Row],[PERSONAL]] -> INST_P_C | AL139: =+IF(Tabla1[[#This Row],[S/N]]="S",IF(Tabla1[[#This Row],[HH]]=0,Tabla1[[#This Row],[HH//]],Tabla1[[#This Row],[HH]]),0) -> 3 | AM139: 3 | AN139: =IF(Tabla1[[#This Row],[S/N]]="s",+IFERROR(Tabla1[[#This Row],[HH REAL]]/Tabla1[[#This Row],[HH PLAN]],0),"") -> 1 | AO139: =Tabla1[[#This Row],[FREC CANT]]*Tabla1[[#This Row],[HH REAL]] -> 6
B140: PM01 | D140: DIA | F140: MEDICIÓN DE TUBERIAS | G140: Medición de tubería de relave por ultrasonido. Cant. 21 tubos ,Línea 1(270;271;172;273;274) Línea 2(295;296;297;298;299;300), Línea 3(C-215;C-216;216;217;218, Línea 4(300;301;302;303;304) | H140: 2 | I140: 9 | J140: 45377 | K140: 45377 | L140: 45377 | M140: =Tabla1[[#This Row],[REPUESTO]:[SUSTENTO]] -> 0 | N140: =IF(Tabla1[[#This Row],[PM]]="PM01","PREVENTIVO",IF(Tabla1[[#This Row],[PM]]="PM02","BACKLOG","CORRECTIVO")) -> PREVENTIVO | O140: INST_P_C | P140: =Tabla1[[#This Row],[FREC CANT]] -> 2 | Q140: =Tabla1[[#This Row],[HORAS ACUM SOLICITADO]] -> 9 | R140: =(Tabla1[[#This Row],[H]]*Tabla1[[#This Row],[HH]]) -> 18 | U140: verde | W140: =IF(Tabla1[[#This Row],[SUSTENTO]]="CORRECTIVO","ADICIONAL",IF(AND(Tabla1[[#This Row],[SUSTENTO]]="PREVENTIVO",Tabla1[[#This Row],[INDICADOR]]="VERDE"),"CUMPLIDO",IF(AND(Tabla1[[#This Row],[SUSTENTO]]="BACKLOG",Tabla1[[#This Row],[INDICADOR]]="VERDE"),"CUMPLIDO","PENDIENTE"))) -> CUMPLIDO | X140: =+IF(X$1=Tabla1[[#This Row],[INICIO PARADA]],"X",IF(Tabla1[[#This Row],[FIN PARADA]]=X$1,"X","")) | Y140: =+IF(Y$1=Tabla1[[#This Row],[INICIO PARADA]],"X",IF(Tabla1[[#This Row],[FIN PARADA]]=Y$1,"X","")) | Z140: =+IF(Z$1=Tabla1[[#This Row],[INICIO PARADA]],"X",IF(Tabla1[[#This Row],[FIN PARADA]]=Z$1,"X","")) | AA140: =+IF(AA$1=Tabla1[[#This Row],[INICIO PARADA]],"X",IF(Tabla1[[#This Row],[FIN PARADA]]=AA$1,"X","")) -> X | AB140: =+IF(AB$1=Tabla1[[#This Row],[INICIO PARADA]],"X",IF(Tabla1[[#This Row],[FIN PARADA]]=AB$1,"X","")) | AC140: =+IF(AC$1=Tabla1[[#This Row],[INICIO PARADA]],"X",IF(Tabla1[[#This Row],[FIN PARADA]]=AC$1,"X","")) | AD140: =+IF(AD$1=Tabla1[[#This Row],[INICIO PARADA]],"X",IF(Tabla1[[#This Row],[FIN PARADA]]=AD$1,"X","")) | AE140: =+IF(Tabla1[[#This Row],[SEGUIMIENTO]]="CUMPLIDO","Ejecutada",IF(Tabla1[[#This Row],[SEGUIMIENTO]]="PENDIENTE","No Ejecutada","ADICIONAL")) -> Ejecutada | AF140: MANTTO PLANTA | AG140: SUPERVISOR | AJ140: =IF(Tabla1[[#This Row],[SUSTENTO]]="CORRECTIVO","N","S") -> S | AK140: =+Tabla1[[#This Row],[PERSONAL]] -> INST_P_C | AL140: =+IF(Tabla1[[#This Row],[S/N]]="S",IF(Tabla1[[#This Row],[HH]]=0,Tabla1[[#This Row],[HH//]],Tabla1[[#This Row],[HH]]),0) -> 9 | AM140: 9 | AN140: =IF(Tabla1[[#This Row],[S/N]]="s",+IFERROR(Tabla1[[#This Row],[HH REAL]]/Tabla1[[#This Row],[HH PLAN]],0),"") -> 1 | AO140: =Tabla1[[#This Row],[FREC CANT]]*Tabla1[[#This Row],[HH REAL]] -> 18
B141: PM01 | D141: DIA | F141: CELDA FLOTA WEMCO EN SCAVENGER ZINC #09 | G141: Lubricacion de caja de rodamientos | H141: 1 | I141: 0.5 | J141: 45377 | K141: 45377 | L141: 45377 | M141: =Tabla1[[#This Row],[REPUESTO]:[SUSTENTO]] -> 0 | N141: =IF(Tabla1[[#This Row],[PM]]="PM01","PREVENTIVO",IF(Tabla1[[#This Row],[PM]]="PM02","BACKLOG","CORRECTIVO")) -> PREVENTIVO | O141: LUB_P_C | P141: =Tabla1[[#This Row],[FREC CANT]] -> 1 | Q141: =Tabla1[[#This Row],[HORAS ACUM SOLICITADO]] -> 0.5 | R141: =(Tabla1[[#This Row],[H]]*Tabla1[[#This Row],[HH]]) -> 0.5 | U141: verde | W141: =IF(Tabla1[[#This Row],[SUSTENTO]]="CORRECTIVO","ADICIONAL",IF(AND(Tabla1[[#This Row],[SUSTENTO]]="PREVENTIVO",Tabla1[[#This Row],[INDICADOR]]="VERDE"),"CUMPLIDO",IF(AND(Tabla1[[#This Row],[SUSTENTO]]="BACKLOG",Tabla1[[#This Row],[INDICADOR]]="VERDE"),"CUMPLIDO","PENDIENTE"))) -> CUMPLIDO | X141: =+IF(X$1=Tabla1[[#This Row],[INICIO PARADA]],"X",IF(Tabla1[[#This Row],[FIN PARADA]]=X$1,"X","")) | Y141: =+IF(Y$1=Tabla1[[#This Row],[INICIO PARADA]],"X",IF(Tabla1[[#This Row],[FIN PARADA]]=Y$1,"X","")) | Z141: =+IF(Z$1=Tabla1[[#This Row],[INICIO PARADA]],"X",IF(Tabla1[[#This Row],[FIN PARADA]]=Z$1,"X","")) | AA141: =+IF(AA$1=Tabla1[[#This Row],[INICIO PARADA]],"X",IF(Tabla1[[#This Row],[FIN PARADA]]=AA$1,"X","")) -> X | AB141: =+IF(AB$1=Tabla1[[#This Row],[INICIO PARADA]],"X",IF(Tabla1[[#This Row],[FIN PARADA]]=AB$1,"X","")) | AC141: =+IF(AC$1=Tabla1[[#This Row],[INICIO PARADA]],"X",IF(Tabla1[[#This Row],[FIN PARADA]]=AC$1,"X","")) | AD141: =+IF(AD$1=Tabla1[[#This Row],[INICIO PARADA]],"X",IF(Tabla1[[#This Row],[FIN PARADA]]=AD$1,"X","")) | AE141: =+IF(Tabla1[[#This Row],[SEGUIMIENTO]]="CUMPLIDO","Ejecutada",IF(Tabla1[[#This Row],[SEGUIMIENTO]]="PENDIENTE","No Ejecutada","ADICIONAL")) -> Ejecutada | AF141: MANTTO PLANTA | AG141: SUPERVISOR | AJ141: =IF(Tabla1[[#This Row],[SUSTENTO]]="CORRECTIVO","N","S") -> S | AK141: =+Tabla1[[#This Row],[PERSONAL]] -> LUB_P_C | AL141: =+IF(Tabla1[[#This Row],[S/N]]="S",IF(Tabla1[[#This Row],[HH]]=0,Tabla1[[#This Row],[HH//]],Tabla1[[#This Row],[HH]]),0) -> 0.5 | AM141: 0.5 | AN141: =IF(Tabla1[[#This Row],[S/N]]="s",+IFERROR(Tabla1[[#This Row],[HH REAL]]/Tabla1[[#This Row],[HH PLAN]],0),"") -> 1 | AO141: =Tabla1[[#This Row],[FREC CANT]]*Tabla1[[#This Row],[HH REAL]] -> 0.5
B142: PM01 | D142: DIA | F142: CELDA FLOTA WEMCO EN SCAVENGER ZINC #10 | G142: Lubricacion de caja de rodamientos | H142: 1 | I142: 0.5 | J142: 45377 | K142: 45377 | L142: 45377 | M142: =Tabla1[[#This Row],[REPUESTO]:[SUSTENTO]] -> 0 | N142: =IF(Tabla1[[#This Row],[PM]]="PM01","PREVENTIVO",IF(Tabla1[[#This Row],[PM]]="PM02","BACKLOG","CORRECTIVO")) -> PREVENTIVO | O142: LUB_P_C | P142: =Tabla1[[#This Row],[FREC CANT]] -> 1 | Q142: =Tabla1[[#This Row],[HORAS ACUM SOLICITADO]] -> 0.5 | R142: =(Tabla1[[#This Row],[H]]*Tabla1[[#This Row],[HH]]) -> 0.5 | U142: verde | W142: =IF(Tabla1[[#This Row],[SUSTENTO]]="CORRECTIVO","ADICIONAL",IF(AND(Tabla1[[#This Row],[SUSTENTO]]="PREVENTIVO",Tabla1[[#This Row],[INDICADOR]]="VERDE"),"CUMPLIDO",IF(AND(Tabla1[[#This Row],[SUSTENTO]]="BACKLOG",Tabla1[[#This Row],[INDICADOR]]="VERDE"),"CUMPLIDO","PENDIENTE"))) -> CUMPLIDO | X142: =+IF(X$1=Tabla1[[#This Row],[INICIO PARADA]],"X",IF(Tabla1[[#This Row],[FIN PARADA]]=X$1,"X","")) | Y142: =+IF(Y$1=Tabla1[[#This Row],[INICIO PARADA]],"X",IF(Tabla1[[#This Row],[FIN PARADA]]=Y$1,"X","")) | Z142: =+IF(Z$1=Tabla1[[#This Row],[INICIO PARADA]],"X",IF(Tabla1[[#This Row],[FIN PARADA]]=Z$1,"X","")) | AA142: =+IF(AA$1=Tabla1[[#This Row],[INICIO PARADA]],"X",IF(Tabla1[[#This Row],[FIN PARADA]]=AA$1,"X","")) -> X | AB142: =+IF(AB$1=Tabla1[[#This Row],[INICIO PARADA]],"X",IF(Tabla1[[#This Row],[FIN PARADA]]=AB$1,"X","")) | AC142: =+IF(AC$1=Tabla1[[#This Row],[INICIO PARADA]],"X",IF(Tabla1[[#This Row],[FIN PARADA]]=AC$1,"X","")) | AD142: =+IF(AD$1=Tabla1[[#This Row],[INICIO PARADA]],"X",IF(Tabla1[[#This Row],[FIN PARADA]]=AD$1,"X","")) | AE142: =+IF(Tabla1[[#This Row],[SEGUIMIENTO]]="CUMPLIDO","Ejecutada",IF(Tabla1[[#This Row],[SEGUIMIENTO]]="PENDIENTE","No Ejecutada","ADICIONAL")) -> Ejecutada | AF142: MANTTO PLANTA | AG142: SUPERVISOR | AJ142: =IF(Tabla1[[#This Row],[SUSTENTO]]="CORRECTIVO","N","S") -> S | AK142: =+Tabla1[[#This Row],[PERSONAL]] -> LUB_P_C | AL142: =+IF(Tabla1[[#This Row],[S/N]]="S",IF(Tabla1[[#This Row],[HH]]=0,Tabla1[[#This Row],[HH//]],Tabla1[[#This Row],[HH]]),0) -> 0.5 | AM142: 0.5 | AN142: =IF(Tabla1[[#This Row],[S/N]]="s",+IFERROR(Tabla1[[#This Row],[HH REAL]]/Tabla1[[#This Row],[HH PLAN]],0),"") -> 1 | AO142: =Tabla1[[#This Row],[FREC CANT]]*Tabla1[[#This Row],[HH REAL]] -> 0.5
B143: PM01 | D143: DIA | F143: CHANCADORA PRIMARIA OTSUKA FS4840 | G143: Lubricacion de motor electrico | H143: 1 | I143: 0.5 | J143: 45377 | K143: 45377 | L143: 45377 | M143: =Tabla1[[#This Row],[REPUESTO]:[SUSTENTO]] -> 0 | N143: =IF(Tabla1[[#This Row],[PM]]="PM01","PREVENTIVO",IF(Tabla1[[#This Row],[PM]]="PM02","BACKLOG","CORRECTIVO")) -> PREVENTIVO | O143: LUB_P_C | P143: =Tabla1[[#This Row],[FREC CANT]] -> 1 | Q143: =Tabla1[[#This Row],[HORAS ACUM SOLICITADO]] -> 0.5 | R143: =(Tabla1[[#This Row],[H]]*Tabla1[[#This Row],[HH]]) -> 0.5 | U143: verde | W143: =IF(Tabla1[[#This Row],[SUSTENTO]]="CORRECTIVO","ADICIONAL",IF(AND(Tabla1[[#This Row],[SUSTENTO]]="PREVENTIVO",Tabla1[[#This Row],[INDICADOR]]="VERDE"),"CUMPLIDO",IF(AND(Tabla1[[#This Row],[SUSTENTO]]="BACKLOG",Tabla1[[#This Row],[INDICADOR]]="VERDE"),"CUMPLIDO","PENDIENTE"))) -> CUMPLIDO | X143: =+IF(X$1=Tabla1[[#This Row],[INICIO PARADA]],"X",IF(Tabla1[[#This Row],[FIN PARADA]]=X$1,"X","")) | Y143: =+IF(Y$1=Tabla1[[#This Row],[INICIO PARADA]],"X",IF(Tabla1[[#This Row],[FIN PARADA]]=Y$1,"X","")) | Z143: =+IF(Z$1=Tabla1[[#This Row],[INICIO PARADA]],"X",IF(Tabla1[[#This Row],[FIN PARADA]]=Z$1,"X","")) | AA143: =+IF(AA$1=Tabla1[[#This Row],[INICIO PARADA]],"X",IF(Tabla1[[#This Row],[FIN PARADA]]=AA$1,"X","")) -> X | AB143: =+IF(AB$1=Tabla1[[#This Row],[INICIO PARADA]],"X",IF(Tabla1[[#This Row],[FIN PARADA]]=AB$1,"X","")) | AC143: =+IF(AC$1=Tabla1[[#This Row],[INICIO PARADA]],"X",IF(Tabla1[[#This Row],[FIN PARADA]]=AC$1,"X","")) | AD143: =+IF(AD$1=Tabla1[[#This Row],[INICIO PARADA]],"X",IF(Tabla1[[#This Row],[FIN PARADA]]=AD$1,"X","")) | AE143: =+IF(Tabla1[[#This Row],[SEGUIMIENTO]]="CUMPLIDO","Ejecutada",IF(Tabla1[[#This Row],[SEGUIMIENTO]]="PENDIENTE","No Ejecutada","ADICIONAL")) -> Ejecutada | AF143: MANTTO PLANTA | AG143: SUPERVISOR | AJ143: =IF(Tabla1[[#This Row],[SUSTENTO]]="CORRECTIVO","N","S") -> S | AK143: =+Tabla1[[#This Row],[PERSONAL]] -> LUB_P_C | AL143: =+IF(Tabla1[[#This Row],[S/N]]="S",IF(Tabla1[[#This Row],[HH]]=0,Tabla1[[#This Row],[HH//]],Tabla1[[#This Row],[HH]]),0) -> 0.5 | AM143: 0.5 | AN143: =IF(Tabla1[[#This Row],[S/N]]="s",+IFERROR(Tabla1[[#This Row],[HH REAL]]/Tabla1[[#This Row],[HH PLAN]],0),"") -> 1 | AO143: =Tabla1[[#This Row],[FREC CANT]]*Tabla1[[#This Row],[HH REAL]] -> 0.5
B144: PM01 | D144: DIA | F144: MOLINO CILINDRICO FULLER 9.6 X 14 | G144: Lubricacion de motor electrico | H144: 1 | I144: 0.5 | J144: 45377 | K144: 45377 | L144: 45377 | M144: =Tabla1[[#This Row],[REPUESTO]:[SUSTENTO]] -> 0 | N144: =IF(Tabla1[[#This Row],[PM]]="PM01","PREVENTIVO",IF(Tabla1[[#This Row],[PM]]="PM02","BACKLOG","CORRECTIVO")) -> PREVENTIVO | O144: LUB_P_C | P144: =Tabla1[[#This Row],[FREC CANT]] -> 1 | Q144: =Tabla1[[#This Row],[HORAS ACUM SOLICITADO]] -> 0.5 | R144: =(Tabla1[[#This Row],[H]]*Tabla1[[#This Row],[HH]]) -> 0.5 | U144: verde | W144: =IF(Tabla1[[#This Row],[SUSTENTO]]="CORRECTIVO","ADICIONAL",IF(AND(Tabla1[[#This Row],[SUSTENTO]]="PREVENTIVO",Tabla1[[#This Row],[INDICADOR]]="VERDE"),"CUMPLIDO",IF(AND(Tabla1[[#This Row],[SUSTENTO]]="BACKLOG",Tabla1[[#This Row],[INDICADOR]]="VERDE"),"CUMPLIDO","PENDIENTE"))) -> CUMPLIDO | X144: =+IF(X$1=Tabla1[[#This Row],[INICIO PARADA]],"X",IF(Tabla1[[#This Row],[FIN PARADA]]=X$1,"X","")) | Y144: =+IF(Y$1=Tabla1[[#This Row],[INICIO PARADA]],"X",IF(Tabla1[[#This Row],[FIN PARADA]]=Y$1,"X","")) | Z144: =+IF(Z$1=Tabla1[[#This Row],[INICIO PARADA]],"X",IF(Tabla1[[#This Row],[FIN PARADA]]=Z$1,"X","")) | AA144: =+IF(AA$1=Tabla1[[#This Row],[INICIO PARADA]],"X",IF(Tabla1[[#This Row],[FIN PARADA]]=AA$1,"X","")) -> X | AB144: =+IF(AB$1=Tabla1[[#This Row],[INICIO PARADA]],"X",IF(Tabla1[[#This Row],[FIN PARADA]]=AB$1,"X","")) | AC144: =+IF(AC$1=Tabla1[[#This Row],[INICIO PARADA]],"X",IF(Tabla1[[#This Row],[FIN PARADA]]=AC$1,"X","")) | AD144: =+IF(AD$1=Tabla1[[#This Row],[INICIO PARADA]],"X",IF(Tabla1[[#This Row],[FIN PARADA]]=AD$1,"X","")) | AE144: =+IF(Tabla1[[#This Row],[SEGUIMIENTO]]="CUMPLIDO","Ejecutada",IF(Tabla1[[#This Row],[SEGUIMIENTO]]="PENDIENTE","No Ejecutada","ADICIONAL")) -> Ejecutada | AF144: MANTTO PLANTA | AG144: SUPERVISOR | AJ144: =IF(Tabla1[[#This Row],[SUSTENTO]]="CORRECTIVO","N","S") -> S | AK144: =+Tabla1[[#This Row],[PERSONAL]] -> LUB_P_C | AL144: =+IF(Tabla1[[#This Row],[S/N]]="S",IF(Tabla1[[#This Row],[HH]]=0,Tabla1[[#This Row],[HH//]],Tabla1[[#This Row],[HH]]),0) -> 0.5 | AM144: 0.5 | AN144: =IF(Tabla1[[#This Row],[S/N]]="s",+IFERROR(Tabla1[[#This Row],[HH REAL]]/Tabla1[[#This Row],[HH PLAN]],0),"") -> 1 | AO144: =Tabla1[[#This Row],[FREC CANT]]*Tabla1[[#This Row],[HH REAL]] -> 0.5
B145: PM01 | D145: DIA | F145: CHANCADORA PRIMARIA OTSUKA FS4840 | G145: Lubricacion de chumacera eje excentrico | H145: 1 | I145: 1 | J145: 45377 | K145: 45377 | L145: 45377 | M145: =Tabla1[[#This Row],[REPUESTO]:[SUSTENTO]] -> 0 | N145: =IF(Tabla1[[#This Row],[PM]]="PM01","PREVENTIVO",IF(Tabla1[[#This Row],[PM]]="PM02","BACKLOG","CORRECTIVO")) -> PREVENTIVO | O145: LUB_P_C | P145: =Tabla1[[#This Row],[FREC CANT]] -> 1 | Q145: =Tabla1[[#This Row],[HORAS ACUM SOLICITADO]] -> 1 | R145: =(Tabla1[[#This Row],[H]]*Tabla1[[#This Row],[HH]]) -> 1 | U145: verde | W145: =IF(Tabla1[[#This Row],[SUSTENTO]]="CORRECTIVO","ADICIONAL",IF(AND(Tabla1[[#This Row],[SUSTENTO]]="PREVENTIVO",Tabla1[[#This Row],[INDICADOR]]="VERDE"),"CUMPLIDO",IF(AND(Tabla1[[#This Row],[SUSTENTO]]="BACKLOG",Tabla1[[#This Row],[INDICADOR]]="VERDE"),"CUMPLIDO","PENDIENTE"))) -> CUMPLIDO | X145: =+IF(X$1=Tabla1[[#This Row],[INICIO PARADA]],"X",IF(Tabla1[[#This Row],[FIN PARADA]]=X$1,"X","")) | Y145: =+IF(Y$1=Tabla1[[#This Row],[INICIO PARADA]],"X",IF(Tabla1[[#This Row],[FIN PARADA]]=Y$1,"X","")) | Z145: =+IF(Z$1=Tabla1[[#This Row],[INICIO PARADA]],"X",IF(Tabla1[[#This Row],[FIN PARADA]]=Z$1,"X","")) | AA145: =+IF(AA$1=Tabla1[[#This Row],[INICIO PARADA]],"X",IF(Tabla1[[#This Row],[FIN PARADA]]=AA$1,"X","")) -> X | AB145: =+IF(AB$1=Tabla1[[#This Row],[INICIO PARADA]],"X",IF(Tabla1[[#This Row],[FIN PARADA]]=AB$1,"X","")) | AC145: =+IF(AC$1=Tabla1[[#This Row],[INICIO PARADA]],"X",IF(Tabla1[[#This Row],[FIN PARADA]]=AC$1,"X","")) | AD145: =+IF(AD$1=Tabla1[[#This Row],[INICIO PARADA]],"X",IF(Tabla1[[#This Row],[FIN PARADA]]=AD$1,"X","")) | AE145: =+IF(Tabla1[[#This Row],[SEGUIMIENTO]]="CUMPLIDO","Ejecutada",IF(Tabla1[[#This Row],[SEGUIMIENTO]]="PENDIENTE","No Ejecutada","ADICIONAL")) -> Ejecutada | AF145: MANTTO PLANTA | AG145: SUPERVISOR | AJ145: =IF(Tabla1[[#This Row],[SUSTENTO]]="CORRECTIVO","N","S") -> S | AK145: =+Tabla1[[#This Row],[PERSONAL]] -> LUB_P_C | AL145: =+IF(Tabla1[[#This Row],[S/N]]="S",IF(Tabla1[[#This Row],[HH]]=0,Tabla1[[#This Row],[HH//]],Tabla1[[#This Row],[HH]]),0) -> 1 | AM145: 1 | AN145: =IF(Tabla1[[#This Row],[S/N]]="s",+IFERROR(Tabla1[[#This Row],[HH REAL]]/Tabla1[[#This Row],[HH PLAN]],0),"") -> 1 | AO145: =Tabla1[[#This Row],[FREC CANT]]*Tabla1[[#This Row],[HH REAL]] -> 1
B146: PM01 | D146: DIA | F146: CADENA ALIMENTADORA ( APRON FEEDER) QA1548 | G146: Lubricacion de rodillos externos | H146: 1 | I146: 0.5 | J146: 45377 | K146: 45377 | L146: 45377 | M146: =Tabla1[[#This Row],[REPUESTO]:[SUSTENTO]] -> 0 | N146: =IF(Tabla1[[#This Row],[PM]]="PM01","PREVENTIVO",IF(Tabla1[[#This Row],[PM]]="PM02","BACKLOG","CORRECTIVO")) -> PREVENTIVO | O146: LUB_P_C | P146: =Tabla1[[#This Row],[FREC CANT]] -> 1 | Q146: =Tabla1[[#This Row],[HORAS ACUM SOLICITADO]] -> 0.5 | R146: =(Tabla1[[#This Row],[H]]*Tabla1[[#This Row],[HH]]) -> 0.5 | U146: verde | W146: =IF(Tabla1[[#This Row],[SUSTENTO]]="CORRECTIVO","ADICIONAL",IF(AND(Tabla1[[#This Row],[SUSTENTO]]="PREVENTIVO",Tabla1[[#This Row],[INDICADOR]]="VERDE"),"CUMPLIDO",IF(AND(Tabla1[[#This Row],[SUSTENTO]]="BACKLOG",Tabla1[[#This Row],[INDICADOR]]="VERDE"),"CUMPLIDO","PENDIENTE"))) -> CUMPLIDO | X146: =+IF(X$1=Tabla1[[#This Row],[INICIO PARADA]],"X",IF(Tabla1[[#This Row],[FIN PARADA]]=X$1,"X","")) | Y146: =+IF(Y$1=Tabla1[[#This Row],[INICIO PARADA]],"X",IF(Tabla1[[#This Row],[FIN PARADA]]=Y$1,"X","")) | Z146: =+IF(Z$1=Tabla1[[#This Row],[INICIO PARADA]],"X",IF(Tabla1[[#This Row],[FIN PARADA]]=Z$1,"X","")) | AA146: =+IF(AA$1=Tabla1[[#This Row],[INICIO PARADA]],"X",IF(Tabla1[[#This Row],[FIN PARADA]]=AA$1,"X","")) -> X | AB146: =+IF(AB$1=Tabla1[[#This Row],[INICIO PARADA]],"X",IF(Tabla1[[#This Row],[FIN PARADA]]=AB$1,"X","")) | AC146: =+IF(AC$1=Tabla1[[#This Row],[INICIO PARADA]],"X",IF(Tabla1[[#This Row],[FIN PARADA]]=AC$1,"X","")) | AD146: =+IF(AD$1=Tabla1[[#This Row],[INICIO PARADA]],"X",IF(Tabla1[[#This Row],[FIN PARADA]]=AD$1,"X","")) | AE146: =+IF(Tabla1[[#This Row],[SEGUIMIENTO]]="CUMPLIDO","Ejecutada",IF(Tabla1[[#This Row],[SEGUIMIENTO]]="PENDIENTE","No Ejecutada","ADICIONAL")) -> Ejecutada | AF146: MANTTO PLANTA | AG146: SUPERVISOR | AJ146: =IF(Tabla1[[#This Row],[SUSTENTO]]="CORRECTIVO","N","S") -> S | AK146: =+Tabla1[[#This Row],[PERSONAL]] -> LUB_P_C | AL146: =+IF(Tabla1[[#This Row],[S/N]]="S",IF(Tabla1[[#This Row],[HH]]=0,Tabla1[[#This Row],[HH//]],Tabla1[[#This Row],[HH]]),0) -> 0.5 | AM146: 0.5 | AN146: =IF(Tabla1[[#This Row],[S/N]]="s",+IFERROR(Tabla1[[#This Row],[HH REAL]]/Tabla1[[#This Row],[HH PLAN]],0),"") -> 1 | AO146: =Tabla1[[#This Row],[FREC CANT]]*Tabla1[[#This Row],[HH REAL]] -> 0.5
B147: PM01 | D147: DIA | F147: Filtro prensa | G147: Lubricacion de rodillos y pines | H147: 1 | I147: 1 | J147: 45377 | K147: 45377 | L147: 45377 | M147: =Tabla1[[#This Row],[REPUESTO]:[SUSTENTO]] -> 0 | N147: =IF(Tabla1[[#This Row],[PM]]="PM01","PREVENTIVO",IF(Tabla1[[#This Row],[PM]]="PM02","BACKLOG","CORRECTIVO")) -> PREVENTIVO | O147: LUB_P_C | P147: =Tabla1[[#This Row],[FREC CANT]] -> 1 | Q147: =Tabla1[[#This Row],[HORAS ACUM SOLICITADO]] -> 1 | R147: =(Tabla1[[#This Row],[H]]*Tabla1[[#This Row],[HH]]) -> 1 | U147: verde | W147: =IF(Tabla1[[#This Row],[SUSTENTO]]="CORRECTIVO","ADICIONAL",IF(AND(Tabla1[[#This Row],[SUSTENTO]]="PREVENTIVO",Tabla1[[#This Row],[INDICADOR]]="VERDE"),"CUMPLIDO",IF(AND(Tabla1[[#This Row],[SUSTENTO]]="BACKLOG",Tabla1[[#This Row],[INDICADOR]]="VERDE"),"CUMPLIDO","PENDIENTE"))) -> CUMPLIDO | X147: =+IF(X$1=Tabla1[[#This Row],[INICIO PARADA]],"X",IF(Tabla1[[#This Row],[FIN PARADA]]=X$1,"X","")) | Y147: =+IF(Y$1=Tabla1[[#This Row],[INICIO PARADA]],"X",IF(Tabla1[[#This Row],[FIN PARADA]]=Y$1,"X","")) | Z147: =+IF(Z$1=Tabla1[[#This Row],[INICIO PARADA]],"X",IF(Tabla1[[#This Row],[FIN PARADA]]=Z$1,"X","")) | AA147: =+IF(AA$1=Tabla1[[#This Row],[INICIO PARADA]],"X",IF(Tabla1[[#This Row],[FIN PARADA]]=AA$1,"X","")) -> X | AB147: =+IF(AB$1=Tabla1[[#This Row],[INICIO PARADA]],"X",IF(Tabla1[[#This Row],[FIN PARADA]]=AB$1,"X","")) | AC147: =+IF(AC$1=Tabla1[[#This Row],[INICIO PARADA]],"X",IF(Tabla1[[#This Row],[FIN PARADA]]=AC$1,"X","")) | AD147: =+IF(AD$1=Tabla1[[#This Row],[INICIO PARADA]],"X",IF(Tabla1[[#This Row],[FIN PARADA]]=AD$1,"X","")) | AE147: =+IF(Tabla1[[#This Row],[SEGUIMIENTO]]="CUMPLIDO","Ejecutada",IF(Tabla1[[#This Row],[SEGUIMIENTO]]="PENDIENTE","No Ejecutada","ADICIONAL")) -> Ejecutada | AF147: MANTTO PLANTA | AG147: SUPERVISOR | AJ147: =IF(Tabla1[[#This Row],[SUSTENTO]]="CORRECTIVO","N","S") -> S | AK147: =+Tabla1[[#This Row],[PERSONAL]] -> LUB_P_C | AL147: =+IF(Tabla1[[#This Row],[S/N]]="S",IF(Tabla1[[#This Row],[HH]]=0,Tabla1[[#This Row],[HH//]],Tabla1[[#This Row],[HH]]),0) -> 1 | AM147: 1 | AN147: =IF(Tabla1[[#This Row],[S/N]]="s",+IFERROR(Tabla1[[#This Row],[HH REAL]]/Tabla1[[#This Row],[HH PLAN]],0),"") -> 1 | AO147: =Tabla1[[#This Row],[FREC CANT]]*Tabla1[[#This Row],[HH REAL]] -> 1
B148: PM01 | D148: DIA | F148: ESPESADOR DE CAL SANKY 40' | G148: Lubricacion de sistema de transmision | H148: 1 | I148: 1 | J148: 45377 | K148: 45377 | L148: 45377 | M148: =Tabla1[[#This Row],[REPUESTO]:[SUSTENTO]] -> 0 | N148: =IF(Tabla1[[#This Row],[PM]]="PM01","PREVENTIVO",IF(Tabla1[[#This Row],[PM]]="PM02","BACKLOG","CORRECTIVO")) -> PREVENTIVO | O148: LUB_P_C | P148: =Tabla1[[#This Row],[FREC CANT]] -> 1 | Q148: =Tabla1[[#This Row],[HORAS ACUM SOLICITADO]] -> 1 | R148: =(Tabla1[[#This Row],[H]]*Tabla1[[#This Row],[HH]]) -> 1 | U148: verde | W148: =IF(Tabla1[[#This Row],[SUSTENTO]]="CORRECTIVO","ADICIONAL",IF(AND(Tabla1[[#This Row],[SUSTENTO]]="PREVENTIVO",Tabla1[[#This Row],[INDICADOR]]="VERDE"),"CUMPLIDO",IF(AND(Tabla1[[#This Row],[SUSTENTO]]="BACKLOG",Tabla1[[#This Row],[INDICADOR]]="VERDE"),"CUMPLIDO","PENDIENTE"))) -> CUMPLIDO | X148: =+IF(X$1=Tabla1[[#This Row],[INICIO PARADA]],"X",IF(Tabla1[[#This Row],[FIN PARADA]]=X$1,"X","")) | Y148: =+IF(Y$1=Tabla1[[#This Row],[INICIO PARADA]],"X",IF(Tabla1[[#This Row],[FIN PARADA]]=Y$1,"X","")) | Z148: =+IF(Z$1=Tabla1[[#This Row],[INICIO PARADA]],"X",IF(Tabla1[[#This Row],[FIN PARADA]]=Z$1,"X","")) | AA148: =+IF(AA$1=Tabla1[[#This Row],[INICIO PARADA]],"X",IF(Tabla1[[#This Row],[FIN PARADA]]=AA$1,"X","")) -> X | AB148: =+IF(AB$1=Tabla1[[#This Row],[INICIO PARADA]],"X",IF(Tabla1[[#This Row],[FIN PARADA]]=AB$1,"X","")) | AC148: =+IF(AC$1=Tabla1[[#This Row],[INICIO PARADA]],"X",IF(Tabla1[[#This Row],[FIN PARADA]]=AC$1,"X","")) | AD148: =+IF(AD$1=Tabla1[[#This Row],[INICIO PARADA]],"X",IF(Tabla1[[#This Row],[FIN PARADA]]=AD$1,"X","")) | AE148: =+IF(Tabla1[[#This Row],[SEGUIMIENTO]]="CUMPLIDO","Ejecutada",IF(Tabla1[[#This Row],[SEGUIMIENTO]]="PENDIENTE","No Ejecutada","ADICIONAL")) -> Ejecutada | AF148: MANTTO PLANTA | AG148: SUPERVISOR | AJ148: =IF(Tabla1[[#This Row],[SUSTENTO]]="CORRECTIVO","N","S") -> S | AK148: =+Tabla1[[#This Row],[PERSONAL]] -> LUB_P_C | AL148: =+IF(Tabla1[[#This Row],[S/N]]="S",IF(Tabla1[[#This Row],[HH]]=0,Tabla1[[#This Row],[HH//]],Tabla1[[#This Row],[HH]]),0) -> 1 | AM148: 1 | AN148: =IF(Tabla1[[#This Row],[S/N]]="s",+IFERROR(Tabla1[[#This Row],[HH REAL]]/Tabla1[[#This Row],[HH PLAN]],0),"") -> 1 | AO148: =Tabla1[[#This Row],[FREC CANT]]*Tabla1[[#This Row],[HH REAL]] -> 1
B149: PM01 | D149: DIA | F149: Filtro prensa | G149: Lubricacion de compuerta | H149: 1 | I149: 0.5 | J149: 45377 | K149: 45377 | L149: 45377 | M149: =Tabla1[[#This Row],[REPUESTO]:[SUSTENTO]] -> 0 | N149: =IF(Tabla1[[#This Row],[PM]]="PM01","PREVENTIVO",IF(Tabla1[[#This Row],[PM]]="PM02","BACKLOG","CORRECTIVO")) -> PREVENTIVO | O149: LUB_P_C | P149: =Tabla1[[#This Row],[FREC CANT]] -> 1 | Q149: =Tabla1[[#This Row],[HORAS ACUM SOLICITADO]] -> 0.5 | R149: =(Tabla1[[#This Row],[H]]*Tabla1[[#This Row],[HH]]) -> 0.5 | U149: verde | W149: =IF(Tabla1[[#This Row],[SUSTENTO]]="CORRECTIVO","ADICIONAL",IF(AND(Tabla1[[#This Row],[SUSTENTO]]="PREVENTIVO",Tabla1[[#This Row],[INDICADOR]]="VERDE"),"CUMPLIDO",IF(AND(Tabla1[[#This Row],[SUSTENTO]]="BACKLOG",Tabla1[[#This Row],[INDICADOR]]="VERDE"),"CUMPLIDO","PENDIENTE"))) -> CUMPLIDO | X149: =+IF(X$1=Tabla1[[#This Row],[INICIO PARADA]],"X",IF(Tabla1[[#This Row],[FIN PARADA]]=X$1,"X","")) | Y149: =+IF(Y$1=Tabla1[[#This Row],[INICIO PARADA]],"X",IF(Tabla1[[#This Row],[FIN PARADA]]=Y$1,"X","")) | Z149: =+IF(Z$1=Tabla1[[#This Row],[INICIO PARADA]],"X",IF(Tabla1[[#This Row],[FIN PARADA]]=Z$1,"X","")) | AA149: =+IF(AA$1=Tabla1[[#This Row],[INICIO PARADA]],"X",IF(Tabla1[[#This Row],[FIN PARADA]]=AA$1,"X","")) -> X | AB149: =+IF(AB$1=Tabla1[[#This Row],[INICIO PARADA]],"X",IF(Tabla1[[#This Row],[FIN PARADA]]=AB$1,"X","")) | AC149: =+IF(AC$1=Tabla1[[#This Row],[INICIO PARADA]],"X",IF(Tabla1[[#This Row],[FIN PARADA]]=AC$1,"X","")) | AD149: =+IF(AD$1=Tabla1[[#This Row],[INICIO PARADA]],"X",IF(Tabla1[[#This Row],[FIN PARADA]]=AD$1,"X","")) | AE149: =+IF(Tabla1[[#This Row],[SEGUIMIENTO]]="CUMPLIDO","Ejecutada",IF(Tabla1[[#This Row],[SEGUIMIENTO]]="PENDIENTE","No Ejecutada","ADICIONAL")) -> Ejecutada | AF149: MANTTO PLANTA | AG149: SUPERVISOR | AJ149: =IF(Tabla1[[#This Row],[SUSTENTO]]="CORRECTIVO","N","S") -> S | AK149: =+Tabla1[[#This Row],[PERSONAL]] -> LUB_P_C | AL149: =+IF(Tabla1[[#This Row],[S/N]]="S",IF(Tabla1[[#This Row],[HH]]=0,Tabla1[[#This Row],[HH//]],Tabla1[[#This Row],[HH]]),0) -> 0.5 | AM149: 0.5 | AN149: =IF(Tabla1[[#This Row],[S/N]]="s",+IFERROR(Tabla1[[#This Row],[HH REAL]]/Tabla1[[#This Row],[HH PLAN]],0),"") -> 1 | AO149: =Tabla1[[#This Row],[FREC CANT]]*Tabla1[[#This Row],[HH REAL]] -> 0.5
... B199: PM01 | D199: DIA | F199: FAJA 5C | G199: CULMINACION DE LA PREPARACION DE LA BANDA TRANSPORTADORA | H199: 2 | I199: 7 | J199: 45379 | K199: 45379 | L199: 45379 | M199: =Tabla1[[#This Row],[REPUESTO]:[SUSTENTO]] -> 0 | N199: =IF(Tabla1[[#This Row],[PM]]="PM01","PREVENTIVO",IF(Tabla1[[#This Row],[PM]]="PM02","BACKLOG","CORRECTIVO")) -> PREVENTIVO | O199: MEC_P_C | P199: =Tabla1[[#This Row],[FREC CANT]] -> 2 | Q199: =Tabla1[[#This Row],[HORAS ACUM SOLICITADO]] -> 7 | R199: =(Tabla1[[#This Row],[H]]*Tabla1[[#This Row],[HH]]) -> 14 | U199: verde | W199: =IF(Tabla1[[#This Row],[SUSTENTO]]="CORRECTIVO","ADICIONAL",IF(AND(Tabla1[[#This Row],[SUSTENTO]]="PREVENTIVO",Tabla1[[#This Row],[INDICADOR]]="VERDE"),"CUMPLIDO",IF(AND(Tabla1[[#This Row],[SUSTENTO]]="BACKLOG",Tabla1[[#This Row],[INDICADOR]]="VERDE"),"CUMPLIDO","PENDIENTE"))) -> CUMPLIDO | X199: =+IF(X$1=Tabla1[[#This Row],[INICIO PARADA]],"X",IF(Tabla1[[#This Row],[FIN PARADA]]=X$1,"X","")) | Y199: =+IF(Y$1=Tabla1[[#This Row],[INICIO PARADA]],"X",IF(Tabla1[[#This Row],[FIN PARADA]]=Y$1,"X","")) | Z199: =+IF(Z$1=Tabla1[[#This Row],[INICIO PARADA]],"X",IF(Tabla1[[#This Row],[FIN PARADA]]=Z$1,"X","")) | AA199: =+IF(AA$1=Tabla1[[#This Row],[INICIO PARADA]],"X",IF(Tabla1[[#This Row],[FIN PARADA]]=AA$1,"X","")) | AB199: =+IF(AB$1=Tabla1[[#This Row],[INICIO PARADA]],"X",IF(Tabla1[[#This Row],[FIN PARADA]]=AB$1,"X","")) | AC199: =+IF(AC$1=Tabla1[[#This Row],[INICIO PARADA]],"X",IF(Tabla1[[#This Row],[FIN PARADA]]=AC$1,"X","")) -> X | AD199: =+IF(AD$1=Tabla1[[#This Row],[INICIO PARADA]],"X",IF(Tabla1[[#This Row],[FIN PARADA]]=AD$1,"X","")) | AE199: =+IF(Tabla1[[#This Row],[SEGUIMIENTO]]="CUMPLIDO","Ejecutada",IF(Tabla1[[#This Row],[SEGUIMIENTO]]="PENDIENTE","No Ejecutada","ADICIONAL")) -> Ejecutada | AF199: MANTTO PLANTA | AG199: SUPERVISOR | AJ199: =IF(Tabla1[[#This Row],[SUSTENTO]]="CORRECTIVO","N","S") -> S | AK199: =+Tabla1[[#This Row],[PERSONAL]] -> MEC_P_C | AL199: =+IF(Tabla1[[#This Row],[S/N]]="S",IF(Tabla1[[#This Row],[HH]]=0,Tabla1[[#This Row],[HH//]],Tabla1[[#This Row],[HH]]),0) -> 7 | AM199: 7 | AN199: =IF(Tabla1[[#This Row],[S/N]]="s",+IFERROR(Tabla1[[#This Row],[HH REAL]]/Tabla1[[#This Row],[HH PLAN]],0),"") -> 1 | AO199: =Tabla1[[#This Row],[FREC CANT]]*Tabla1[[#This Row],[HH REAL]] -> 14
B200: PM03 | D200: DIA | F200: BOMBA DE LODOS Nº 4 | G200: CAMBIO DE SELLOS Y BOCINA | H200: 2 | I200: 7 | J200: 45379 | K200: 45379 | L200: 45379 | M200: =Tabla1[[#This Row],[REPUESTO]:[SUSTENTO]] -> 0 | N200: =IF(Tabla1[[#This Row],[PM]]="PM01","PREVENTIVO",IF(Tabla1[[#This Row],[PM]]="PM02","BACKLOG","CORRECTIVO")) -> CORRECTIVO | O200: MEC_P_C | P200: =Tabla1[[#This Row],[FREC CANT]] -> 2 | Q200: =Tabla1[[#This Row],[HORAS ACUM SOLICITADO]] -> 7 | R200: =(Tabla1[[#This Row],[H]]*Tabla1[[#This Row],[HH]]) -> 14 | U200: verde | W200: =IF(Tabla1[[#This Row],[SUSTENTO]]="CORRECTIVO","ADICIONAL",IF(AND(Tabla1[[#This Row],[SUSTENTO]]="PREVENTIVO",Tabla1[[#This Row],[INDICADOR]]="VERDE"),"CUMPLIDO",IF(AND(Tabla1[[#This Row],[SUSTENTO]]="BACKLOG",Tabla1[[#This Row],[INDICADOR]]="VERDE"),"CUMPLIDO","PENDIENTE"))) -> ADICIONAL | X200: =+IF(X$1=Tabla1[[#This Row],[INICIO PARADA]],"X",IF(Tabla1[[#This Row],[FIN PARADA]]=X$1,"X","")) | Y200: =+IF(Y$1=Tabla1[[#This Row],[INICIO PARADA]],"X",IF(Tabla1[[#This Row],[FIN PARADA]]=Y$1,"X","")) | Z200: =+IF(Z$1=Tabla1[[#This Row],[INICIO PARADA]],"X",IF(Tabla1[[#This Row],[FIN PARADA]]=Z$1,"X","")) | AA200: =+IF(AA$1=Tabla1[[#This Row],[INICIO PARADA]],"X",IF(Tabla1[[#This Row],[FIN PARADA]]=AA$1,"X","")) | AB200: =+IF(AB$1=Tabla1[[#This Row],[INICIO PARADA]],"X",IF(Tabla1[[#This Row],[FIN PARADA]]=AB$1,"X","")) | AC200: =+IF(AC$1=Tabla1[[#This Row],[INICIO PARADA]],"X",IF(Tabla1[[#This Row],[FIN PARADA]]=AC$1,"X","")) -> X | AD200: =+IF(AD$1=Tabla1[[#This Row],[INICIO PARADA]],"X",IF(Tabla1[[#This Row],[FIN PARADA]]=AD$1,"X","")) | AE200: =+IF(Tabla1[[#This Row],[SEGUIMIENTO]]="CUMPLIDO","Ejecutada",IF(Tabla1[[#This Row],[SEGUIMIENTO]]="PENDIENTE","No Ejecutada","ADICIONAL")) -> ADICIONAL | AF200: MANTTO PLANTA | AG200: SUPERVISOR | AH200: No incluída en Backlog | AJ200: =IF(Tabla1[[#This Row],[SUSTENTO]]="CORRECTIVO","N","S") -> N | AK200: =+Tabla1[[#This Row],[PERSONAL]] -> MEC_P_C | AL200: =+IF(Tabla1[[#This Row],[S/N]]="S",IF(Tabla1[[#This Row],[HH]]=0,Tabla1[[#This Row],[HH//]],Tabla1[[#This Row],[HH]]),0) -> 0 | AM200: 7 | AN200: =IF(Tabla1[[#This Row],[S/N]]="s",+IFERROR(Tabla1[[#This Row],[HH REAL]]/Tabla1[[#This Row],[HH PLAN]],0),"") | AO200: =Tabla1[[#This Row],[FREC CANT]]*Tabla1[[#This Row],[HH REAL]] -> 14
B201: PM01 | D201: DIA | F201: BOMBA VERTICAL 2,5 DEL CLARIFICADOR Nº 1 | G201: INSPECCION DE LA BOMBA. LOS COMPONENTES SE ENCUENTRAN EN BUEN ESTADO | H201: 2 | I201: 2 | J201: 45379 | K201: 45379 | L201: 45379 | M201: =Tabla1[[#This Row],[REPUESTO]:[SUSTENTO]] -> 0 | N201: =IF(Tabla1[[#This Row],[PM]]="PM01","PREVENTIVO",IF(Tabla1[[#This Row],[PM]]="PM02","BACKLOG","CORRECTIVO")) -> PREVENTIVO | O201: MEC_P_C | P201: =Tabla1[[#This Row],[FREC CANT]] -> 2 | Q201: =Tabla1[[#This Row],[HORAS ACUM SOLICITADO]] -> 2 | R201: =(Tabla1[[#This Row],[H]]*Tabla1[[#This Row],[HH]]) -> 4 | U201: verde | W201: =IF(Tabla1[[#This Row],[SUSTENTO]]="CORRECTIVO","ADICIONAL",IF(AND(Tabla1[[#This Row],[SUSTENTO]]="PREVENTIVO",Tabla1[[#This Row],[INDICADOR]]="VERDE"),"CUMPLIDO",IF(AND(Tabla1[[#This Row],[SUSTENTO]]="BACKLOG",Tabla1[[#This Row],[INDICADOR]]="VERDE"),"CUMPLIDO","PENDIENTE"))) -> CUMPLIDO | X201: =+IF(X$1=Tabla1[[#This Row],[INICIO PARADA]],"X",IF(Tabla1[[#This Row],[FIN PARADA]]=X$1,"X","")) | Y201: =+IF(Y$1=Tabla1[[#This Row],[INICIO PARADA]],"X",IF(Tabla1[[#This Row],[FIN PARADA]]=Y$1,"X","")) | Z201: =+IF(Z$1=Tabla1[[#This Row],[INICIO PARADA]],"X",IF(Tabla1[[#This Row],[FIN PARADA]]=Z$1,"X","")) | AA201: =+IF(AA$1=Tabla1[[#This Row],[INICIO PARADA]],"X",IF(Tabla1[[#This Row],[FIN PARADA]]=AA$1,"X","")) | AB201: =+IF(AB$1=Tabla1[[#This Row],[INICIO PARADA]],"X",IF(Tabla1[[#This Row],[FIN PARADA]]=AB$1,"X","")) | AC201: =+IF(AC$1=Tabla1[[#This Row],[INICIO PARADA]],"X",IF(Tabla1[[#This Row],[FIN PARADA]]=AC$1,"X","")) -> X | AD201: =+IF(AD$1=Tabla1[[#This Row],[INICIO PARADA]],"X",IF(Tabla1[[#This Row],[FIN PARADA]]=AD$1,"X","")) | AE201: =+IF(Tabla1[[#This Row],[SEGUIMIENTO]]="CUMPLIDO","Ejecutada",IF(Tabla1[[#This Row],[SEGUIMIENTO]]="PENDIENTE","No Ejecutada","ADICIONAL")) -> Ejecutada | AF201: MANTTO PLANTA | AG201: SUPERVISOR | AJ201: =IF(Tabla1[[#This Row],[SUSTENTO]]="CORRECTIVO","N","S") -> S | AK201: =+Tabla1[[#This Row],[PERSONAL]] -> MEC_P_C | AL201: =+IF(Tabla1[[#This Row],[S/N]]="S",IF(Tabla1[[#This Row],[HH]]=0,Tabla1[[#This Row],[HH//]],Tabla1[[#This Row],[HH]]),0) -> 2 | AM201: 2 | AN201: =IF(Tabla1[[#This Row],[S/N]]="s",+IFERROR(Tabla1[[#This Row],[HH REAL]]/Tabla1[[#This Row],[HH PLAN]],0),"") -> 1 | AO201: =Tabla1[[#This Row],[FREC CANT]]*Tabla1[[#This Row],[HH REAL]] -> 4
B202: PM01 | D202: DIA | F202: BOMBA HIDROSTAL STAND BY DE NOVA | G202: PREPARACION DE BOMBA DE STAND BY | H202: 2 | I202: 7 | J202: 45379 | K202: 45379 | L202: 45379 | M202: =Tabla1[[#This Row],[REPUESTO]:[SUSTENTO]] -> 0 | N202: =IF(Tabla1[[#This Row],[PM]]="PM01","PREVENTIVO",IF(Tabla1[[#This Row],[PM]]="PM02","BACKLOG","CORRECTIVO")) -> PREVENTIVO | O202: MEC_P_C | P202: =Tabla1[[#This Row],[FREC CANT]] -> 2 | Q202: =Tabla1[[#This Row],[HORAS ACUM SOLICITADO]] -> 7 | R202: =(Tabla1[[#This Row],[H]]*Tabla1[[#This Row],[HH]]) -> 14 | U202: verde | W202: =IF(Tabla1[[#This Row],[SUSTENTO]]="CORRECTIVO","ADICIONAL",IF(AND(Tabla1[[#This Row],[SUSTENTO]]="PREVENTIVO",Tabla1[[#This Row],[INDICADOR]]="VERDE"),"CUMPLIDO",IF(AND(Tabla1[[#This Row],[SUSTENTO]]="BACKLOG",Tabla1[[#This Row],[INDICADOR]]="VERDE"),"CUMPLIDO","PENDIENTE"))) -> CUMPLIDO | X202: =+IF(X$1=Tabla1[[#This Row],[INICIO PARADA]],"X",IF(Tabla1[[#This Row],[FIN PARADA]]=X$1,"X","")) | Y202: =+IF(Y$1=Tabla1[[#This Row],[INICIO PARADA]],"X",IF(Tabla1[[#This Row],[FIN PARADA]]=Y$1,"X","")) | Z202: =+IF(Z$1=Tabla1[[#This Row],[INICIO PARADA]],"X",IF(Tabla1[[#This Row],[FIN PARADA]]=Z$1,"X","")) | AA202: =+IF(AA$1=Tabla1[[#This Row],[INICIO PARADA]],"X",IF(Tabla1[[#This Row],[FIN PARADA]]=AA$1,"X","")) | AB202: =+IF(AB$1=Tabla1[[#This Row],[INICIO PARADA]],"X",IF(Tabla1[[#This Row],[FIN PARADA]]=AB$1,"X","")) | AC202: =+IF(AC$1=Tabla1[[#This Row],[INICIO PARADA]],"X",IF(Tabla1[[#This Row],[FIN PARADA]]=AC$1,"X","")) -> X | AD202: =+IF(AD$1=Tabla1[[#This Row],[INICIO PARADA]],"X",IF(Tabla1[[#This Row],[FIN PARADA]]=AD$1,"X","")) | AE202: =+IF(Tabla1[[#This Row],[SEGUIMIENTO]]="CUMPLIDO","Ejecutada",IF(Tabla1[[#This Row],[SEGUIMIENTO]]="PENDIENTE","No Ejecutada","ADICIONAL")) -> Ejecutada | AF202: MANTTO PLANTA | AG202: SUPERVISOR | AJ202: =IF(Tabla1[[#This Row],[SUSTENTO]]="CORRECTIVO","N","S") -> S | AK202: =+Tabla1[[#This Row],[PERSONAL]] -> MEC_P_C | AL202: =+IF(Tabla1[[#This Row],[S/N]]="S",IF(Tabla1[[#This Row],[HH]]=0,Tabla1[[#This Row],[HH//]],Tabla1[[#This Row],[HH]]),0) -> 7 | AM202: 7 | AN202: =IF(Tabla1[[#This Row],[S/N]]="s",+IFERROR(Tabla1[[#This Row],[HH REAL]]/Tabla1[[#This Row],[HH PLAN]],0),"") -> 1 | AO202: =Tabla1[[#This Row],[FREC CANT]]*Tabla1[[#This Row],[HH REAL]] -> 14
B203: PM01 | D203: DIA | F203: BOMBAS MARS | G203: INSPECCION, ORDEN Y LIMPIEZA DEL AREA | H203: 2 | I203: 2 | J203: 45379 | K203: 45379 | L203: 45379 | M203: =Tabla1[[#This Row],[REPUESTO]:[SUSTENTO]] -> 0 | N203: =IF(Tabla1[[#This Row],[PM]]="PM01","PREVENTIVO",IF(Tabla1[[#This Row],[PM]]="PM02","BACKLOG","CORRECTIVO")) -> PREVENTIVO | O203: MEC_P_C | P203: =Tabla1[[#This Row],[FREC CANT]] -> 2 | Q203: =Tabla1[[#This Row],[HORAS ACUM SOLICITADO]] -> 2 | R203: =(Tabla1[[#This Row],[H]]*Tabla1[[#This Row],[HH]]) -> 4 | U203: verde | W203: =IF(Tabla1[[#This Row],[SUSTENTO]]="CORRECTIVO","ADICIONAL",IF(AND(Tabla1[[#This Row],[SUSTENTO]]="PREVENTIVO",Tabla1[[#This Row],[INDICADOR]]="VERDE"),"CUMPLIDO",IF(AND(Tabla1[[#This Row],[SUSTENTO]]="BACKLOG",Tabla1[[#This Row],[INDICADOR]]="VERDE"),"CUMPLIDO","PENDIENTE"))) -> CUMPLIDO | X203: =+IF(X$1=Tabla1[[#This Row],[INICIO PARADA]],"X",IF(Tabla1[[#This Row],[FIN PARADA]]=X$1,"X","")) | Y203: =+IF(Y$1=Tabla1[[#This Row],[INICIO PARADA]],"X",IF(Tabla1[[#This Row],[FIN PARADA]]=Y$1,"X","")) | Z203: =+IF(Z$1=Tabla1[[#This Row],[INICIO PARADA]],"X",IF(Tabla1[[#This Row],[FIN PARADA]]=Z$1,"X","")) | AA203: =+IF(AA$1=Tabla1[[#This Row],[INICIO PARADA]],"X",IF(Tabla1[[#This Row],[FIN PARADA]]=AA$1,"X","")) | AB203: =+IF(AB$1=Tabla1[[#This Row],[INICIO PARADA]],"X",IF(Tabla1[[#This Row],[FIN PARADA]]=AB$1,"X","")) | AC203: =+IF(AC$1=Tabla1[[#This Row],[INICIO PARADA]],"X",IF(Tabla1[[#This Row],[FIN PARADA]]=AC$1,"X","")) -> X | AD203: =+IF(AD$1=Tabla1[[#This Row],[INICIO PARADA]],"X",IF(Tabla1[[#This Row],[FIN PARADA]]=AD$1,"X","")) | AE203: =+IF(Tabla1[[#This Row],[SEGUIMIENTO]]="CUMPLIDO","Ejecutada",IF(Tabla1[[#This Row],[SEGUIMIENTO]]="PENDIENTE","No Ejecutada","ADICIONAL")) -> Ejecutada | AF203: MANTTO PLANTA | AG203: SUPERVISOR | AJ203: =IF(Tabla1[[#This Row],[SUSTENTO]]="CORRECTIVO","N","S") -> S | AK203: =+Tabla1[[#This Row],[PERSONAL]] -> MEC_P_C | AL203: =+IF(Tabla1[[#This Row],[S/N]]="S",IF(Tabla1[[#This Row],[HH]]=0,Tabla1[[#This Row],[HH//]],Tabla1[[#This Row],[HH]]),0) -> 2 | AM203: 2 | AN203: =IF(Tabla1[[#This Row],[S/N]]="s",+IFERROR(Tabla1[[#This Row],[HH REAL]]/Tabla1[[#This Row],[HH PLAN]],0),"") -> 1 | AO203: =Tabla1[[#This Row],[FREC CANT]]*Tabla1[[#This Row],[HH REAL]] -> 4
B204: PM01 | D204: DIA | F204: BOMBA 6X4 EG | G204: HABILITACION DE BOMBA DE STAND BY | H204: 2 | I204: 5 | J204: 45379 | K204: 45379 | L204: 45379 | M204: =Tabla1[[#This Row],[REPUESTO]:[SUSTENTO]] -> 0 | N204: =IF(Tabla1[[#This Row],[PM]]="PM01","PREVENTIVO",IF(Tabla1[[#This Row],[PM]]="PM02","BACKLOG","CORRECTIVO")) -> PREVENTIVO | O204: MEC_P_C | P204: =Tabla1[[#This Row],[FREC CANT]] -> 2 | Q204: =Tabla1[[#This Row],[HORAS ACUM SOLICITADO]] -> 5 | R204: =(Tabla1[[#This Row],[H]]*Tabla1[[#This Row],[HH]]) -> 10 | U204: verde | W204: =IF(Tabla1[[#This Row],[SUSTENTO]]="CORRECTIVO","ADICIONAL",IF(AND(Tabla1[[#This Row],[SUSTENTO]]="PREVENTIVO",Tabla1[[#This Row],[INDICADOR]]="VERDE"),"CUMPLIDO",IF(AND(Tabla1[[#This Row],[SUSTENTO]]="BACKLOG",Tabla1[[#This Row],[INDICADOR]]="VERDE"),"CUMPLIDO","PENDIENTE"))) -> CUMPLIDO | X204: =+IF(X$1=Tabla1[[#This Row],[INICIO PARADA]],"X",IF(Tabla1[[#This Row],[FIN PARADA]]=X$1,"X","")) | Y204: =+IF(Y$1=Tabla1[[#This Row],[INICIO PARADA]],"X",IF(Tabla1[[#This Row],[FIN PARADA]]=Y$1,"X","")) | Z204: =+IF(Z$1=Tabla1[[#This Row],[INICIO PARADA]],"X",IF(Tabla1[[#This Row],[FIN PARADA]]=Z$1,"X","")) | AA204: =+IF(AA$1=Tabla1[[#This Row],[INICIO PARADA]],"X",IF(Tabla1[[#This Row],[FIN PARADA]]=AA$1,"X","")) | AB204: =+IF(AB$1=Tabla1[[#This Row],[INICIO PARADA]],"X",IF(Tabla1[[#This Row],[FIN PARADA]]=AB$1,"X","")) | AC204: =+IF(AC$1=Tabla1[[#This Row],[INICIO PARADA]],"X",IF(Tabla1[[#This Row],[FIN PARADA]]=AC$1,"X","")) -> X | AD204: =+IF(AD$1=Tabla1[[#This Row],[INICIO PARADA]],"X",IF(Tabla1[[#This Row],[FIN PARADA]]=AD$1,"X","")) | AE204: =+IF(Tabla1[[#This Row],[SEGUIMIENTO]]="CUMPLIDO","Ejecutada",IF(Tabla1[[#This Row],[SEGUIMIENTO]]="PENDIENTE","No Ejecutada","ADICIONAL")) -> Ejecutada | AF204: MANTTO PLANTA | AG204: SUPERVISOR | AJ204: =IF(Tabla1[[#This Row],[SUSTENTO]]="CORRECTIVO","N","S") -> S | AK204: =+Tabla1[[#This Row],[PERSONAL]] -> MEC_P_C | AL204: =+IF(Tabla1[[#This Row],[S/N]]="S",IF(Tabla1[[#This Row],[HH]]=0,Tabla1[[#This Row],[HH//]],Tabla1[[#This Row],[HH]]),0) -> 5 | AM204: 5 | AN204: =IF(Tabla1[[#This Row],[S/N]]="s",+IFERROR(Tabla1[[#This Row],[HH REAL]]/Tabla1[[#This Row],[HH PLAN]],0),"") -> 1 | AO204: =Tabla1[[#This Row],[FREC CANT]]*Tabla1[[#This Row],[HH REAL]] -> 10
B205: PM01 | D205: DIA | F205: BOMBA 8X6 FAH | G205: HABILITACION DE CAJA DE RODAMIENTOS. AVANCE 50% | H205: 2 | I205: 4 | J205: 45379 | K205: 45379 | L205: 45379 | M205: =Tabla1[[#This Row],[REPUESTO]:[SUSTENTO]] -> 0 | N205: =IF(Tabla1[[#This Row],[PM]]="PM01","PREVENTIVO",IF(Tabla1[[#This Row],[PM]]="PM02","BACKLOG","CORRECTIVO")) -> PREVENTIVO | O205: MEC_P_C | P205: =Tabla1[[#This Row],[FREC CANT]] -> 2 | Q205: =Tabla1[[#This Row],[HORAS ACUM SOLICITADO]] -> 4 | R205: =(Tabla1[[#This Row],[H]]*Tabla1[[#This Row],[HH]]) -> 8 | U205: verde | W205: =IF(Tabla1[[#This Row],[SUSTENTO]]="CORRECTIVO","ADICIONAL",IF(AND(Tabla1[[#This Row],[SUSTENTO]]="PREVENTIVO",Tabla1[[#This Row],[INDICADOR]]="VERDE"),"CUMPLIDO",IF(AND(Tabla1[[#This Row],[SUSTENTO]]="BACKLOG",Tabla1[[#This Row],[INDICADOR]]="VERDE"),"CUMPLIDO","PENDIENTE"))) -> CUMPLIDO | X205: =+IF(X$1=Tabla1[[#This Row],[INICIO PARADA]],"X",IF(Tabla1[[#This Row],[FIN PARADA]]=X$1,"X","")) | Y205: =+IF(Y$1=Tabla1[[#This Row],[INICIO PARADA]],"X",IF(Tabla1[[#This Row],[FIN PARADA]]=Y$1,"X","")) | Z205: =+IF(Z$1=Tabla1[[#This Row],[INICIO PARADA]],"X",IF(Tabla1[[#This Row],[FIN PARADA]]=Z$1,"X","")) | AA205: =+IF(AA$1=Tabla1[[#This Row],[INICIO PARADA]],"X",IF(Tabla1[[#This Row],[FIN PARADA]]=AA$1,"X","")) | AB205: =+IF(AB$1=Tabla1[[#This Row],[INICIO PARADA]],"X",IF(Tabla1[[#This Row],[FIN PARADA]]=AB$1,"X","")) | AC205: =+IF(AC$1=Tabla1[[#This Row],[INICIO PARADA]],"X",IF(Tabla1[[#This Row],[FIN PARADA]]=AC$1,"X","")) -> X | AD205: =+IF(AD$1=Tabla1[[#This Row],[INICIO PARADA]],"X",IF(Tabla1[[#This Row],[FIN PARADA]]=AD$1,"X","")) | AE205: =+IF(Tabla1[[#This Row],[SEGUIMIENTO]]="CUMPLIDO","Ejecutada",IF(Tabla1[[#This Row],[SEGUIMIENTO]]="PENDIENTE","No Ejecutada","ADICIONAL")) -> Ejecutada | AF205: MANTTO PLANTA | AG205: SUPERVISOR | AJ205: =IF(Tabla1[[#This Row],[SUSTENTO]]="CORRECTIVO","N","S") -> S | AK205: =+Tabla1[[#This Row],[PERSONAL]] -> MEC_P_C | AL205: =+IF(Tabla1[[#This Row],[S/N]]="S",IF(Tabla1[[#This Row],[HH]]=0,Tabla1[[#This Row],[HH//]],Tabla1[[#This Row],[HH]]),0) -> 4 | AM205: 4 | AN205: =IF(Tabla1[[#This Row],[S/N]]="s",+IFERROR(Tabla1[[#This Row],[HH REAL]]/Tabla1[[#This Row],[HH PLAN]],0),"") -> 1 | AO205: =Tabla1[[#This Row],[FREC CANT]]*Tabla1[[#This Row],[HH REAL]] -> 8
B206: PM01 | D206: DIA | F206: PLANTA CONCENTRADORA | G206: Bloqueo de equipos para intervención de mantto. Atención de llamados. | H206: 1 | I206: 9 | J206: 45379 | K206: 45379 | L206: 45379 | M206: =Tabla1[[#This Row],[REPUESTO]:[SUSTENTO]] -> 0 | N206: =IF(Tabla1[[#This Row],[PM]]="PM01","PREVENTIVO",IF(Tabla1[[#This Row],[PM]]="PM02","BACKLOG","CORRECTIVO")) -> PREVENTIVO | O206: ELE_P_C | P206: =Tabla1[[#This Row],[FREC CANT]] -> 1 | Q206: =Tabla1[[#This Row],[HORAS ACUM SOLICITADO]] -> 9 | R206: =(Tabla1[[#This Row],[H]]*Tabla1[[#This Row],[HH]]) -> 9 | U206: verde | W206: =IF(Tabla1[[#This Row],[SUSTENTO]]="CORRECTIVO","ADICIONAL",IF(AND(Tabla1[[#This Row],[SUSTENTO]]="PREVENTIVO",Tabla1[[#This Row],[INDICADOR]]="VERDE"),"CUMPLIDO",IF(AND(Tabla1[[#This Row],[SUSTENTO]]="BACKLOG",Tabla1[[#This Row],[INDICADOR]]="VERDE"),"CUMPLIDO","PENDIENTE"))) -> CUMPLIDO | X206: =+IF(X$1=Tabla1[[#This Row],[INICIO PARADA]],"X",IF(Tabla1[[#This Row],[FIN PARADA]]=X$1,"X","")) | Y206: =+IF(Y$1=Tabla1[[#This Row],[INICIO PARADA]],"X",IF(Tabla1[[#This Row],[FIN PARADA]]=Y$1,"X","")) | Z206: =+IF(Z$1=Tabla1[[#This Row],[INICIO PARADA]],"X",IF(Tabla1[[#This Row],[FIN PARADA]]=Z$1,"X","")) | AA206: =+IF(AA$1=Tabla1[[#This Row],[INICIO PARADA]],"X",IF(Tabla1[[#This Row],[FIN PARADA]]=AA$1,"X","")) | AB206: =+IF(AB$1=Tabla1[[#This Row],[INICIO PARADA]],"X",IF(Tabla1[[#This Row],[FIN PARADA]]=AB$1,"X","")) | AC206: =+IF(AC$1=Tabla1[[#This Row],[INICIO PARADA]],"X",IF(Tabla1[[#This Row],[FIN PARADA]]=AC$1,"X","")) -> X | AD206: =+IF(AD$1=Tabla1[[#This Row],[INICIO PARADA]],"X",IF(Tabla1[[#This Row],[FIN PARADA]]=AD$1,"X","")) | AE206: =+IF(Tabla1[[#This Row],[SEGUIMIENTO]]="CUMPLIDO","Ejecutada",IF(Tabla1[[#This Row],[SEGUIMIENTO]]="PENDIENTE","No Ejecutada","ADICIONAL")) -> Ejecutada | AF206: MANTTO PLANTA | AG206: SUPERVISOR | AJ206: =IF(Tabla1[[#This Row],[SUSTENTO]]="CORRECTIVO","N","S") -> S | AK206: =+Tabla1[[#This Row],[PERSONAL]] -> ELE_P_C | AL206: =+IF(Tabla1[[#This Row],[S/N]]="S",IF(Tabla1[[#This Row],[HH]]=0,Tabla1[[#This Row],[HH//]],Tabla1[[#This Row],[HH]]),0) -> 9 | AM206: 9 | AN206: =IF(Tabla1[[#This Row],[S/N]]="s",+IFERROR(Tabla1[[#This Row],[HH REAL]]/Tabla1[[#This Row],[HH PLAN]],0),"") -> 1 | AO206: =Tabla1[[#This Row],[FREC CANT]]*Tabla1[[#This Row],[HH REAL]] -> 9
B207: PM01 | D207: DIA | F207: BOMBA NOVA N 3 | G207: SE ESTA REALIZANDO PREPARATIVOS DE MATERIALES ELECTRICOS PARA EL CAMBIO DE BOMBA A HIDROSTAL | H207: 2 | I207: 6 | J207: 45379 | K207: 45379 | L207: 45379 | M207: =Tabla1[[#This Row],[REPUESTO]:[SUSTENTO]] -> 0 | N207: =IF(Tabla1[[#This Row],[PM]]="PM01","PREVENTIVO",IF(Tabla1[[#This Row],[PM]]="PM02","BACKLOG","CORRECTIVO")) -> PREVENTIVO | O207: ELE_P_C | P207: =Tabla1[[#This Row],[FREC CANT]] -> 2 | Q207: =Tabla1[[#This Row],[HORAS ACUM SOLICITADO]] -> 6 | R207: =(Tabla1[[#This Row],[H]]*Tabla1[[#This Row],[HH]]) -> 12 | U207: verde | W207: =IF(Tabla1[[#This Row],[SUSTENTO]]="CORRECTIVO","ADICIONAL",IF(AND(Tabla1[[#This Row],[SUSTENTO]]="PREVENTIVO",Tabla1[[#This Row],[INDICADOR]]="VERDE"),"CUMPLIDO",IF(AND(Tabla1[[#This Row],[SUSTENTO]]="BACKLOG",Tabla1[[#This Row],[INDICADOR]]="VERDE"),"CUMPLIDO","PENDIENTE"))) -> CUMPLIDO | X207: =+IF(X$1=Tabla1[[#This Row],[INICIO PARADA]],"X",IF(Tabla1[[#This Row],[FIN PARADA]]=X$1,"X","")) | Y207: =+IF(Y$1=Tabla1[[#This Row],[INICIO PARADA]],"X",IF(Tabla1[[#This Row],[FIN PARADA]]=Y$1,"X","")) | Z207: =+IF(Z$1=Tabla1[[#This Row],[INICIO PARADA]],"X",IF(Tabla1[[#This Row],[FIN PARADA]]=Z$1,"X","")) | AA207: =+IF(AA$1=Tabla1[[#This Row],[INICIO PARADA]],"X",IF(Tabla1[[#This Row],[FIN PARADA]]=AA$1,"X","")) | AB207: =+IF(AB$1=Tabla1[[#This Row],[INICIO PARADA]],"X",IF(Tabla1[[#This Row],[FIN PARADA]]=AB$1,"X","")) | AC207: =+IF(AC$1=Tabla1[[#This Row],[INICIO PARADA]],"X",IF(Tabla1[[#This Row],[FIN PARADA]]=AC$1,"X","")) -> X | AD207: =+IF(AD$1=Tabla1[[#This Row],[INICIO PARADA]],"X",IF(Tabla1[[#This Row],[FIN PARADA]]=AD$1,"X","")) | AE207: =+IF(Tabla1[[#This Row],[SEGUIMIENTO]]="CUMPLIDO","Ejecutada",IF(Tabla1[[#This Row],[SEGUIMIENTO]]="PENDIENTE","No Ejecutada","ADICIONAL")) -> Ejecutada | AF207: MANTTO PLANTA | AG207: SUPERVISOR | AJ207: =IF(Tabla1[[#This Row],[SUSTENTO]]="CORRECTIVO","N","S") -> S | AK207: =+Tabla1[[#This Row],[PERSONAL]] -> ELE_P_C | AL207: =+IF(Tabla1[[#This Row],[S/N]]="S",IF(Tabla1[[#This Row],[HH]]=0,Tabla1[[#This Row],[HH//]],Tabla1[[#This Row],[HH]]),0) -> 6 | AM207: 6 | AN207: =IF(Tabla1[[#This Row],[S/N]]="s",+IFERROR(Tabla1[[#This Row],[HH REAL]]/Tabla1[[#This Row],[HH PLAN]],0),"") -> 1 | AO207: =Tabla1[[#This Row],[FREC CANT]]*Tabla1[[#This Row],[HH REAL]] -> 12
B208: PM02 | D208: DIA | F208: PLANTA CONCENTRADORA | G208: Se levanto la observaciones de tableros eléctricos, pintado y colocación de señaletica. Se realizó la revision, rotulado de los notores de stand by del taller eléctrico. Se está alistando motores de cambio para la parada. Se sigue con el llenado de datos de motores para regularizar la data de motores de estambay. Se verifico las luminarias de la cancha de plomo, se colocará una fotoselula. Se realizó el bloqueo y desbloqueo de los equipos de planta. | H208: 1 | I208: 3 | J208: 45379 | K208: 45379 | L208: 45379 | M208: =Tabla1[[#This Row],[REPUESTO]:[SUSTENTO]] -> 0 | N208: =IF(Tabla1[[#This Row],[PM]]="PM01","PREVENTIVO",IF(Tabla1[[#This Row],[PM]]="PM02","BACKLOG","CORRECTIVO")) -> BACKLOG | O208: ELE_P_C | P208: =Tabla1[[#This Row],[FREC CANT]] -> 1 | Q208: =Tabla1[[#This Row],[HORAS ACUM SOLICITADO]] -> 3 | R208: =(Tabla1[[#This Row],[H]]*Tabla1[[#This Row],[HH]]) -> 3 | U208: verde | W208: =IF(Tabla1[[#This Row],[SUSTENTO]]="CORRECTIVO","ADICIONAL",IF(AND(Tabla1[[#This Row],[SUSTENTO]]="PREVENTIVO",Tabla1[[#This Row],[INDICADOR]]="VERDE"),"CUMPLIDO",IF(AND(Tabla1[[#This Row],[SUSTENTO]]="BACKLOG",Tabla1[[#This Row],[INDICADOR]]="VERDE"),"CUMPLIDO","PENDIENTE"))) -> CUMPLIDO | X208: =+IF(X$1=Tabla1[[#This Row],[INICIO PARADA]],"X",IF(Tabla1[[#This Row],[FIN PARADA]]=X$1,"X","")) | Y208: =+IF(Y$1=Tabla1[[#This Row],[INICIO PARADA]],"X",IF(Tabla1[[#This Row],[FIN PARADA]]=Y$1,"X","")) | Z208: =+IF(Z$1=Tabla1[[#This Row],[INICIO PARADA]],"X",IF(Tabla1[[#This Row],[FIN PARADA]]=Z$1,"X","")) | AA208: =+IF(AA$1=Tabla1[[#This Row],[INICIO PARADA]],"X",IF(Tabla1[[#This Row],[FIN PARADA]]=AA$1,"X","")) | AB208: =+IF(AB$1=Tabla1[[#This Row],[INICIO PARADA]],"X",IF(Tabla1[[#This Row],[FIN PARADA]]=AB$1,"X","")) | AC208: =+IF(AC$1=Tabla1[[#This Row],[INICIO PARADA]],"X",IF(Tabla1[[#This Row],[FIN PARADA]]=AC$1,"X","")) -> X | AD208: =+IF(AD$1=Tabla1[[#This Row],[INICIO PARADA]],"X",IF(Tabla1[[#This Row],[FIN PARADA]]=AD$1,"X","")) | AE208: =+IF(Tabla1[[#This Row],[SEGUIMIENTO]]="CUMPLIDO","Ejecutada",IF(Tabla1[[#This Row],[SEGUIMIENTO]]="PENDIENTE","No Ejecutada","ADICIONAL")) -> Ejecutada | AF208: MANTTO PLANTA | AG208: SUPERVISOR | AJ208: =IF(Tabla1[[#This Row],[SUSTENTO]]="CORRECTIVO","N","S") -> S | AK208: =+Tabla1[[#This Row],[PERSONAL]] -> ELE_P_C | AL208: =+IF(Tabla1[[#This Row],[S/N]]="S",IF(Tabla1[[#This Row],[HH]]=0,Tabla1[[#This Row],[HH//]],Tabla1[[#This Row],[HH]]),0) -> 3 | AM208: 3 | AN208: =IF(Tabla1[[#This Row],[S/N]]="s",+IFERROR(Tabla1[[#This Row],[HH REAL]]/Tabla1[[#This Row],[HH PLAN]],0),"") -> 1 | AO208: =Tabla1[[#This Row],[FREC CANT]]*Tabla1[[#This Row],[HH REAL]] -> 3
B209: PM01 | D209: DIA | F209: PLANTA DE NEUTRALIZACION | G209: "- Limpieza y calibración de electrodos de ph de Reactores 1, 3 y canal de salida EF-08, en planta de neutralización. | H209: 2 | I209: 2 | J209: 45379 | K209: 45379 | L209: 45379 | M209: =Tabla1[[#This Row],[REPUESTO]:[SUSTENTO]] -> 0 | N209: =IF(Tabla1[[#This Row],[PM]]="PM01","PREVENTIVO",IF(Tabla1[[#This Row],[PM]]="PM02","BACKLOG","CORRECTIVO")) -> PREVENTIVO | O209: ELECN_P_C | P209: =Tabla1[[#This Row],[FREC CANT]] -> 2 | Q209: =Tabla1[[#This Row],[HORAS ACUM SOLICITADO]] -> 2 | R209: =(Tabla1[[#This Row],[H]]*Tabla1[[#This Row],[HH]]) -> 4 | U209: verde | W209: =IF(Tabla1[[#This Row],[SUSTENTO]]="CORRECTIVO","ADICIONAL",IF(AND(Tabla1[[#This Row],[SUSTENTO]]="PREVENTIVO",Tabla1[[#This Row],[INDICADOR]]="VERDE"),"CUMPLIDO",IF(AND(Tabla1[[#This Row],[SUSTENTO]]="BACKLOG",Tabla1[[#This Row],[INDICADOR]]="VERDE"),"CUMPLIDO","PENDIENTE"))) -> CUMPLIDO | X209: =+IF(X$1=Tabla1[[#This Row],[INICIO PARADA]],"X",IF(Tabla1[[#This Row],[FIN PARADA]]=X$1,"X","")) | Y209: =+IF(Y$1=Tabla1[[#This Row],[INICIO PARADA]],"X",IF(Tabla1[[#This Row],[FIN PARADA]]=Y$1,"X","")) | Z209: =+IF(Z$1=Tabla1[[#This Row],[INICIO PARADA]],"X",IF(Tabla1[[#This Row],[FIN PARADA]]=Z$1,"X","")) | AA209: =+IF(AA$1=Tabla1[[#This Row],[INICIO PARADA]],"X",IF(Tabla1[[#This Row],[FIN PARADA]]=AA$1,"X","")) | AB209: =+IF(AB$1=Tabla1[[#This Row],[INICIO PARADA]],"X",IF(Tabla1[[#This Row],[FIN PARADA]]=AB$1,"X","")) | AC209: =+IF(AC$1=Tabla1[[#This Row],[INICIO PARADA]],"X",IF(Tabla1[[#This Row],[FIN PARADA]]=AC$1,"X","")) -> X | AD209: =+IF(AD$1=Tabla1[[#This Row],[INICIO PARADA]],"X",IF(Tabla1[[#This Row],[FIN PARADA]]=AD$1,"X","")) | AE209: =+IF(Tabla1[[#This Row],[SEGUIMIENTO]]="CUMPLIDO","Ejecutada",IF(Tabla1[[#This Row],[SEGUIMIENTO]]="PENDIENTE","No Ejecutada","ADICIONAL")) -> Ejecutada | AF209: MANTTO PLANTA | AG209: SUPERVISOR | AJ209: =IF(Tabla1[[#This Row],[SUSTENTO]]="CORRECTIVO","N","S") -> S | AK209: =+Tabla1[[#This Row],[PERSONAL]] -> ELECN_P_C | AL209: =+IF(Tabla1[[#This Row],[S/N]]="S",IF(Tabla1[[#This Row],[HH]]=0,Tabla1[[#This Row],[HH//]],Tabla1[[#This Row],[HH]]),0) -> 2 | AM209: 2 | AN209: =IF(Tabla1[[#This Row],[S/N]]="s",+IFERROR(Tabla1[[#This Row],[HH REAL]]/Tabla1[[#This Row],[HH PLAN]],0),"") -> 1 | AO209: =Tabla1[[#This Row],[FREC CANT]]*Tabla1[[#This Row],[HH REAL]] -> 4
B210: PM02 | D210: DIA | F210: BOMBA DOSIFICADORA 112 | G210: "- Revisión de lazo de control de bomba dosificadora 112, se identifico cables flojos en borneras de cables de control remoto, se ajuste y prueba en modo automático, queda operativo. En zona de reactivos. | H210: 2 | I210: 2 | J210: 45379 | K210: 45379 | L210: 45379 | M210: =Tabla1[[#This Row],[REPUESTO]:[SUSTENTO]] -> 0 | N210: =IF(Tabla1[[#This Row],[PM]]="PM01","PREVENTIVO",IF(Tabla1[[#This Row],[PM]]="PM02","BACKLOG","CORRECTIVO")) -> BACKLOG | O210: ELECN_P_C | P210: =Tabla1[[#This Row],[FREC CANT]] -> 2 | Q210: =Tabla1[[#This Row],[HORAS ACUM SOLICITADO]] -> 2 | R210: =(Tabla1[[#This Row],[H]]*Tabla1[[#This Row],[HH]]) -> 4 | U210: verde | W210: =IF(Tabla1[[#This Row],[SUSTENTO]]="CORRECTIVO","ADICIONAL",IF(AND(Tabla1[[#This Row],[SUSTENTO]]="PREVENTIVO",Tabla1[[#This Row],[INDICADOR]]="VERDE"),"CUMPLIDO",IF(AND(Tabla1[[#This Row],[SUSTENTO]]="BACKLOG",Tabla1[[#This Row],[INDICADOR]]="VERDE"),"CUMPLIDO","PENDIENTE"))) -> CUMPLIDO | X210: =+IF(X$1=Tabla1[[#This Row],[INICIO PARADA]],"X",IF(Tabla1[[#This Row],[FIN PARADA]]=X$1,"X","")) | Y210: =+IF(Y$1=Tabla1[[#This Row],[INICIO PARADA]],"X",IF(Tabla1[[#This Row],[FIN PARADA]]=Y$1,"X","")) | Z210: =+IF(Z$1=Tabla1[[#This Row],[INICIO PARADA]],"X",IF(Tabla1[[#This Row],[FIN PARADA]]=Z$1,"X","")) | AA210: =+IF(AA$1=Tabla1[[#This Row],[INICIO PARADA]],"X",IF(Tabla1[[#This Row],[FIN PARADA]]=AA$1,"X","")) | AB210: =+IF(AB$1=Tabla1[[#This Row],[INICIO PARADA]],"X",IF(Tabla1[[#This Row],[FIN PARADA]]=AB$1,"X","")) | AC210: =+IF(AC$1=Tabla1[[#This Row],[INICIO PARADA]],"X",IF(Tabla1[[#This Row],[FIN PARADA]]=AC$1,"X","")) -> X | AD210: =+IF(AD$1=Tabla1[[#This Row],[INICIO PARADA]],"X",IF(Tabla1[[#This Row],[FIN PARADA]]=AD$1,"X","")) | AE210: =+IF(Tabla1[[#This Row],[SEGUIMIENTO]]="CUMPLIDO","Ejecutada",IF(Tabla1[[#This Row],[SEGUIMIENTO]]="PENDIENTE","No Ejecutada","ADICIONAL")) -> Ejecutada | AF210: MANTTO PLANTA | AG210: SUPERVISOR | AJ210: =IF(Tabla1[[#This Row],[SUSTENTO]]="CORRECTIVO","N","S") -> S | AK210: =+Tabla1[[#This Row],[PERSONAL]] -> ELECN_P_C | AL210: =+IF(Tabla1[[#This Row],[S/N]]="S",IF(Tabla1[[#This Row],[HH]]=0,Tabla1[[#This Row],[HH//]],Tabla1[[#This Row],[HH]]),0) -> 2 | AM210: 2 | AN210: =IF(Tabla1[[#This Row],[S/N]]="s",+IFERROR(Tabla1[[#This Row],[HH REAL]]/Tabla1[[#This Row],[HH PLAN]],0),"") -> 1 | AO210: =Tabla1[[#This Row],[FREC CANT]]*Tabla1[[#This Row],[HH REAL]] -> 4
B211: PM02 | D211: DIA | F211: CELDA SK240 | G211: "- Se realiza prueba de sintonia y control de la válvula modulante para ingreso de agua acida a celda SK -240, queda pendiente afinar sintonía de acuerdo a comportamiento del proceso. En molienda. - Revisión de alarma 2011: "Sistema hidráulico filtro finísimo sucio" de bomba putzmeister, se resetea y queda operativo. En bombas Mars. | H211: 2 | I211: 5 | J211: 45379 | K211: 45379 | L211: 45379 | M211: =Tabla1[[#This Row],[REPUESTO]:[SUSTENTO]] -> 0 | N211: =IF(Tabla1[[#This Row],[PM]]="PM01","PREVENTIVO",IF(Tabla1[[#This Row],[PM]]="PM02","BACKLOG","CORRECTIVO")) -> BACKLOG | O211: ELECN_P_C | P211: =Tabla1[[#This Row],[FREC CANT]] -> 2 | Q211: =Tabla1[[#This Row],[HORAS ACUM SOLICITADO]] -> 5 | R211: =(Tabla1[[#This Row],[H]]*Tabla1[[#This Row],[HH]]) -> 10 | U211: verde | W211: =IF(Tabla1[[#This Row],[SUSTENTO]]="CORRECTIVO","ADICIONAL",IF(AND(Tabla1[[#This Row],[SUSTENTO]]="PREVENTIVO",Tabla1[[#This Row],[INDICADOR]]="VERDE"),"CUMPLIDO",IF(AND(Tabla1[[#This Row],[SUSTENTO]]="BACKLOG",Tabla1[[#This Row],[INDICADOR]]="VERDE"),"CUMPLIDO","PENDIENTE"))) -> CUMPLIDO | X211: =+IF(X$1=Tabla1[[#This Row],[INICIO PARADA]],"X",IF(Tabla1[[#This Row],[FIN PARADA]]=X$1,"X","")) | Y211: =+IF(Y$1=Tabla1[[#This Row],[INICIO PARADA]],"X",IF(Tabla1[[#This Row],[FIN PARADA]]=Y$1,"X","")) | Z211: =+IF(Z$1=Tabla1[[#This Row],[INICIO PARADA]],"X",IF(Tabla1[[#This Row],[FIN PARADA]]=Z$1,"X","")) | AA211: =+IF(AA$1=Tabla1[[#This Row],[INICIO PARADA]],"X",IF(Tabla1[[#This Row],[FIN PARADA]]=AA$1,"X","")) | AB211: =+IF(AB$1=Tabla1[[#This Row],[INICIO PARADA]],"X",IF(Tabla1[[#This Row],[FIN PARADA]]=AB$1,"X","")) | AC211: =+IF(AC$1=Tabla1[[#This Row],[INICIO PARADA]],"X",IF(Tabla1[[#This Row],[FIN PARADA]]=AC$1,"X","")) -> X | AD211: =+IF(AD$1=Tabla1[[#This Row],[INICIO PARADA]],"X",IF(Tabla1[[#This Row],[FIN PARADA]]=AD$1,"X","")) | AE211: =+IF(Tabla1[[#This Row],[SEGUIMIENTO]]="CUMPLIDO","Ejecutada",IF(Tabla1[[#This Row],[SEGUIMIENTO]]="PENDIENTE","No Ejecutada","ADICIONAL")) -> Ejecutada | AF211: MANTTO PLANTA | AG211: SUPERVISOR | AJ211: =IF(Tabla1[[#This Row],[SUSTENTO]]="CORRECTIVO","N","S") -> S | AK211: =+Tabla1[[#This Row],[PERSONAL]] -> ELECN_P_C | AL211: =+IF(Tabla1[[#This Row],[S/N]]="S",IF(Tabla1[[#This Row],[HH]]=0,Tabla1[[#This Row],[HH//]],Tabla1[[#This Row],[HH]]),0) -> 5 | AM211: 5 | AN211: =IF(Tabla1[[#This Row],[S/N]]="s",+IFERROR(Tabla1[[#This Row],[HH REAL]]/Tabla1[[#This Row],[HH PLAN]],0),"") -> 1 | AO211: =Tabla1[[#This Row],[FREC CANT]]*Tabla1[[#This Row],[HH REAL]] -> 10
B212: PM01 | D212: DIA | F212: CHANCADO TERCIARIO | G212: Fabricación de estructura para kit antiderrame | H212: 2 | I212: 9 | J212: 45379 | K212: 45379 | L212: 45379 | M212: =Tabla1[[#This Row],[REPUESTO]:[SUSTENTO]] -> 0 | N212: =IF(Tabla1[[#This Row],[PM]]="PM01","PREVENTIVO",IF(Tabla1[[#This Row],[PM]]="PM02","BACKLOG","CORRECTIVO")) -> PREVENTIVO | O212: INST_P_C | P212: =Tabla1[[#This Row],[FREC CANT]] -> 2 | Q212: =Tabla1[[#This Row],[HORAS ACUM SOLICITADO]] -> 9 | R212: =(Tabla1[[#This Row],[H]]*Tabla1[[#This Row],[HH]]) -> 18 | U212: verde | W212: =IF(Tabla1[[#This Row],[SUSTENTO]]="CORRECTIVO","ADICIONAL",IF(AND(Tabla1[[#This Row],[SUSTENTO]]="PREVENTIVO",Tabla1[[#This Row],[INDICADOR]]="VERDE"),"CUMPLIDO",IF(AND(Tabla1[[#This Row],[SUSTENTO]]="BACKLOG",Tabla1[[#This Row],[INDICADOR]]="VERDE"),"CUMPLIDO","PENDIENTE"))) -> CUMPLIDO | X212: =+IF(X$1=Tabla1[[#This Row],[INICIO PARADA]],"X",IF(Tabla1[[#This Row],[FIN PARADA]]=X$1,"X","")) | Y212: =+IF(Y$1=Tabla1[[#This Row],[INICIO PARADA]],"X",IF(Tabla1[[#This Row],[FIN PARADA]]=Y$1,"X","")) | Z212: =+IF(Z$1=Tabla1[[#This Row],[INICIO PARADA]],"X",IF(Tabla1[[#This Row],[FIN PARADA]]=Z$1,"X","")) | AA212: =+IF(AA$1=Tabla1[[#This Row],[INICIO PARADA]],"X",IF(Tabla1[[#This Row],[FIN PARADA]]=AA$1,"X","")) | AB212: =+IF(AB$1=Tabla1[[#This Row],[INICIO PARADA]],"X",IF(Tabla1[[#This Row],[FIN PARADA]]=AB$1,"X","")) | AC212: =+IF(AC$1=Tabla1[[#This Row],[INICIO PARADA]],"X",IF(Tabla1[[#This Row],[FIN PARADA]]=AC$1,"X","")) -> X | AD212: =+IF(AD$1=Tabla1[[#This Row],[INICIO PARADA]],"X",IF(Tabla1[[#This Row],[FIN PARADA]]=AD$1,"X","")) | AE212: =+IF(Tabla1[[#This Row],[SEGUIMIENTO]]="CUMPLIDO","Ejecutada",IF(Tabla1[[#This Row],[SEGUIMIENTO]]="PENDIENTE","No Ejecutada","ADICIONAL")) -> Ejecutada | AF212: MANTTO PLANTA | AG212: SUPERVISOR | AJ212: =IF(Tabla1[[#This Row],[SUSTENTO]]="CORRECTIVO","N","S") -> S | AK212: =+Tabla1[[#This Row],[PERSONAL]] -> INST_P_C | AL212: =+IF(Tabla1[[#This Row],[S/N]]="S",IF(Tabla1[[#This Row],[HH]]=0,Tabla1[[#This Row],[HH//]],Tabla1[[#This Row],[HH]]),0) -> 9 | AM212: 9 | AN212: =IF(Tabla1[[#This Row],[S/N]]="s",+IFERROR(Tabla1[[#This Row],[HH REAL]]/Tabla1[[#This Row],[HH PLAN]],0),"") -> 1 | AO212: =Tabla1[[#This Row],[FREC CANT]]*Tabla1[[#This Row],[HH REAL]] -> 18
... B228: PM01 | D228: DIA | F228: Tanque de preparación de Sulfato de sodio | G228: Lubricacion de chumaceras | H228: 1 | I228: 1 | J228: 45379 | K228: 45379 | L228: 45379 | M228: =Tabla1[[#This Row],[REPUESTO]:[SUSTENTO]] -> 0 | N228: =IF(Tabla1[[#This Row],[PM]]="PM01","PREVENTIVO",IF(Tabla1[[#This Row],[PM]]="PM02","BACKLOG","CORRECTIVO")) -> PREVENTIVO | O228: LUB_P_C | P228: =Tabla1[[#This Row],[FREC CANT]] -> 1 | Q228: =Tabla1[[#This Row],[HORAS ACUM SOLICITADO]] -> 1 | R228: =(Tabla1[[#This Row],[H]]*Tabla1[[#This Row],[HH]]) -> 1 | U228: verde | W228: =IF(Tabla1[[#This Row],[SUSTENTO]]="CORRECTIVO","ADICIONAL",IF(AND(Tabla1[[#This Row],[SUSTENTO]]="PREVENTIVO",Tabla1[[#This Row],[INDICADOR]]="VERDE"),"CUMPLIDO",IF(AND(Tabla1[[#This Row],[SUSTENTO]]="BACKLOG",Tabla1[[#This Row],[INDICADOR]]="VERDE"),"CUMPLIDO","PENDIENTE"))) -> CUMPLIDO | X228: =+IF(X$1=Tabla1[[#This Row],[INICIO PARADA]],"X",IF(Tabla1[[#This Row],[FIN PARADA]]=X$1,"X","")) | Y228: =+IF(Y$1=Tabla1[[#This Row],[INICIO PARADA]],"X",IF(Tabla1[[#This Row],[FIN PARADA]]=Y$1,"X","")) | Z228: =+IF(Z$1=Tabla1[[#This Row],[INICIO PARADA]],"X",IF(Tabla1[[#This Row],[FIN PARADA]]=Z$1,"X","")) | AA228: =+IF(AA$1=Tabla1[[#This Row],[INICIO PARADA]],"X",IF(Tabla1[[#This Row],[FIN PARADA]]=AA$1,"X","")) | AB228: =+IF(AB$1=Tabla1[[#This Row],[INICIO PARADA]],"X",IF(Tabla1[[#This Row],[FIN PARADA]]=AB$1,"X","")) | AC228: =+IF(AC$1=Tabla1[[#This Row],[INICIO PARADA]],"X",IF(Tabla1[[#This Row],[FIN PARADA]]=AC$1,"X","")) -> X | AD228: =+IF(AD$1=Tabla1[[#This Row],[INICIO PARADA]],"X",IF(Tabla1[[#This Row],[FIN PARADA]]=AD$1,"X","")) | AE228: =+IF(Tabla1[[#This Row],[SEGUIMIENTO]]="CUMPLIDO","Ejecutada",IF(Tabla1[[#This Row],[SEGUIMIENTO]]="PENDIENTE","No Ejecutada","ADICIONAL")) -> Ejecutada | AF228: MANTTO PLANTA | AG228: SUPERVISOR | AJ228: =IF(Tabla1[[#This Row],[SUSTENTO]]="CORRECTIVO","N","S") -> S | AK228: =+Tabla1[[#This Row],[PERSONAL]] -> LUB_P_C | AL228: =+IF(Tabla1[[#This Row],[S/N]]="S",IF(Tabla1[[#This Row],[HH]]=0,Tabla1[[#This Row],[HH//]],Tabla1[[#This Row],[HH]]),0) -> 1 | AM228: 1 | AN228: =IF(Tabla1[[#This Row],[S/N]]="s",+IFERROR(Tabla1[[#This Row],[HH REAL]]/Tabla1[[#This Row],[HH PLAN]],0),"") -> 1 | AO228: =Tabla1[[#This Row],[FREC CANT]]*Tabla1[[#This Row],[HH REAL]] -> 1
B229: PM01 | D229: DIA | F229: MOLINO CONICO Nº 2 | G229: PREPARACION PARA LA INSTALACION DEL SPOUT FEEDER MODIFICADO. AVANCE 40% | H229: 2 | I229: 9 | J229: 45380 | K229: 45380 | M229: =Tabla1[[#This Row],[REPUESTO]:[SUSTENTO]] -> 0 | N229: =IF(Tabla1[[#This Row],[PM]]="PM01","PREVENTIVO",IF(Tabla1[[#This Row],[PM]]="PM02","BACKLOG","CORRECTIVO")) -> PREVENTIVO | O229: MEC_P_C | P229: =Tabla1[[#This Row],[FREC CANT]] -> 2 | Q229: =Tabla1[[#This Row],[HORAS ACUM SOLICITADO]] -> 9 | R229: =(Tabla1[[#This Row],[H]]*Tabla1[[#This Row],[HH]]) -> 18 | U229: ROJO | W229: =IF(Tabla1[[#This Row],[SUSTENTO]]="CORRECTIVO","ADICIONAL",IF(AND(Tabla1[[#This Row],[SUSTENTO]]="PREVENTIVO",Tabla1[[#This Row],[INDICADOR]]="VERDE"),"CUMPLIDO",IF(AND(Tabla1[[#This Row],[SUSTENTO]]="BACKLOG",Tabla1[[#This Row],[INDICADOR]]="VERDE"),"CUMPLIDO","PENDIENTE"))) -> PENDIENTE | X229: =+IF(X$1=Tabla1[[#This Row],[INICIO PARADA]],"X",IF(Tabla1[[#This Row],[FIN PARADA]]=X$1,"X","")) | Y229: =+IF(Y$1=Tabla1[[#This Row],[INICIO PARADA]],"X",IF(Tabla1[[#This Row],[FIN PARADA]]=Y$1,"X","")) | Z229: =+IF(Z$1=Tabla1[[#This Row],[INICIO PARADA]],"X",IF(Tabla1[[#This Row],[FIN PARADA]]=Z$1,"X","")) | AA229: =+IF(AA$1=Tabla1[[#This Row],[INICIO PARADA]],"X",IF(Tabla1[[#This Row],[FIN PARADA]]=AA$1,"X","")) | AB229: =+IF(AB$1=Tabla1[[#This Row],[INICIO PARADA]],"X",IF(Tabla1[[#This Row],[FIN PARADA]]=AB$1,"X","")) | AC229: =+IF(AC$1=Tabla1[[#This Row],[INICIO PARADA]],"X",IF(Tabla1[[#This Row],[FIN PARADA]]=AC$1,"X","")) | AD229: =+IF(AD$1=Tabla1[[#This Row],[INICIO PARADA]],"X",IF(Tabla1[[#This Row],[FIN PARADA]]=AD$1,"X","")) -> X | AE229: =+IF(Tabla1[[#This Row],[SEGUIMIENTO]]="CUMPLIDO","Ejecutada",IF(Tabla1[[#This Row],[SEGUIMIENTO]]="PENDIENTE","No Ejecutada","ADICIONAL")) -> No Ejecutada | AF229: MANTTO PLANTA | AG229: SUPERVISOR | AH229: Actividad en proceso | AI229: Falta de M.O. Interna | AJ229: =IF(Tabla1[[#This Row],[SUSTENTO]]="CORRECTIVO","N","S") -> S | AK229: =+Tabla1[[#This Row],[PERSONAL]] -> MEC_P_C | AL229: =+IF(Tabla1[[#This Row],[S/N]]="S",IF(Tabla1[[#This Row],[HH]]=0,Tabla1[[#This Row],[HH//]],Tabla1[[#This Row],[HH]]),0) -> 9 | AM229: 9 | AN229: =IF(Tabla1[[#This Row],[S/N]]="s",+IFERROR(Tabla1[[#This Row],[HH REAL]]/Tabla1[[#This Row],[HH PLAN]],0),"") -> 1 | AO229: =Tabla1[[#This Row],[FREC CANT]]*Tabla1[[#This Row],[HH REAL]] -> 18
B230: PM03 | D230: DIA | F230: FAJA 1 DE CAL | G230: CAMBIO DE RASPADOR | H230: 2 | I230: 2 | J230: 45380 | K230: 45380 | L230: 45380 | M230: =Tabla1[[#This Row],[REPUESTO]:[SUSTENTO]] -> 0 | N230: =IF(Tabla1[[#This Row],[PM]]="PM01","PREVENTIVO",IF(Tabla1[[#This Row],[PM]]="PM02","BACKLOG","CORRECTIVO")) -> CORRECTIVO | O230: MEC_P_C | P230: =Tabla1[[#This Row],[FREC CANT]] -> 2 | Q230: =Tabla1[[#This Row],[HORAS ACUM SOLICITADO]] -> 2 | R230: =(Tabla1[[#This Row],[H]]*Tabla1[[#This Row],[HH]]) -> 4 | U230: verde | W230: =IF(Tabla1[[#This Row],[SUSTENTO]]="CORRECTIVO","ADICIONAL",IF(AND(Tabla1[[#This Row],[SUSTENTO]]="PREVENTIVO",Tabla1[[#This Row],[INDICADOR]]="VERDE"),"CUMPLIDO",IF(AND(Tabla1[[#This Row],[SUSTENTO]]="BACKLOG",Tabla1[[#This Row],[INDICADOR]]="VERDE"),"CUMPLIDO","PENDIENTE"))) -> ADICIONAL | X230: =+IF(X$1=Tabla1[[#This Row],[INICIO PARADA]],"X",IF(Tabla1[[#This Row],[FIN PARADA]]=X$1,"X","")) | Y230: =+IF(Y$1=Tabla1[[#This Row],[INICIO PARADA]],"X",IF(Tabla1[[#This Row],[FIN PARADA]]=Y$1,"X","")) | Z230: =+IF(Z$1=Tabla1[[#This Row],[INICIO PARADA]],"X",IF(Tabla1[[#This Row],[FIN PARADA]]=Z$1,"X","")) | AA230: =+IF(AA$1=Tabla1[[#This Row],[INICIO PARADA]],"X",IF(Tabla1[[#This Row],[FIN PARADA]]=AA$1,"X","")) | AB230: =+IF(AB$1=Tabla1[[#This Row],[INICIO PARADA]],"X",IF(Tabla1[[#This Row],[FIN PARADA]]=AB$1,"X","")) | AC230: =+IF(AC$1=Tabla1[[#This Row],[INICIO PARADA]],"X",IF(Tabla1[[#This Row],[FIN PARADA]]=AC$1,"X","")) | AD230: =+IF(AD$1=Tabla1[[#This Row],[INICIO PARADA]],"X",IF(Tabla1[[#This Row],[FIN PARADA]]=AD$1,"X","")) -> X | AE230: =+IF(Tabla1[[#This Row],[SEGUIMIENTO]]="CUMPLIDO","Ejecutada",IF(Tabla1[[#This Row],[SEGUIMIENTO]]="PENDIENTE","No Ejecutada","ADICIONAL")) -> ADICIONAL | AF230: MANTTO PLANTA | AG230: SUPERVISOR | AH230: No incluída en Backlog | AJ230: =IF(Tabla1[[#This Row],[SUSTENTO]]="CORRECTIVO","N","S") -> N | AK230: =+Tabla1[[#This Row],[PERSONAL]] -> MEC_P_C | AL230: =+IF(Tabla1[[#This Row],[S/N]]="S",IF(Tabla1[[#This Row],[HH]]=0,Tabla1[[#This Row],[HH//]],Tabla1[[#This Row],[HH]]),0) -> 0 | AM230: 2 | AN230: =IF(Tabla1[[#This Row],[S/N]]="s",+IFERROR(Tabla1[[#This Row],[HH REAL]]/Tabla1[[#This Row],[HH PLAN]],0),"") | AO230: =Tabla1[[#This Row],[FREC CANT]]*Tabla1[[#This Row],[HH REAL]] -> 4
B231: PM01 | D231: DIA | F231: BOMBA HIDROSTAL STAND BY DE NOVA | G231: PREPARACION DE BOMBA DE STAND BY | H231: 2 | I231: 7 | J231: 45380 | K231: 45380 | L231: 45380 | M231: =Tabla1[[#This Row],[REPUESTO]:[SUSTENTO]] -> 0 | N231: =IF(Tabla1[[#This Row],[PM]]="PM01","PREVENTIVO",IF(Tabla1[[#This Row],[PM]]="PM02","BACKLOG","CORRECTIVO")) -> PREVENTIVO | O231: MEC_P_C | P231: =Tabla1[[#This Row],[FREC CANT]] -> 2 | Q231: =Tabla1[[#This Row],[HORAS ACUM SOLICITADO]] -> 7 | R231: =(Tabla1[[#This Row],[H]]*Tabla1[[#This Row],[HH]]) -> 14 | U231: verde | W231: =IF(Tabla1[[#This Row],[SUSTENTO]]="CORRECTIVO","ADICIONAL",IF(AND(Tabla1[[#This Row],[SUSTENTO]]="PREVENTIVO",Tabla1[[#This Row],[INDICADOR]]="VERDE"),"CUMPLIDO",IF(AND(Tabla1[[#This Row],[SUSTENTO]]="BACKLOG",Tabla1[[#This Row],[INDICADOR]]="VERDE"),"CUMPLIDO","PENDIENTE"))) -> CUMPLIDO | X231: =+IF(X$1=Tabla1[[#This Row],[INICIO PARADA]],"X",IF(Tabla1[[#This Row],[FIN PARADA]]=X$1,"X","")) | Y231: =+IF(Y$1=Tabla1[[#This Row],[INICIO PARADA]],"X",IF(Tabla1[[#This Row],[FIN PARADA]]=Y$1,"X","")) | Z231: =+IF(Z$1=Tabla1[[#This Row],[INICIO PARADA]],"X",IF(Tabla1[[#This Row],[FIN PARADA]]=Z$1,"X","")) | AA231: =+IF(AA$1=Tabla1[[#This Row],[INICIO PARADA]],"X",IF(Tabla1[[#This Row],[FIN PARADA]]=AA$1,"X","")) | AB231: =+IF(AB$1=Tabla1[[#This Row],[INICIO PARADA]],"X",IF(Tabla1[[#This Row],[FIN PARADA]]=AB$1,"X","")) | AC231: =+IF(AC$1=Tabla1[[#This Row],[INICIO PARADA]],"X",IF(Tabla1[[#This Row],[FIN PARADA]]=AC$1,"X","")) | AD231: =+IF(AD$1=Tabla1[[#This Row],[INICIO PARADA]],"X",IF(Tabla1[[#This Row],[FIN PARADA]]=AD$1,"X","")) -> X | AE231: =+IF(Tabla1[[#This Row],[SEGUIMIENTO]]="CUMPLIDO","Ejecutada",IF(Tabla1[[#This Row],[SEGUIMIENTO]]="PENDIENTE","No Ejecutada","ADICIONAL")) -> Ejecutada | AF231: MANTTO PLANTA | AG231: SUPERVISOR | AJ231: =IF(Tabla1[[#This Row],[SUSTENTO]]="CORRECTIVO","N","S") -> S | AK231: =+Tabla1[[#This Row],[PERSONAL]] -> MEC_P_C | AL231: =+IF(Tabla1[[#This Row],[S/N]]="S",IF(Tabla1[[#This Row],[HH]]=0,Tabla1[[#This Row],[HH//]],Tabla1[[#This Row],[HH]]),0) -> 7 | AM231: 7 | AN231: =IF(Tabla1[[#This Row],[S/N]]="s",+IFERROR(Tabla1[[#This Row],[HH REAL]]/Tabla1[[#This Row],[HH PLAN]],0),"") -> 1 | AO231: =Tabla1[[#This Row],[FREC CANT]]*Tabla1[[#This Row],[HH REAL]] -> 14
B232: PM02 | D232: DIA | F232: BOMBA MARS 4 | G232: REPARACION DE LA TUBERIA DE ALIMENTACION | H232: 2 | I232: 2 | J232: 45380 | K232: 45380 | L232: 45380 | M232: =Tabla1[[#This Row],[REPUESTO]:[SUSTENTO]] -> 0 | N232: =IF(Tabla1[[#This Row],[PM]]="PM01","PREVENTIVO",IF(Tabla1[[#This Row],[PM]]="PM02","BACKLOG","CORRECTIVO")) -> BACKLOG | O232: MEC_P_C | P232: =Tabla1[[#This Row],[FREC CANT]] -> 2 | Q232: =Tabla1[[#This Row],[HORAS ACUM SOLICITADO]] -> 2 | R232: =(Tabla1[[#This Row],[H]]*Tabla1[[#This Row],[HH]]) -> 4 | U232: verde | W232: =IF(Tabla1[[#This Row],[SUSTENTO]]="CORRECTIVO","ADICIONAL",IF(AND(Tabla1[[#This Row],[SUSTENTO]]="PREVENTIVO",Tabla1[[#This Row],[INDICADOR]]="VERDE"),"CUMPLIDO",IF(AND(Tabla1[[#This Row],[SUSTENTO]]="BACKLOG",Tabla1[[#This Row],[INDICADOR]]="VERDE"),"CUMPLIDO","PENDIENTE"))) -> CUMPLIDO | X232: =+IF(X$1=Tabla1[[#This Row],[INICIO PARADA]],"X",IF(Tabla1[[#This Row],[FIN PARADA]]=X$1,"X","")) | Y232: =+IF(Y$1=Tabla1[[#This Row],[INICIO PARADA]],"X",IF(Tabla1[[#This Row],[FIN PARADA]]=Y$1,"X","")) | Z232: =+IF(Z$1=Tabla1[[#This Row],[INICIO PARADA]],"X",IF(Tabla1[[#This Row],[FIN PARADA]]=Z$1,"X","")) | AA232: =+IF(AA$1=Tabla1[[#This Row],[INICIO PARADA]],"X",IF(Tabla1[[#This Row],[FIN PARADA]]=AA$1,"X","")) | AB232: =+IF(AB$1=Tabla1[[#This Row],[INICIO PARADA]],"X",IF(Tabla1[[#This Row],[FIN PARADA]]=AB$1,"X","")) | AC232: =+IF(AC$1=Tabla1[[#This Row],[INICIO PARADA]],"X",IF(Tabla1[[#This Row],[FIN PARADA]]=AC$1,"X","")) | AD232: =+IF(AD$1=Tabla1[[#This Row],[INICIO PARADA]],"X",IF(Tabla1[[#This Row],[FIN PARADA]]=AD$1,"X","")) -> X | AE232: =+IF(Tabla1[[#This Row],[SEGUIMIENTO]]="CUMPLIDO","Ejecutada",IF(Tabla1[[#This Row],[SEGUIMIENTO]]="PENDIENTE","No Ejecutada","ADICIONAL")) -> Ejecutada | AF232: MANTTO PLANTA | AG232: SUPERVISOR | AJ232: =IF(Tabla1[[#This Row],[SUSTENTO]]="CORRECTIVO","N","S") -> S | AK232: =+Tabla1[[#This Row],[PERSONAL]] -> MEC_P_C | AL232: =+IF(Tabla1[[#This Row],[S/N]]="S",IF(Tabla1[[#This Row],[HH]]=0,Tabla1[[#This Row],[HH//]],Tabla1[[#This Row],[HH]]),0) -> 2 | AM232: 2 | AN232: =IF(Tabla1[[#This Row],[S/N]]="s",+IFERROR(Tabla1[[#This Row],[HH REAL]]/Tabla1[[#This Row],[HH PLAN]],0),"") -> 1 | AO232: =Tabla1[[#This Row],[FREC CANT]]*Tabla1[[#This Row],[HH REAL]] -> 4
B233: PM02 | D233: DIA | F233: BOMBA HORIZONTAL 104 | G233: CAMBIO DE IMPULSOR Y FORROS DE LA CAJA | H233: 2 | I233: 2 | J233: 45380 | K233: 45380 | L233: 45380 | M233: =Tabla1[[#This Row],[REPUESTO]:[SUSTENTO]] -> 0 | N233: =IF(Tabla1[[#This Row],[PM]]="PM01","PREVENTIVO",IF(Tabla1[[#This Row],[PM]]="PM02","BACKLOG","CORRECTIVO")) -> BACKLOG | O233: MEC_P_C | P233: =Tabla1[[#This Row],[FREC CANT]] -> 2 | Q233: =Tabla1[[#This Row],[HORAS ACUM SOLICITADO]] -> 2 | R233: =(Tabla1[[#This Row],[H]]*Tabla1[[#This Row],[HH]]) -> 4 | U233: verde | W233: =IF(Tabla1[[#This Row],[SUSTENTO]]="CORRECTIVO","ADICIONAL",IF(AND(Tabla1[[#This Row],[SUSTENTO]]="PREVENTIVO",Tabla1[[#This Row],[INDICADOR]]="VERDE"),"CUMPLIDO",IF(AND(Tabla1[[#This Row],[SUSTENTO]]="BACKLOG",Tabla1[[#This Row],[INDICADOR]]="VERDE"),"CUMPLIDO","PENDIENTE"))) -> CUMPLIDO | X233: =+IF(X$1=Tabla1[[#This Row],[INICIO PARADA]],"X",IF(Tabla1[[#This Row],[FIN PARADA]]=X$1,"X","")) | Y233: =+IF(Y$1=Tabla1[[#This Row],[INICIO PARADA]],"X",IF(Tabla1[[#This Row],[FIN PARADA]]=Y$1,"X","")) | Z233: =+IF(Z$1=Tabla1[[#This Row],[INICIO PARADA]],"X",IF(Tabla1[[#This Row],[FIN PARADA]]=Z$1,"X","")) | AA233: =+IF(AA$1=Tabla1[[#This Row],[INICIO PARADA]],"X",IF(Tabla1[[#This Row],[FIN PARADA]]=AA$1,"X","")) | AB233: =+IF(AB$1=Tabla1[[#This Row],[INICIO PARADA]],"X",IF(Tabla1[[#This Row],[FIN PARADA]]=AB$1,"X","")) | AC233: =+IF(AC$1=Tabla1[[#This Row],[INICIO PARADA]],"X",IF(Tabla1[[#This Row],[FIN PARADA]]=AC$1,"X","")) | AD233: =+IF(AD$1=Tabla1[[#This Row],[INICIO PARADA]],"X",IF(Tabla1[[#This Row],[FIN PARADA]]=AD$1,"X","")) -> X | AE233: =+IF(Tabla1[[#This Row],[SEGUIMIENTO]]="CUMPLIDO","Ejecutada",IF(Tabla1[[#This Row],[SEGUIMIENTO]]="PENDIENTE","No Ejecutada","ADICIONAL")) -> Ejecutada | AF233: MANTTO PLANTA | AG233: SUPERVISOR | AJ233: =IF(Tabla1[[#This Row],[SUSTENTO]]="CORRECTIVO","N","S") -> S | AK233: =+Tabla1[[#This Row],[PERSONAL]] -> MEC_P_C | AL233: =+IF(Tabla1[[#This Row],[S/N]]="S",IF(Tabla1[[#This Row],[HH]]=0,Tabla1[[#This Row],[HH//]],Tabla1[[#This Row],[HH]]),0) -> 2 | AM233: 2 | AN233: =IF(Tabla1[[#This Row],[S/N]]="s",+IFERROR(Tabla1[[#This Row],[HH REAL]]/Tabla1[[#This Row],[HH PLAN]],0),"") -> 1 | AO233: =Tabla1[[#This Row],[FREC CANT]]*Tabla1[[#This Row],[HH REAL]] -> 4
B234: PM03 | D234: DIA | F234: BOMBA HORIZONTAL 103 | G234: CAMBIO DE IMPULSOR Y FORROS DE LA CAJA | H234: 2 | I234: 3 | J234: 45380 | K234: 45380 | L234: 45380 | M234: =Tabla1[[#This Row],[REPUESTO]:[SUSTENTO]] -> 0 | N234: =IF(Tabla1[[#This Row],[PM]]="PM01","PREVENTIVO",IF(Tabla1[[#This Row],[PM]]="PM02","BACKLOG","CORRECTIVO")) -> CORRECTIVO | O234: MEC_P_C | P234: =Tabla1[[#This Row],[FREC CANT]] -> 2 | Q234: =Tabla1[[#This Row],[HORAS ACUM SOLICITADO]] -> 3 | R234: =(Tabla1[[#This Row],[H]]*Tabla1[[#This Row],[HH]]) -> 6 | U234: verde | W234: =IF(Tabla1[[#This Row],[SUSTENTO]]="CORRECTIVO","ADICIONAL",IF(AND(Tabla1[[#This Row],[SUSTENTO]]="PREVENTIVO",Tabla1[[#This Row],[INDICADOR]]="VERDE"),"CUMPLIDO",IF(AND(Tabla1[[#This Row],[SUSTENTO]]="BACKLOG",Tabla1[[#This Row],[INDICADOR]]="VERDE"),"CUMPLIDO","PENDIENTE"))) -> ADICIONAL | X234: =+IF(X$1=Tabla1[[#This Row],[INICIO PARADA]],"X",IF(Tabla1[[#This Row],[FIN PARADA]]=X$1,"X","")) | Y234: =+IF(Y$1=Tabla1[[#This Row],[INICIO PARADA]],"X",IF(Tabla1[[#This Row],[FIN PARADA]]=Y$1,"X","")) | Z234: =+IF(Z$1=Tabla1[[#This Row],[INICIO PARADA]],"X",IF(Tabla1[[#This Row],[FIN PARADA]]=Z$1,"X","")) | AA234: =+IF(AA$1=Tabla1[[#This Row],[INICIO PARADA]],"X",IF(Tabla1[[#This Row],[FIN PARADA]]=AA$1,"X","")) | AB234: =+IF(AB$1=Tabla1[[#This Row],[INICIO PARADA]],"X",IF(Tabla1[[#This Row],[FIN PARADA]]=AB$1,"X","")) | AC234: =+IF(AC$1=Tabla1[[#This Row],[INICIO PARADA]],"X",IF(Tabla1[[#This Row],[FIN PARADA]]=AC$1,"X","")) | AD234: =+IF(AD$1=Tabla1[[#This Row],[INICIO PARADA]],"X",IF(Tabla1[[#This Row],[FIN PARADA]]=AD$1,"X","")) -> X | AE234: =+IF(Tabla1[[#This Row],[SEGUIMIENTO]]="CUMPLIDO","Ejecutada",IF(Tabla1[[#This Row],[SEGUIMIENTO]]="PENDIENTE","No Ejecutada","ADICIONAL")) -> ADICIONAL | AF234: MANTTO PLANTA | AG234: SUPERVISOR | AH234: Incluída en Backlog | AJ234: =IF(Tabla1[[#This Row],[SUSTENTO]]="CORRECTIVO","N","S") -> N | AK234: =+Tabla1[[#This Row],[PERSONAL]] -> MEC_P_C | AL234: =+IF(Tabla1[[#This Row],[S/N]]="S",IF(Tabla1[[#This Row],[HH]]=0,Tabla1[[#This Row],[HH//]],Tabla1[[#This Row],[HH]]),0) -> 0 | AM234: 3 | AN234: =IF(Tabla1[[#This Row],[S/N]]="s",+IFERROR(Tabla1[[#This Row],[HH REAL]]/Tabla1[[#This Row],[HH PLAN]],0),"") | AO234: =Tabla1[[#This Row],[FREC CANT]]*Tabla1[[#This Row],[HH REAL]] -> 6
B235: PM03 | D235: DIA | F235: FILTRO PRENSA | G235: CAMBIO DE MANGUERA DEL SISTEMA DE LUBRICACION, ACEITE Y FILTROS | H235: 2 | I235: 4 | J235: 45380 | K235: 45380 | L235: 45380 | M235: =Tabla1[[#This Row],[REPUESTO]:[SUSTENTO]] -> 0 | N235: =IF(Tabla1[[#This Row],[PM]]="PM01","PREVENTIVO",IF(Tabla1[[#This Row],[PM]]="PM02","BACKLOG","CORRECTIVO")) -> CORRECTIVO | O235: MEC_P_C | P235: =Tabla1[[#This Row],[FREC CANT]] -> 2 | Q235: =Tabla1[[#This Row],[HORAS ACUM SOLICITADO]] -> 4 | R235: =(Tabla1[[#This Row],[H]]*Tabla1[[#This Row],[HH]]) -> 8 | U235: verde | W235: =IF(Tabla1[[#This Row],[SUSTENTO]]="CORRECTIVO","ADICIONAL",IF(AND(Tabla1[[#This Row],[SUSTENTO]]="PREVENTIVO",Tabla1[[#This Row],[INDICADOR]]="VERDE"),"CUMPLIDO",IF(AND(Tabla1[[#This Row],[SUSTENTO]]="BACKLOG",Tabla1[[#This Row],[INDICADOR]]="VERDE"),"CUMPLIDO","PENDIENTE"))) -> ADICIONAL | X235: =+IF(X$1=Tabla1[[#This Row],[INICIO PARADA]],"X",IF(Tabla1[[#This Row],[FIN PARADA]]=X$1,"X","")) | Y235: =+IF(Y$1=Tabla1[[#This Row],[INICIO PARADA]],"X",IF(Tabla1[[#This Row],[FIN PARADA]]=Y$1,"X","")) | Z235: =+IF(Z$1=Tabla1[[#This Row],[INICIO PARADA]],"X",IF(Tabla1[[#This Row],[FIN PARADA]]=Z$1,"X","")) | AA235: =+IF(AA$1=Tabla1[[#This Row],[INICIO PARADA]],"X",IF(Tabla1[[#This Row],[FIN PARADA]]=AA$1,"X","")) | AB235: =+IF(AB$1=Tabla1[[#This Row],[INICIO PARADA]],"X",IF(Tabla1[[#This Row],[FIN PARADA]]=AB$1,"X","")) | AC235: =+IF(AC$1=Tabla1[[#This Row],[INICIO PARADA]],"X",IF(Tabla1[[#This Row],[FIN PARADA]]=AC$1,"X","")) | AD235: =+IF(AD$1=Tabla1[[#This Row],[INICIO PARADA]],"X",IF(Tabla1[[#This Row],[FIN PARADA]]=AD$1,"X","")) -> X | AE235: =+IF(Tabla1[[#This Row],[SEGUIMIENTO]]="CUMPLIDO","Ejecutada",IF(Tabla1[[#This Row],[SEGUIMIENTO]]="PENDIENTE","No Ejecutada","ADICIONAL")) -> ADICIONAL | AF235: MANTTO PLANTA | AG235: SUPERVISOR | AH235: No incluída en Backlog | AJ235: =IF(Tabla1[[#This Row],[SUSTENTO]]="CORRECTIVO","N","S") -> N | AK235: =+Tabla1[[#This Row],[PERSONAL]] -> MEC_P_C | AL235: =+IF(Tabla1[[#This Row],[S/N]]="S",IF(Tabla1[[#This Row],[HH]]=0,Tabla1[[#This Row],[HH//]],Tabla1[[#This Row],[HH]]),0) -> 0 | AM235: 4 | AN235: =IF(Tabla1[[#This Row],[S/N]]="s",+IFERROR(Tabla1[[#This Row],[HH REAL]]/Tabla1[[#This Row],[HH PLAN]],0),"") | AO235: =Tabla1[[#This Row],[FREC CANT]]*Tabla1[[#This Row],[HH REAL]] -> 8
