Workbook

Sheet PROGRAMA
G1: 13 | O1: FECHAS | V1: MO | X1: OC | Y1: =DATE(2024,1,1) - MOD(WEEKDAY(DATE(2022,1,1)), 7)+ (G1-2)*7+5 -> 45374 | Z1: =+Y1+1 -> 45375 | AA1: =+Z1+1 -> 45376 | AB1: =+AA1+1 -> 45377 | AC1: =+AB1+1 -> 45378 | AD1: =+AC1+1 -> 45379 | AE1: =+AD1+1 -> 45380 | AF1: DIAS | AK1: ADH
B2: =+CONCATENATE("PROGRAMA - SEMANA ",G1) -> PROGRAMA - SEMANA 13 | P2: MEC_P_C | Q2: ELE_P_C | R2: ELECN_P_C | S2: INST_P_C | T2: LUB_P_C | Y2: =+CONCATENATE("SEMANA ",G1) -> SEMANA 13 | AF2: ADHERENCIA | AK2: CONTROL HORAS HOMBRE
B3: OT | C3: PM | D3: CODIGO | E3: TURNO | F3: PREV. | G3: EQUIPO | H3: SISTEMA FUNCIONAL | I3: FREC CANT | J3: HORAS ACUM SOLICITADO | K3: FECHA PROGRAMA | L3: INICIO PARADA | M3: FIN PARADA | N3: REPUESTO | O3: SUSTENTO | P3: PERSONAL | Q3: H | R3: HH | S3: HH// | T3: HORAS PARADA | U3: OS | V3: INDICADOR | W3: ORDEN COMPRA | X3: SEGUIMIENTO | Y3: SABADO | Z3: DOMINGO | AA3: LUNES | AB3: MARTES | AC3: MIÉRCOLES | AD3: JUEVES | AE3: VIERNES | AF3: ACTIVIDAD | AG3: EJECUTANTE | AH3: SOLICITA | AI3: CAUSA 1 | AJ3: CAUSA 2 | AK3: S/N | AL3: PTRAB | AM3: HH PLAN | AN3: HH REAL | AO3: DESVIO | AP3: Columna1
C4: PM01 | E4: DIA | G4: FAJA 5"A" | H4: Se vulcanizóel jebe antifricción del trinquete. | I4: 2 | J4: 9 | K4: 45374 | L4: 45374 | M4: 45374 | N4: 0 | O4: PREVENTIVO | P4: MEC_P_C | Q4: 2 | R4: 9 | S4: 18 | V4: verde | X4: CUMPLIDO | Y4: X | AF4: Ejecutada | AG4: MANTTO PLANTA | AH4: SUPERVISOR | AK4: S | AL4: MEC_P_C | AM4: 9 | AN4: 9 | AO4: 1 | AP4: 18
C5: PM02 | E5: DIA | G5: BOMBAS MARS | H5: Se reparó las parrillas de la canaleta acceso a bomba putzmeister. | I5: 2 | J5: 7 | K5: 45374 | L5: 45374 | M5: 45374 | N5: 0 | O5: BACKLOG | P5: MEC_P_C | Q5: 2 | R5: 7 | S5: 14 | V5: verde | X5: CUMPLIDO | Y5: X | AF5: Ejecutada | AG5: MANTTO PLANTA | AH5: SUPERVISOR | AK5: S | AL5: MEC_P_C | AM5: 7 | AN5: 7 | AO5: 1 | AP5: 14
C6: PM01 | E6: DIA | G6: STAND BY WENCO 84 | H6: Se desmontó los rodamientos de bomba y se trasladó el eje hacia maestranza para su maquinado. | I6: 2 | J6: 1 | K6: 45374 | L6: 45374 | M6: 45374 | N6: 0 | O6: PREVENTIVO | P6: MEC_P_C | Q6: 2 | R6: 1 | S6: 2 | V6: verde | X6: CUMPLIDO | Y6: X | AF6: Ejecutada | AG6: MANTTO PLANTA | AH6: SUPERVISOR | AK6: S | AL6: MEC_P_C | AM6: 1 | AN6: 1 | AO6: 1 | AP6: 2
C7: PM01 | E7: DIA | G7: CHANCADORA TERCIARIA | H7: Se habilitó materiales para reubicar el filtro de aire de chancadora terciaría. | I7: 2 | J7: 1 | K7: 45374 | L7: 45374 | M7: 45374 | N7: 0 | O7: PREVENTIVO | P7: MEC_P_C | Q7: 2 | R7: 1 | S7: 2 | V7: verde | X7: CUMPLIDO | Y7: X | AF7: Ejecutada | AG7: MANTTO PLANTA | AH7: SUPERVISOR | AK7: S | AL7: MEC_P_C | AM7: 1 | AN7: 1 | AO7: 1 | AP7: 2
C8: PM01 | E8: DIA | G8: APRON FEEDER | H8: Se reajusto los pernos de 1/2 y se realizó la sujeción de las placas | I8: 2 | J8: 1 | K8: 45374 | L8: 45374 | M8: 45374 | N8: 0 | O8: PREVENTIVO | P8: MEC_P_C | Q8: 2 | R8: 1 | S8: 2 | V8: verde | X8: CUMPLIDO | Y8: X | AF8: Ejecutada | AG8: MANTTO PLANTA | AH8: SUPERVISOR | AK8: S | AL8: MEC_P_C | AM8: 1 | AN8: 1 | AO8: 1 | AP8: 2
C9: PM01 | E9: DIA | G9: SOPLADOR SPENSER | H9: Se realizó el alineamiento de eje motor de soplador, aun se continuara con el alineamiento. | I9: 2 | J9: 8 | K9: 45374 | L9: 45374 | M9: 45374 | N9: 0 | O9: PREVENTIVO | P9: MEC_P_C | Q9: 2 | R9: 8 | S9: 16 | V9: verde | X9: CUMPLIDO | Y9: X | AF9: Ejecutada | AG9: MANTTO PLANTA | AH9: SUPERVISOR | AK9: S | AL9: MEC_P_C | AM9: 8 | AN9: 8 | AO9: 1 | AP9: 16
C10: PM02 | E10: DIA | G10: FILTRO PRENSA | H10: Se cambió baranda en plataforma superior. | I10: 2 | J10: 7 | K10: 45374 | L10: 45374 | M10: 45374 | N10: 0 | O10: BACKLOG | P10: MEC_P_C | Q10: 2 | R10: 7 | S10: 14 | V10: verde | X10: CUMPLIDO | Y10: X | AF10: Ejecutada | AG10: MANTTO PLANTA | AH10: SUPERVISOR | AK10: S | AL10: MEC_P_C | AM10: 7 | AN10: 7 | AO10: 1 | AP10: 14
C11: PM01 | E11: DIA | G11: FAJAS CHANCADO | H11: Se realizó la Inspección y el levantamiento de datos de fajas transportadoras. | I11: 2 | J11: 2 | K11: 45374 | L11: 45374 | M11: 45374 | N11: 0 | O11: PREVENTIVO | P11: MEC_P_C | Q11: 2 | R11: 2 | S11: 4 | V11: verde | X11: CUMPLIDO | Y11: X | AF11: Ejecutada | AG11: MANTTO PLANTA | AH11: SUPERVISOR | AK11: S | AL11: MEC_P_C | AM11: 2 | AN11: 2 | AO11: 1 | AP11: 4
C12: PM02 | E12: DIA | G12: BOMBA PUTZMEISTER | H12: Se niveló aceite en los tanques hidráulicos. | I12: 2 | J12: 4 | K12: 45374 | L12: 45374 | M12: 45374 | N12: 0 | O12: BACKLOG | P12: MEC_P_C | Q12: 2 | R12: 4 | S12: 8 | V12: verde | X12: CUMPLIDO | Y12: X | AF12: Ejecutada | AG12: MANTTO PLANTA | AH12: SUPERVISOR | AK12: S | AL12: MEC_P_C | AM12: 4 | AN12: 4 | AO12: 1 | AP12: 8
C13: PM01 | E13: DIA | G13: BLOQUEO DE EQUIPOS EN PLANTA | H13: Se realizó los bloqueos y desbloqueo de las áreas de chancado, molienda, flotación y filtros. Se realizó limpieza, inspección, reajuste de tablero del estractor de polvo. Se dejó bloqueado faja 5A, se está trasladando las herramientas al nuevo taller. | I13: 1 | J13: 9 | K13: 45374 | L13: 45374 | M13: 45374 | N13: 0 | O13: PREVENTIVO | P13: ELE_P_C | Q13: 1 | R13: 9 | S13: 9 | V13: verde | X13: CUMPLIDO | Y13: X | AF13: Ejecutada | AG13: MANTTO PLANTA | AH13: SUPERVISOR | AK13: S | AL13: ELE_P_C | AM13: 9 | AN13: 9 | AO13: 1 | AP13: 9
C14: PM01 | E14: DIA | G14: TALLER ELÉCTRICO | H14: Se realizó la limpieza y el mantenimiento correctivo y cambio de rodamientos de los motores que están en el taller eléctrico. | I14: 2 | J14: 6 | K14: 45374 | L14: 45374 | M14: 45374 | N14: 0 | O14: PREVENTIVO | P14: ELE_P_C | Q14: 2 | R14: 6 | S14: 12 | V14: verde | X14: CUMPLIDO | Y14: X | AF14: Ejecutada | AG14: MANTTO PLANTA | AH14: SUPERVISOR | AK14: S | AL14: ELE_P_C | AM14: 6 | AN14: 6 | AO14: 1 | AP14: 12
C15: PM02 | E15: DIA | G15: ZARANDA DE ALTA FRECUENCIA | H15: Se realizó el monitoreo de amperaje del motor de la ZAF, realizando el desmontaje y trasladandolo hacia taller central para su revisión, equipo queda inoperativo. | I15: 2 | J15: 3 | K15: 45374 | L15: 45374 | M15: 45374 | N15: 0 | O15: BACKLOG | P15: ELE_P_C | Q15: 2 | R15: 3 | S15: 6 | V15: verde | X15: CUMPLIDO | Y15: X | AF15: Ejecutada | AG15: MANTTO PLANTA | AH15: SUPERVISOR | AK15: S | AL15: ELE_P_C | AM15: 3 | AN15: 3 | AO15: 1 | AP15: 6
... C39: PM01 | E39: DIA | G39: Bomba Vertical de 2.5 Alta Eficiencia Espiasa Poza N° 2 B-Mars | H39: Lubricacion de caja de rodamientos | I39: 1 | J39: 0.5 | K39: 45374 | L39: 45374 | M39: 45374 | N39: 0 | O39: PREVENTIVO | P39: LUB_P_C | Q39: 1 | R39: 0.5 | S39: 0.5 | V39: verde | X39: CUMPLIDO | Y39: X | AF39: Ejecutada | AG39: MANTTO PLANTA | AH39: SUPERVISOR | AK39: S | AL39: LUB_P_C | AM39: 0.5 | AN39: 0.5 | AO39: 1 | AP39: 0.5
C40: PM02 | E40: DIA | G40: BOMBA HORIZONTAL DE RETORNO CURRIER | H40: Se cambio forros, frame, cover, de Reynosa, impulsor de Reymosa el hilo no es el correcto, se instaló de RPEE el impulsor y se cambió retenes, bocina y o ring y correas. | I40: 2 | J40: 4 | K40: 45375 | L40: 45375 | M40: 45375 | N40: 0 | O40: BACKLOG | P40: MEC_P_C | Q40: 2 | R40: 4 | S40: 8 | V40: verde | X40: CUMPLIDO | Z40: X | AF40: Ejecutada | AG40: MANTTO PLANTA | AH40: SUPERVISOR | AK40: S | AL40: MEC_P_C | AM40: 4 | AN40: 4 | AO40: 1 | AP40: 8
C41: PM01 | E41: DIA | G41: BOMBA DE LODOS 1 Y 2 | H41: Se cambió sellos, sogas grafitadas. | I41: 2 | J41: 5 | K41: 45375 | L41: 45375 | M41: 45375 | N41: 0 | O41: PREVENTIVO | P41: MEC_P_C | Q41: 2 | R41: 5 | S41: 10 | V41: verde | X41: CUMPLIDO | Z41: X | AF41: Ejecutada | AG41: MANTTO PLANTA | AH41: SUPERVISOR | AK41: S | AL41: MEC_P_C | AM41: 5 | AN41: 5 | AO41: 1 | AP41: 10
C42: PM01 | E42: DIA | G42: BOMBAS MARS 04 | H42: Se inspeccionó sistema de bombeo nivelación de aceite y cambio manómetros en botella de contra presión y traslado de caja de válvulas de bombas mars a almacén central. | I42: 2 | J42: 9 | K42: 45375 | L42: 45375 | M42: 45375 | N42: 0 | O42: PREVENTIVO | P42: MEC_P_C | Q42: 2 | R42: 9 | S42: 18 | V42: verde | X42: CUMPLIDO | Z42: X | AF42: Ejecutada | AG42: MANTTO PLANTA | AH42: SUPERVISOR | AK42: S | AL42: MEC_P_C | AM42: 9 | AN42: 9 | AO42: 1 | AP42: 18
C43: PM02 | E43: DIA | G43: MOLINO DE CAL | H43: Se reajusto los pernos de la tapa manhol. | I43: 2 | J43: 3 | K43: 45375 | L43: 45375 | M43: 45375 | N43: 0 | O43: BACKLOG | P43: MEC_P_C | Q43: 2 | R43: 3 | S43: 6 | V43: verde | X43: CUMPLIDO | Z43: X | AF43: Ejecutada | AG43: MANTTO PLANTA | AH43: SUPERVISOR | AK43: S | AL43: MEC_P_C | AM43: 3 | AN43: 3 | AO43: 1 | AP43: 6
C44: PM02 | E44: DIA | G44: BOMBA 01 DE ESPUMAS BULK | H44: Se cambió forros, frame cover, impulsor, reten, bocina, y caja de rodamientos completo. | I44: 2 | J44: 6 | K44: 45375 | L44: 45375 | M44: 45375 | N44: 0 | O44: BACKLOG | P44: MEC_P_C | Q44: 2 | R44: 6 | S44: 12 | V44: verde | X44: CUMPLIDO | Z44: X | AF44: Ejecutada | AG44: MANTTO PLANTA | AH44: SUPERVISOR | AK44: S | AL44: MEC_P_C | AM44: 6 | AN44: 6 | AO44: 1 | AP44: 12
C45: PM02 | E45: DIA | G45: BPMBA VERTICAL 02 DE RETORNO CURRIER | H45: Se alineó base de motor. | I45: 2 | J45: 3 | K45: 45375 | L45: 45375 | M45: 45375 | N45: 0 | O45: BACKLOG | P45: MEC_P_C | Q45: 2 | R45: 3 | S45: 6 | V45: verde | X45: CUMPLIDO | Z45: X | AF45: Ejecutada | AG45: MANTTO PLANTA | AH45: SUPERVISOR | AK45: S | AL45: MEC_P_C | AM45: 3 | AN45: 3 | AO45: 1 | AP45: 6
C46: PM01 | E46: DIA | G46: CEDAZO 01 | H46: Se cambió mallas H FLEX Y SFLEX. | I46: 2 | J46: 6 | K46: 45375 | L46: 45375 | M46: 45375 | N46: 0 | O46: PREVENTIVO | P46: MEC_P_C | Q46: 2 | R46: 6 | S46: 12 | V46: verde | X46: CUMPLIDO | Z46: X | AF46: Ejecutada | AG46: MANTTO PLANTA | AH46: SUPERVISOR | AK46: S | AL46: MEC_P_C | AM46: 6 | AN46: 6 | AO46: 1 | AP46: 12
C47: PM02 | E47: DIA | G47: SOPLADOR SPENSER | H47: Se niveló aceite en los tanques hidráulicos. | I47: 2 | J47: 9 | K47: 45375 | L47: 45375 | M47: 45375 | N47: 0 | O47: BACKLOG | P47: MEC_P_C | Q47: 2 | R47: 9 | S47: 18 | V47: verde | X47: CUMPLIDO | Z47: X | AF47: Ejecutada | AG47: MANTTO PLANTA | AH47: SUPERVISOR | AK47: S | AL47: MEC_P_C | AM47: 9 | AN47: 9 | AO47: 1 | AP47: 18
C48: PM02 | E48: DIA | G48: FILTRO PRENSA | H48: Se cambió barandas en plataforma superior. | I48: 2 | J48: 9 | K48: 45375 | L48: 45375 | M48: 45375 | N48: 0 | O48: BACKLOG | P48: MEC_P_C | Q48: 2 | R48: 9 | S48: 18 | V48: verde | X48: CUMPLIDO | Z48: X | AF48: Ejecutada | AG48: MANTTO PLANTA | AH48: SUPERVISOR | AK48: S | AL48: MEC_P_C | AM48: 9 | AN48: 9 | AO48: 1 | AP48: 18
C49: PM01 | E49: DIA | G49: BLOQUEO DE EQUIPOS EN PLANTA | H49: Se realizó los bloqueos y desbloqueo de las áreas de chancado, molienda, flotación y filtros , neutralizacion y bombas Mars. Se inspeccionó el motor de ZAF ya que su amperaje estaba elevado 7Amps su nominal 3amps, asoyo al desmontaje para su mantenimiento correspondiente. Se realizó limpieza, inspección, reajuste de tablero del estractor de polvo. | I49: 1 | J49: 9 | K49: 45375 | L49: 45375 | M49: 45375 | N49: 0 | O49: PREVENTIVO | P49: ELE_P_C | Q49: 1 | R49: 9 | S49: 9 | V49: verde | X49: CUMPLIDO | Z49: X | AF49: Ejecutada | AG49: MANTTO PLANTA | AH49: SUPERVISOR | AK49: S | AL49: ELE_P_C | AM49: 9 | AN49: 9 | AO49: 1 | AP49: 9
C50: PM02 | E50: DIA | G50: BODEGA DE ELECTRICISTAS | H50: *se realizó el traslado de las herramientas y accesorios al nuevo ambiente de la parte Eléctrica. Se hace las pruebas. | I50: 2 | J50: 2 | K50: 45375 | L50: 45375 | M50: 45375 | N50: 0 | O50: BACKLOG | P50: ELE_P_C | Q50: 2 | R50: 2 | S50: 4 | V50: verde | X50: CUMPLIDO | Z50: X | AF50: Ejecutada | AG50: MANTTO PLANTA | AH50: SUPERVISOR | AK50: S | AL50: ELE_P_C | AM50: 2 | AN50: 2 | AO50: 1 | AP50: 4
C51: PM02 | E51: DIA | G51: BOMBA GENERAL DE RELAVE N° 2 | H51: se realizó la desconección y desmontaje y montaje de la bomba general de relave # 2, presenta vibración, se realizará seguimiento. | I51: 2 | J51: 5 | K51: 45375 | L51: 45375 | M51: 45375 | N51: 0 | O51: BACKLOG | P51: ELE_P_C | Q51: 2 | R51: 5 | S51: 10 | V51: verde | X51: CUMPLIDO | Z51: X | AF51: Ejecutada | AG51: MANTTO PLANTA | AH51: SUPERVISOR | AK51: S | AL51: ELE_P_C | AM51: 5 | AN51: 5 | AO51: 1 | AP51: 10
... C72: PM01 | E72: DIA | G72: Celda Denver SP 18 nª12 de Cu Banco Nª3 | H72: Lubricacion de caja de rodamientos | I72: 1 | J72: 0.5 | K72: 45375 | L72: 45375 | M72: 45375 | N72: 0 | O72: PREVENTIVO | P72: LUB_P_C | Q72: 1 | R72: 0.5 | S72: 0.5 | V72: verde | X72: CUMPLIDO | Z72: X | AF72: Ejecutada | AG72: MANTTO PLANTA | AH72: SUPERVISOR | AK72: S | AL72: LUB_P_C | AM72: 0.5 | AN72: 0.5 | AO72: 1 | AP72: 0.5
C73: PM01 | E73: DIA | G73: BOMBA VERTICAL 2.5 DE CLARIFICADOR #01 | H73: Mantenimiento, se inspeccionó los forros, encontrando en buenas condiciones | I73: 2 | J73: 4 | K73: 45376 | L73: 45376 | M73: 45376 | N73: 0 | O73: PREVENTIVO | P73: MEC_P_C | Q73: 2 | R73: 4 | S73: 8 | V73: verde | X73: CUMPLIDO | AA73: X | AF73: Ejecutada | AG73: MANTTO PLANTA | AH73: SUPERVISOR | AK73: S | AL73: MEC_P_C | AM73: 4 | AN73: 4 | AO73: 1 | AP73: 8
C74: PM01 | E74: DIA | G74: BOMBA HIDROSTAL STAN BY | H74: Se habilita base de motor y de bomba | I74: 2 | J74: 5 | K74: 45376 | L74: 45376 | M74: 45376 | N74: 0 | O74: PREVENTIVO | P74: MEC_P_C | Q74: 2 | R74: 5 | S74: 10 | V74: verde | X74: CUMPLIDO | AA74: X | AF74: Ejecutada | AG74: MANTTO PLANTA | AH74: SUPERVISOR | AK74: S | AL74: MEC_P_C | AM74: 5 | AN74: 5 | AO74: 1 | AP74: 10
C75: PM02 | E75: DIA | G75: BOMBAS MARS | H75: Reparación de pisos lado bombas mars 04 | I75: 2 | J75: 9 | K75: 45376 | L75: 45376 | M75: 45376 | N75: 0 | O75: BACKLOG | P75: MEC_P_C | Q75: 2 | R75: 9 | S75: 18 | V75: verde | X75: CUMPLIDO | AA75: X | AF75: Ejecutada | AG75: MANTTO PLANTA | AH75: SUPERVISOR | AK75: S | AL75: MEC_P_C | AM75: 9 | AN75: 9 | AO75: 1 | AP75: 18
C76: PM01 | E76: DIA | G76: MOLINO #01 | H76: Se inspeccionó los rodamientos y reajuste de pernos de las chumaceras | I76: 2 | J76: 4 | K76: 45376 | L76: 45376 | M76: 45376 | N76: 0 | O76: PREVENTIVO | P76: MEC_P_C | Q76: 2 | R76: 4 | S76: 8 | V76: verde | X76: CUMPLIDO | AA76: X | AF76: Ejecutada | AG76: MANTTO PLANTA | AH76: SUPERVISOR | AK76: S | AL76: MEC_P_C | AM76: 4 | AN76: 4 | AO76: 1 | AP76: 8
C77: PM01 | E77: DIA | G77: BOMBA 6X4 EG STAND BY | H77: Se reparó pedestal para stand by. | I77: 2 | J77: 5 | K77: 45376 | L77: 45376 | M77: 45376 | N77: 0 | O77: PREVENTIVO | P77: MEC_P_C | Q77: 2 | R77: 5 | S77: 10 | V77: verde | X77: CUMPLIDO | AA77: X | AF77: Ejecutada | AG77: MANTTO PLANTA | AH77: SUPERVISOR | AK77: S | AL77: MEC_P_C | AM77: 5 | AN77: 5 | AO77: 1 | AP77: 10
C78: PM02 | E78: DIA | G78: BOMBA VERTICAL #01 DE RETORNO CURRIER | H78: Se cambió bomba completa y fabricación de guarda de protección. | I78: 2 | J78: 8 | K78: 45376 | L78: 45376 | M78: 45376 | N78: 0 | O78: BACKLOG | P78: MEC_P_C | Q78: 2 | R78: 8 | S78: 16 | V78: verde | X78: CUMPLIDO | AA78: X | AF78: Ejecutada | AG78: MANTTO PLANTA | AH78: SUPERVISOR | AK78: S | AL78: MEC_P_C | AM78: 8 | AN78: 8 | AO78: 1 | AP78: 16
C79: PM02 | E79: DIA | G79: FAJA #09 DE CHANCADO | H79: Se reparó guarda lateral de polea cola. | I79: 2 | J79: 1 | K79: 45376 | L79: 45376 | M79: 45376 | N79: 0 | O79: BACKLOG | P79: MEC_P_C | Q79: 2 | R79: 1 | S79: 2 | V79: verde | X79: CUMPLIDO | AA79: X | AF79: Ejecutada | AG79: MANTTO PLANTA | AH79: SUPERVISOR | AK79: S | AL79: MEC_P_C | AM79: 1 | AN79: 1 | AO79: 1 | AP79: 2
C80: PM01 | E80: DIA | G80: SOPLADOR SPENSER | H80: Se cambió acoplamiento y se alinea. | I80: 2 | J80: 9 | K80: 45376 | L80: 45376 | M80: 45376 | N80: 0 | O80: PREVENTIVO | P80: MEC_P_C | Q80: 2 | R80: 9 | S80: 18 | V80: verde | X80: CUMPLIDO | AA80: X | AF80: Ejecutada | AG80: MANTTO PLANTA | AH80: SUPERVISOR | AK80: S | AL80: MEC_P_C | AM80: 9 | AN80: 9 | AO80: 1 | AP80: 18
C81: PM01 | E81: DIA | G81: BOMBA VERTICAL #02 DE WNCO 84 | H81: Mantenimiento, se inspeccionó los forros, encontrando en buenas condiciones. | I81: 2 | J81: 4 | K81: 45376 | L81: 45376 | M81: 45376 | N81: 0 | O81: PREVENTIVO | P81: MEC_P_C | Q81: 2 | R81: 4 | S81: 8 | V81: verde | X81: CUMPLIDO | AA81: X | AF81: Ejecutada | AG81: MANTTO PLANTA | AH81: SUPERVISOR | AK81: S | AL81: MEC_P_C | AM81: 4 | AN81: 4 | AO81: 1 | AP81: 8
C82: PM02 | E82: DIA | G82: FILTRO PRENSA | H82: Se instalo roda pies y pintado de las barandas | I82: 2 | J82: 5 | K82: 45376 | L82: 45376 | M82: 45376 | N82: 0 | O82: BACKLOG | P82: MEC_P_C | Q82: 2 | R82: 5 | S82: 10 | V82: verde | X82: CUMPLIDO | AA82: X | AF82: Ejecutada | AG82: MANTTO PLANTA | AH82: SUPERVISOR | AK82: S | AL82: MEC_P_C | AM82: 5 | AN82: 5 | AO82: 1 | AP82: 10
C83: PM01 | E83: DIA | G83: PLANTA | H83: Se traslado los materiales a punto de acopio cancha de chatarra | I83: 2 | J83: 8 | K83: 45376 | L83: 45376 | M83: 45376 | N83: 0 | O83: PREVENTIVO | P83: MEC_P_C | Q83: 2 | R83: 8 | S83: 16 | V83: verde | X83: CUMPLIDO | AA83: X | AF83: Ejecutada | AG83: MANTTO PLANTA | AH83: SUPERVISOR | AK83: S | AL83: MEC_P_C | AM83: 8 | AN83: 8 | AO83: 1 | AP83: 16
...

Sheet RUTINA
F1: 13 | N1: FECHAS | U1: MO | W1: OC | X1: =DATE(2024,1,1) - MOD(WEEKDAY(DATE(2022,1,1)), 7)+ (F1-2)*7+5 -> 45374 | Y1: =+X1+1 -> 45375 | Z1: =+Y1+1 -> 45376 | AA1: =+Z1+1 -> 45377 | AB1: =+AA1+1 -> 45378 | AC1: =+AB1+1 -> 45379 | AD1: =+AC1+1 -> 45380 | AE1: DIAS | AJ1: ADH
A2: =+CONCATENATE("PROGRAMA - SEMANA ",F1) -> PROGRAMA - SEMANA 13 | O2: MEC_P_C | P2: ELE_P_C | Q2: ELECN_P_C | R2: INST_P_C | S2: LUB_P_C | X2: =+CONCATENATE("SEMANA ",F1) -> SEMANA 13 | AE2: ADHERENCIA | AJ2: CONTROL HORAS HOMBRE
A3: OT | B3: PM | C3: CODIGO | D3: TURNO | E3: PREV. | F3: EQUIPO | G3: SISTEMA FUNCIONAL | H3: FREC CANT | I3: HORAS ACUM SOLICITADO | J3: FECHA PROGRAMA | K3: INICIO PARADA | L3: FIN PARADA | M3: REPUESTO | N3: SUSTENTO | O3: PERSONAL | P3: H | Q3: HH | R3: HH// | S3: HORAS PARADA | T3: OS | U3: INDICADOR | V3: ORDEN COMPRA | W3: SEGUIMIENTO | X3: SABADO | Y3: DOMINGO | Z3: LUNES | AA3: MARTES | AB3: MIÉRCOLES | AC3: JUEVES | AD3: VIERNES | AE3: ACTIVIDAD | AF3: EJECUTANTE | AG3: SOLICITA | AH3: CAUSA 1 | AI3: CAUSA 2 | AJ3: S/N | AK3: PTRAB | AL3: HH PLAN | AM3: HH REAL | AN3: DESVIO | AO3: HH//REAL
B4: PM01 | D4: DIA | F4: FAJA 5"A" | G4: Se vulcanizóel jebe antifricción del trinquete. | H4: 2 | I4: 9 | J4: 45374 | K4: 45374 | L4: 45374 | M4: =Tabla1[[#This Row],[REPUESTO]:[SUSTENTO]] -> 0 | N4: =IF(Tabla1[[#This Row],[PM]]="PM01","PREVENTIVO",IF(Tabla1[[#This Row],[PM]]="PM02","BACKLOG","CORRECTIVO")) -> PREVENTIVO | O4: MEC_P_C | P4: =Tabla1[[#This Row],[FREC CANT]] -> 2 | Q4: =Tabla1[[#This Row],[HORAS ACUM SOLICITADO]] -> 9 | R4: =(Tabla1[[#This Row],[H]]*Tabla1[[#This Row],[HH]]) -> 18 | U4: verde | W4: =IF(Tabla1[[#This Row],[SUSTENTO]]="CORRECTIVO","ADICIONAL",IF(AND(Tabla1[[#This Row],[SUSTENTO]]="PREVENTIVO",Tabla1[[#This Row],[INDICADOR]]="VERDE"),"CUMPLIDO",IF(AND(Tabla1[[#This Row],[SUSTENTO]]="BACKLOG",Tabla1[[#This Row],[INDICADOR]]="VERDE"),"CUMPLIDO","PENDIENTE"))) -> CUMPLIDO | X4: =+IF(X$1=Tabla1[[#This Row],[INICIO PARADA]],"X",IF(Tabla1[[#This Row],[FIN PARADA]]=X$1,"X","")) -> X | Y4: =+IF(Y$1=Tabla1[[#This Row],[INICIO PARADA]],"X",IF(Tabla1[[#This Row],[FIN PARADA]]=Y$1,"X","")) | Z4: =+IF(Z$1=Tabla1[[#This Row],[INICIO PARADA]],"X",IF(Tabla1[[#This Row],[FIN PARADA]]=Z$1,"X","")) | AA4: =+IF(AA$1=Tabla1[[#This Row],[INICIO PARADA]],"X",IF(Tabla1[[#This Row],[FIN PARADA]]=AA$1,"X","")) | AB4: =+IF(AB$1=Tabla1[[#This Row],[INICIO PARADA]],"X",IF(Tabla1[[#This Row],[FIN PARADA]]=AB$1,"X","")) | AC4: =+IF(AC$1=Tabla1[[#This Row],[INICIO PARADA]],"X",IF(Tabla1[[#This Row],[FIN PARADA]]=AC$1,"X","")) | AD4: =+IF(AD$1=Tabla1[[#This Row],[INICIO PARADA]],"X",IF(Tabla1[[#This Row],[FIN PARADA]]=AD$1,"X","")) | AE4: =+IF(Tabla1[[#This Row],[SEGUIMIENTO]]="CUMPLIDO","Ejecutada",IF(Tabla1[[#This Row],[SEGUIMIENTO]]="PENDIENTE","No Ejecutada","ADICIONAL")) -> Ejecutada | AF4: MANTTO PLANTA | AG4: SUPERVISOR | AJ4: =IF(Tabla1[[#This Row],[SUSTENTO]]="CORRECTIVO","N","S") -> S | AK4: =+Tabla1[[#This Row],[PERSONAL]] -> MEC_P_C | AL4: =+IF(Tabla1[[#This Row],[S/N]]="S",IF(Tabla1[[#This Row],[HH]]=0,Tabla1[[#This Row],[HH//]],Tabla1[[#This Row],[HH]]),0) -> 9 | AM4: 9 | AN4: =IF(Tabla1[[#This Row],[S/N]]="s",+IFERROR(Tabla1[[#This Row],[HH REAL]]/Tabla1[[#This Row],[HH PLAN]],0),"") -> 1 | AO4: =Tabla1[[#This Row],[FREC CANT]]*Tabla1[[#This Row],[HH REAL]] -> 18
B5: PM02 | D5: DIA | F5: BOMBAS MARS | G5: Se reparó las parrillas de la canaleta acceso a bomba putzmeister. | H5: 2 | I5: 7 | J5: 45374 | K5: 45374 | L5: 45374 | M5: =Tabla1[[#This Row],[REPUESTO]:[SUSTENTO]] -> 0 | N5: =IF(Tabla1[[#This Row],[PM]]="PM01","PREVENTIVO",IF(Tabla1[[#This Row],[PM]]="PM02","BACKLOG","CORRECTIVO")) -> BACKLOG | O5: MEC_P_C | P5: =Tabla1[[#This Row],[FREC CANT]] -> 2 | Q5: =Tabla1[[#This Row],[HORAS ACUM SOLICITADO]] -> 7 | R5: =(Tabla1[[#This Row],[H]]*Tabla1[[#This Row],[HH]]) -> 14 | U5: verde | W5: =IF(Tabla1[[#This Row],[SUSTENTO]]="CORRECTIVO","ADICIONAL",IF(AND(Tabla1[[#This Row],[SUSTENTO]]="PREVENTIVO",Tabla1[[#This Row],[INDICADOR]]="VERDE"),"CUMPLIDO",IF(AND(Tabla1[[#This Row],[SUSTENTO]]="BACKLOG",Tabla1[[#This Row],[INDICADOR]]="VERDE"),"CUMPLIDO","PENDIENTE"))) -> CUMPLIDO | X5: =+IF(X$1=Tabla1[[#This Row],[INICIO PARADA]],"X",IF(Tabla1[[#This Row],[FIN PARADA]]=X$1,"X","")) -> X | Y5: =+IF(Y$1=Tabla1[[#This Row],[INICIO PARADA]],"X",IF(Tabla1[[#This Row],[FIN PARADA]]=Y$1,"X","")) | Z5: =+IF(Z$1=Tabla1[[#This Row],[INICIO PARADA]],"X",IF(Tabla1[[#This Row],[FIN PARADA]]=Z$1,"X","")) | AA5: =+IF(AA$1=Tabla1[[#This Row],[INICIO PARADA]],"X",IF(Tabla1[[#This Row],[FIN PARADA]]=AA$1,"X","")) | AB5: =+IF(AB$1=Tabla1[[#This Row],[INICIO PARADA]],"X",IF(Tabla1[[#This Row],[FIN PARADA]]=AB$1,"X","")) | AC5: =+IF(AC$1=Tabla1[[#This Row],[INICIO PARADA]],"X",IF(Tabla1[[#This Row],[FIN PARADA]]=AC$1,"X","")) | AD5: =+IF(AD$1=Tabla1[[#This Row],[INICIO PARADA]],"X",IF(Tabla1[[#This Row],[FIN PARADA]]=AD$1,"X","")) | AE5: =+IF(Tabla1[[#This Row],[SEGUIMIENTO]]="CUMPLIDO","Ejecutada",IF(Tabla1[[#This Row],[SEGUIMIENTO]]="PENDIENTE","No Ejecutada","ADICIONAL")) -> Ejecutada | AF5: MANTTO PLANTA | AG5: SUPERVISOR | AJ5: =IF(Tabla1[[#This Row],[SUSTENTO]]="CORRECTIVO","N","S") -> S | AK5: =+Tabla1[[#This Row],[PERSONAL]] -> MEC_P_C | AL5: =+IF(Tabla1[[#This Row],[S/N]]="S",IF(Tabla1[[#This Row],[HH]]=0,Tabla1[[#This Row],[HH//]],Tabla1[[#This Row],[HH]]),0) -> 7 | AM5: 7 | AN5: =IF(Tabla1[[#This Row],[S/N]]="s",+IFERROR(Tabla1[[#This Row],[HH REAL]]/Tabla1[[#This Row],[HH PLAN]],0),"") -> 1 | AO5: =Tabla1[[#This Row],[FREC CANT]]*Tabla1[[#This Row],[HH REAL]] -> 14
B6: PM01 | D6: DIA | F6: STAND BY WENCO 84 | G6: Se desmontó los rodamientos de bomba y se trasladó el eje hacia maestranza para su maquinado. | H6: 2 | I6: 1 | J6: 45374 | K6: 45374 | L6: 45374 | M6: =Tabla1[[#This Row],[REPUESTO]:[SUSTENTO]] -> 0 | N6: =IF(Tabla1[[#This Row],[PM]]="PM01","PREVENTIVO",IF(Tabla1[[#This Row],[PM]]="PM02","BACKLOG","CORRECTIVO")) -> PREVENTIVO | O6: MEC_P_C | P6: =Tabla1[[#This Row],[FREC CANT]] -> 2 | Q6: =Tabla1[[#This Row],[HORAS ACUM SOLICITADO]] -> 1 | R6: =(Tabla1[[#This Row],[H]]*Tabla1[[#This Row],[HH]]) -> 2 | U6: verde | W6: =IF(Tabla1[[#This Row],[SUSTENTO]]="CORRECTIVO","ADICIONAL",IF(AND(Tabla1[[#This Row],[SUSTENTO]]="PREVENTIVO",Tabla1[[#This Row],[INDICADOR]]="VERDE"),"CUMPLIDO",IF(AND(Tabla1[[#This Row],[SUSTENTO]]="BACKLOG",Tabla1[[#This Row],[INDICADOR]]="VERDE"),"CUMPLIDO","PENDIENTE"))) -> CUMPLIDO | X6: =+IF(X$1=Tabla1[[#This Row],[INICIO PARADA]],"X",IF(Tabla1[[#This Row],[FIN PARADA]]=X$1,"X","")) -> X | Y6: =+IF(Y$1=Tabla1[[#This Row],[INICIO PARADA]],"X",IF(Tabla1[[#This Row],[FIN PARADA]]=Y$1,"X","")) | Z6: =+IF(Z$1=Tabla1[[#This Row],[INICIO PARADA]],"X",IF(Tabla1[[#This Row],[FIN PARADA]]=Z$1,"X","")) | AA6: =+IF(AA$1=Tabla1[[#This Row],[INICIO PARADA]],"X",IF(Tabla1[[#This Row],[FIN PARADA]]=AA$1,"X","")) | AB6: =+IF(AB$1=Tabla1[[#This Row],[INICIO PARADA]],"X",IF(Tabla1[[#This Row],[FIN PARADA]]=AB$1,"X","")) | AC6: =+IF(AC$1=Tabla1[[#This Row],[INICIO PARADA]],"X",IF(Tabla1[[#This Row],[FIN PARADA]]=AC$1,"X","")) | AD6: =+IF(AD$1=Tabla1[[#This Row],[INICIO PARADA]],"X",IF(Tabla1[[#This Row],[FIN PARADA]]=AD$1,"X","")) | AE6: =+IF(Tabla1[[#This Row],[SEGUIMIENTO]]="CUMPLIDO","Ejecutada",IF(Tabla1[[#This Row],[SEGUIMIENTO]]="PENDIENTE","No Ejecutada","ADICIONAL")) -> Ejecutada | AF6: MANTTO PLANTA | AG6: SUPERVISOR | AJ6: =IF(Tabla1[[#This Row],[SUSTENTO]]="CORRECTIVO","N","S") -> S | AK6: =+Tabla1[[#This Row],[PERSONAL]] -> MEC_P_C | AL6: =+IF(Tabla1[[#This Row],[S/N]]="S",IF(Tabla1[[#This Row],[HH]]=0,Tabla1[[#This Row],[HH//]],Tabla1[[#This Row],[HH]]),0) -> 1 | AM6: 1 | AN6: =IF(Tabla1[[#This Row],[S/N]]="s",+IFERROR(Tabla1[[#This Row],[HH REAL]]/Tabla1[[#This Row],[HH PLAN]],0),"") -> 1 | AO6: =Tabla1[[#This Row],[FREC CANT]]*Tabla1[[#This Row],[HH REAL]] -> 2
B7: PM01 | D7: DIA | F7: CHANCADORA TERCIARIA | G7: Se habilitó materiales para reubicar el filtro de aire de chancadora terciaría. | H7: 2 | I7: 1 | J7: 45374 | K7: 45374 | L7: 45374 | M7: =Tabla1[[#This Row],[REPUESTO]:[SUSTENTO]] -> 0 | N7: =IF(Tabla1[[#This Row],[PM]]="PM01","PREVENTIVO",IF(Tabla1[[#This Row],[PM]]="PM02","BACKLOG","CORRECTIVO")) -> PREVENTIVO | O7: MEC_P_C | P7: =Tabla1[[#This Row],[FREC CANT]] -> 2 | Q7: =Tabla1[[#This Row],[HORAS ACUM SOLICITADO]] -> 1 | R7: =(Tabla1[[#This Row],[H]]*Tabla1[[#This Row],[HH]]) -> 2 | U7: verde | W7: =IF(Tabla1[[#This Row],[SUSTENTO]]="CORRECTIVO","ADICIONAL",IF(AND(Tabla1[[#This Row],[SUSTENTO]]="PREVENTIVO",Tabla1[[#This Row],[INDICADOR]]="VERDE"),"CUMPLIDO",IF(AND(Tabla1[[#This Row],[SUSTENTO]]="BACKLOG",Tabla1[[#This Row],[INDICADOR]]="VERDE"),"CUMPLIDO","PENDIENTE"))) -> CUMPLIDO | X7: =+IF(X$1=Tabla1[[#This Row],[INICIO PARADA]],"X",IF(Tabla1[[#This Row],[FIN PARADA]]=X$1,"X","")) -> X | Y7: =+IF(Y$1=Tabla1[[#This Row],[INICIO PARADA]],"X",IF(Tabla1[[#This Row],[FIN PARADA]]=Y$1,"X","")) | Z7: =+IF(Z$1=Tabla1[[#This Row],[INICIO PARADA]],"X",IF(Tabla1[[#This Row],[FIN PARADA]]=Z$1,"X","")) | AA7: =+IF(AA$1=Tabla1[[#This Row],[INICIO PARADA]],"X",IF(Tabla1[[#This Row],[FIN PARADA]]=AA$1,"X","")) | AB7: =+IF(AB$1=Tabla1[[#This Row],[INICIO PARADA]],"X",IF(Tabla1[[#This Row],[FIN PARADA]]=AB$1,"X","")) | AC7: =+IF(AC$1=Tabla1[[#This Row],[INICIO PARADA]],"X",IF(Tabla1[[#This Row],[FIN PARADA]]=AC$1,"X","")) | AD7: =+IF(AD$1=Tabla1[[#This Row],[INICIO PARADA]],"X",IF(Tabla1[[#This Row],[FIN PARADA]]=AD$1,"X","")) | AE7: =+IF(Tabla1[[#This Row],[SEGUIMIENTO]]="CUMPLIDO","Ejecutada",IF(Tabla1[[#This Row],[SEGUIMIENTO]]="PENDIENTE","No Ejecutada","ADICIONAL")) -> Ejecutada | AF7: MANTTO PLANTA | AG7: SUPERVISOR | AJ7: =IF(Tabla1[[#This Row],[SUSTENTO]]="CORRECTIVO","N","S") -> S | AK7: =+Tabla1[[#This Row],[PERSONAL]] -> MEC_P_C | AL7: =+IF(Tabla1[[#This Row],[S/N]]="S",IF(Tabla1[[#This Row],[HH]]=0,Tabla1[[#This Row],[HH//]],Tabla1[[#This Row],[HH]]),0) -> 1 | AM7: 1 | AN7: =IF(Tabla1[[#This Row],[S/N]]="s",+IFERROR(Tabla1[[#This Row],[HH REAL]]/Tabla1[[#This Row],[HH PLAN]],0),"") -> 1 | AO7: =Tabla1[[#This Row],[FREC CANT]]*Tabla1[[#This Row],[HH REAL]] -> 2
B8: PM03 | D8: DIA | F8: BOMBA DE CICLON DE CAL | G8: Se cambió forros, frame, cover, impulsor, bocina, retenes y oring de bomba de ciclon de cal. | H8: 2 | I8: 5 | J8: 45374 | K8: 45374 | L8: 45374 | M8: =Tabla1[[#This Row],[REPUESTO]:[SUSTENTO]] -> 0 | N8: =IF(Tabla1[[#This Row],[PM]]="PM01","PREVENTIVO",IF(Tabla1[[#This Row],[PM]]="PM02","BACKLOG","CORRECTIVO")) -> CORRECTIVO | O8: MEC_P_C | P8: =Tabla1[[#This Row],[FREC CANT]] -> 2 | Q8: =Tabla1[[#This Row],[HORAS ACUM SOLICITADO]] -> 5 | R8: =(Tabla1[[#This Row],[H]]*Tabla1[[#This Row],[HH]]) -> 10 | U8: verde | W8: =IF(Tabla1[[#This Row],[SUSTENTO]]="CORRECTIVO","ADICIONAL",IF(AND(Tabla1[[#This Row],[SUSTENTO]]="PREVENTIVO",Tabla1[[#This Row],[INDICADOR]]="VERDE"),"CUMPLIDO",IF(AND(Tabla1[[#This Row],[SUSTENTO]]="BACKLOG",Tabla1[[#This Row],[INDICADOR]]="VERDE"),"CUMPLIDO","PENDIENTE"))) -> ADICIONAL | X8: =+IF(X$1=Tabla1[[#This Row],[INICIO PARADA]],"X",IF(Tabla1[[#This Row],[FIN PARADA]]=X$1,"X","")) -> X | Y8: =+IF(Y$1=Tabla1[[#This Row],[INICIO PARADA]],"X",IF(Tabla1[[#This Row],[FIN PARADA]]=Y$1,"X","")) | Z8: =+IF(Z$1=Tabla1[[#This Row],[INICIO PARADA]],"X",IF(Tabla1[[#This Row],[FIN PARADA]]=Z$1,"X","")) | AA8: =+IF(AA$1=Tabla1[[#This Row],[INICIO PARADA]],"X",IF(Tabla1[[#This Row],[FIN PARADA]]=AA$1,"X","")) | AB8: =+IF(AB$1=Tabla1[[#This Row],[INICIO PARADA]],"X",IF(Tabla1[[#This Row],[FIN PARADA]]=AB$1,"X","")) | AC8: =+IF(AC$1=Tabla1[[#This Row],[INICIO PARADA]],"X",IF(Tabla1[[#This Row],[FIN PARADA]]=AC$1,"X","")) | AD8: =+IF(AD$1=Tabla1[[#This Row],[INICIO PARADA]],"X",IF(Tabla1[[#This Row],[FIN PARADA]]=AD$1,"X","")) | AE8: =+IF(Tabla1[[#This Row],[SEGUIMIENTO]]="CUMPLIDO","Ejecutada",IF(Tabla1[[#This Row],[SEGUIMIENTO]]="PENDIENTE","No Ejecutada","ADICIONAL")) -> ADICIONAL | AF8: MANTTO PLANTA | AG8: SUPERVISOR | AH8: Incluída en Backlog | AJ8: =IF(Tabla1[[#This Row],[SUSTENTO]]="CORRECTIVO","N","S") -> N | AK8: =+Tabla1[[#This Row],[PERSONAL]] -> MEC_P_C | AL8: =+IF(Tabla1[[#This Row],[S/N]]="S",IF(Tabla1[[#This Row],[HH]]=0,Tabla1[[#This Row],[HH//]],Tabla1[[#This Row],[HH]]),0) -> 0 | AM8: 5 | AN8: =IF(Tabla1[[#This Row],[S/N]]="s",+IFERROR(Tabla1[[#This Row],[HH REAL]]/Tabla1[[#This Row],[HH PLAN]],0),"") | AO8: =Tabla1[[#This Row],[FREC CANT]]*Tabla1[[#This Row],[HH REAL]] -> 10
B9: PM01 | D9: DIA | F9: APRON FEEDER | G9: Se reajusto los pernos de 1/2 y se realizó la sujeción de las placas | H9: 2 | I9: 1 | J9: 45374 | K9: 45374 | L9: 45374 | M9: =Tabla1[[#This Row],[REPUESTO]:[SUSTENTO]] -> 0 | N9: =IF(Tabla1[[#This Row],[PM]]="PM01","PREVENTIVO",IF(Tabla1[[#This Row],[PM]]="PM02","BACKLOG","CORRECTIVO")) -> PREVENTIVO | O9: MEC_P_C | P9: =Tabla1[[#This Row],[FREC CANT]] -> 2 | Q9: =Tabla1[[#This Row],[HORAS ACUM SOLICITADO]] -> 1 | R9: =(Tabla1[[#This Row],[H]]*Tabla1[[#This Row],[HH]]) -> 2 | U9: verde | W9: =IF(Tabla1[[#This Row],[SUSTENTO]]="CORRECTIVO","ADICIONAL",IF(AND(Tabla1[[#This Row],[SUSTENTO]]="PREVENTIVO",Tabla1[[#This Row],[INDICADOR]]="VERDE"),"CUMPLIDO",IF(AND(Tabla1[[#This Row],[SUSTENTO]]="BACKLOG",Tabla1[[#This Row],[INDICADOR]]="VERDE"),"CUMPLIDO","PENDIENTE"))) -> CUMPLIDO | X9: =+IF(X$1=Tabla1[[#This Row],[INICIO PARADA]],"X",IF(Tabla1[[#This Row],[FIN PARADA]]=X$1,"X","")) -> X | Y9: =+IF(Y$1=Tabla1[[#This Row],[INICIO PARADA]],"X",IF(Tabla1[[#This Row],[FIN PARADA]]=Y$1,"X","")) | Z9: =+IF(Z$1=Tabla1[[#This Row],[INICIO PARADA]],"X",IF(Tabla1[[#This Row],[FIN PARADA]]=Z$1,"X","")) | AA9: =+IF(AA$1=Tabla1[[#This Row],[INICIO PARADA]],"X",IF(Tabla1[[#This Row],[FIN PARADA]]=AA$1,"X","")) | AB9: =+IF(AB$1=Tabla1[[#This Row],[INICIO PARADA]],"X",IF(Tabla1[[#This Row],[FIN PARADA]]=AB$1,"X","")) | AC9: =+IF(AC$1=Tabla1[[#This Row],[INICIO PARADA]],"X",IF(Tabla1[[#This Row],[FIN PARADA]]=AC$1,"X","")) | AD9: =+IF(AD$1=Tabla1[[#This Row],[INICIO PARADA]],"X",IF(Tabla1[[#This Row],[FIN PARADA]]=AD$1,"X","")) | AE9: =+IF(Tabla1[[#This Row],[SEGUIMIENTO]]="CUMPLIDO","Ejecutada",IF(Tabla1[[#This Row],[SEGUIMIENTO]]="PENDIENTE","No Ejecutada","ADICIONAL")) -> Ejecutada | AF9: MANTTO PLANTA | AG9: SUPERVISOR | AJ9: =IF(Tabla1[[#This Row],[SUSTENTO]]="CORRECTIVO","N","S") -> S | AK9: =+Tabla1[[#This Row],[PERSONAL]] -> MEC_P_C | AL9: =+IF(Tabla1[[#This Row],[S/N]]="S",IF(Tabla1[[#This Row],[HH]]=0,Tabla1[[#This Row],[HH//]],Tabla1[[#This Row],[HH]]),0) -> 1 | AM9: 1 | AN9: =IF(Tabla1[[#This Row],[S/N]]="s",+IFERROR(Tabla1[[#This Row],[HH REAL]]/Tabla1[[#This Row],[HH PLAN]],0),"") -> 1 | AO9: =Tabla1[[#This Row],[FREC CANT]]*Tabla1[[#This Row],[HH REAL]] -> 2
B10: PM01 | D10: DIA | F10: SOPLADOR SPENSER | G10: Se realizó el alineamiento de eje motor de soplador, aun se continuara con el alineamiento. | H10: 2 | I10: 8 | J10: 45374 | K10: 45374 | L10: 45374 | M10: =Tabla1[[#This Row],[REPUESTO]:[SUSTENTO]] -> 0 | N10: =IF(Tabla1[[#This Row],[PM]]="PM01","PREVENTIVO",IF(Tabla1[[#This Row],[PM]]="PM02","BACKLOG","CORRECTIVO")) -> PREVENTIVO | O10: MEC_P_C | P10: =Tabla1[[#This Row],[FREC CANT]] -> 2 | Q10: =Tabla1[[#This Row],[HORAS ACUM SOLICITADO]] -> 8 | R10: =(Tabla1[[#This Row],[H]]*Tabla1[[#This Row],[HH]]) -> 16 | U10: verde | W10: =IF(Tabla1[[#This Row],[SUSTENTO]]="CORRECTIVO","ADICIONAL",IF(AND(Tabla1[[#This Row],[SUSTENTO]]="PREVENTIVO",Tabla1[[#This Row],[INDICADOR]]="VERDE"),"CUMPLIDO",IF(AND(Tabla1[[#This Row],[SUSTENTO]]="BACKLOG",Tabla1[[#This Row],[INDICADOR]]="VERDE"),"CUMPLIDO","PENDIENTE"))) -> CUMPLIDO | X10: =+IF(X$1=Tabla1[[#This Row],[INICIO PARADA]],"X",IF(Tabla1[[#This Row],[FIN PARADA]]=X$1,"X","")) -> X | Y10: =+IF(Y$1=Tabla1[[#This Row],[INICIO PARADA]],"X",IF(Tabla1[[#This Row],[FIN PARADA]]=Y$1,"X","")) | Z10: =+IF(Z$1=Tabla1[[#This Row],[INICIO PARADA]],"X",IF(Tabla1[[#This Row],[FIN PARADA]]=Z$1,"X","")) | AA10: =+IF(AA$1=Tabla1[[#This Row],[INICIO PARADA]],"X",IF(Tabla1[[#This Row],[FIN PARADA]]=AA$1,"X","")) | AB10: =+IF(AB$1=Tabla1[[#This Row],[INICIO PARADA]],"X",IF(Tabla1[[#This Row],[FIN PARADA]]=AB$1,"X","")) | AC10: =+IF(AC$1=Tabla1[[#This Row],[INICIO PARADA]],"X",IF(Tabla1[[#This Row],[FIN PARADA]]=AC$1,"X","")) | AD10: =+IF(AD$1=Tabla1[[#This Row],[INICIO PARADA]],"X",IF(Tabla1[[#This Row],[FIN PARADA]]=AD$1,"X","")) | AE10: =+IF(Tabla1[[#This Row],[SEGUIMIENTO]]="CUMPLIDO","Ejecutada",IF(Tabla1[[#This Row],[SEGUIMIENTO]]="PENDIENTE","No Ejecutada","ADICIONAL")) -> Ejecutada | AF10: MANTTO PLANTA | AG10: SUPERVISOR | AJ10: =IF(Tabla1[[#This Row],[SUSTENTO]]="CORRECTIVO","N","S") -> S | AK10: =+Tabla1[[#This Row],[PERSONAL]] -> MEC_P_C | AL10: =+IF(Tabla1[[#This Row],[S/N]]="S",IF(Tabla1[[#This Row],[HH]]=0,Tabla1[[#This Row],[HH//]],Tabla1[[#This Row],[HH]]),0) -> 8 | AM10: 8 | AN10: =IF(Tabla1[[#This Row],[S/N]]="s",+IFERROR(Tabla1[[#This Row],[HH REAL]]/Tabla1[[#This Row],[HH PLAN]],0),"") -> 1 | AO10: =Tabla1[[#This Row],[FREC CANT]]*Tabla1[[#This Row],[HH REAL]] -> 16
B11: PM02 | D11: DIA | F11: FILTRO PRENSA | G11: Se cambió baranda en plataforma superior. | H11: 2 | I11: 7 | J11: 45374 | K11: 45374 | L11: 45374 | M11: =Tabla1[[#This Row],[REPUESTO]:[SUSTENTO]] -> 0 | N11: =IF(Tabla1[[#This Row],[PM]]="PM01","PREVENTIVO",IF(Tabla1[[#This Row],[PM]]="PM02","BACKLOG","CORRECTIVO")) -> BACKLOG | O11: MEC_P_C | P11: =Tabla1[[#This Row],[FREC CANT]] -> 2 | Q11: =Tabla1[[#This Row],[HORAS ACUM SOLICITADO]] -> 7 | R11: =(Tabla1[[#This Row],[H]]*Tabla1[[#This Row],[HH]]) -> 14 | U11: verde | W11: =IF(Tabla1[[#This Row],[SUSTENTO]]="CORRECTIVO","ADICIONAL",IF(AND(Tabla1[[#This Row],[SUSTENTO]]="PREVENTIVO",Tabla1[[#This Row],[INDICADOR]]="VERDE"),"CUMPLIDO",IF(AND(Tabla1[[#This Row],[SUSTENTO]]="BACKLOG",Tabla1[[#This Row],[INDICADOR]]="VERDE"),"CUMPLIDO","PENDIENTE"))) -> CUMPLIDO | X11: =+IF(X$1=Tabla1[[#This Row],[INICIO PARADA]],"X",IF(Tabla1[[#This Row],[FIN PARADA]]=X$1,"X","")) -> X | Y11: =+IF(Y$1=Tabla1[[#This Row],[INICIO PARADA]],"X",IF(Tabla1[[#This Row],[FIN PARADA]]=Y$1,"X","")) | Z11: =+IF(Z$1=Tabla1[[#This Row],[INICIO PARADA]],"X",IF(Tabla1[[#This Row],[FIN PARADA]]=Z$1,"X","")) | AA11: =+IF(AA$1=Tabla1[[#This Row],[INICIO PARADA]],"X",IF(Tabla1[[#This Row],[FIN PARADA]]=AA$1,"X","")) | AB11: =+IF(AB$1=Tabla1[[#This Row],[INICIO PARADA]],"X",IF(Tabla1[[#This Row],[FIN PARADA]]=AB$1,"X","")) | AC11: =+IF(AC$1=Tabla1[[#This Row],[INICIO PARADA]],"X",IF(Tabla1[[#This Row],[FIN PARADA]]=AC$1,"X","")) | AD11: =+IF(AD$1=Tabla1[[#This Row],[INICIO PARADA]],"X",IF(Tabla1[[#This Row],[FIN PARADA]]=AD$1,"X","")) | AE11: =+IF(Tabla1[[#This Row],[SEGUIMIENTO]]="CUMPLIDO","Ejecutada",IF(Tabla1[[#This Row],[SEGUIMIENTO]]="PENDIENTE","No Ejecutada","ADICIONAL")) -> Ejecutada | AF11: MANTTO PLANTA | AG11: SUPERVISOR | AJ11: =IF(Tabla1[[#This Row],[SUSTENTO]]="CORRECTIVO","N","S") -> S | AK11: =+Tabla1[[#This Row],[PERSONAL]] -> MEC_P_C | AL11: =+IF(Tabla1[[#This Row],[S/N]]="S",IF(Tabla1[[#This Row],[HH]]=0,Tabla1[[#This Row],[HH//]],Tabla1[[#This Row],[HH]]),0) -> 7 | AM11: 7 | AN11: =IF(Tabla1[[#This Row],[S/N]]="s",+IFERROR(Tabla1[[#This Row],[HH REAL]]/Tabla1[[#This Row],[HH PLAN]],0),"") -> 1 | AO11: =Tabla1[[#This Row],[FREC CANT]]*Tabla1[[#This Row],[HH REAL]] -> 14
B12: PM01 | D12: DIA | F12: FAJAS CHANCADO | G12: Se realizó la Inspección y el levantamiento de datos de fajas transportadoras. | H12: 2 | I12: 2 | J12: 45374 | K12: 45374 | L12: 45374 | M12: =Tabla1[[#This Row],[REPUESTO]:[SUSTENTO]] -> 0 | N12: =IF(Tabla1[[#This Row],[PM]]="PM01","PREVENTIVO",IF(Tabla1[[#This Row],[PM]]="PM02","BACKLOG","CORRECTIVO")) -> PREVENTIVO | O12: MEC_P_C | P12: =Tabla1[[#This Row],[FREC CANT]] -> 2 | Q12: =Tabla1[[#This Row],[HORAS ACUM SOLICITADO]] -> 2 | R12: =(Tabla1[[#This Row],[H]]*Tabla1[[#This Row],[HH]]) -> 4 | U12: verde | W12: =IF(Tabla1[[#This Row],[SUSTENTO]]="CORRECTIVO","ADICIONAL",IF(AND(Tabla1[[#This Row],[SUSTENTO]]="PREVENTIVO",Tabla1[[#This Row],[INDICADOR]]="VERDE"),"CUMPLIDO",IF(AND(Tabla1[[#This Row],[SUSTENTO]]="BACKLOG",Tabla1[[#This Row],[INDICADOR]]="VERDE"),"CUMPLIDO","PENDIENTE"))) -> CUMPLIDO | X12: =+IF(X$1=Tabla1[[#This Row],[INICIO PARADA]],"X",IF(Tabla1[[#This Row],[FIN PARADA]]=X$1,"X","")) -> X | Y12: =+IF(Y$1=Tabla1[[#This Row],[INICIO PARADA]],"X",IF(Tabla1[[#This Row],[FIN PARADA]]=Y$1,"X","")) | Z12: =+IF(Z$1=Tabla1[[#This Row],[INICIO PARADA]],"X",IF(Tabla1[[#This Row],[FIN PARADA]]=Z$1,"X","")) | AA12: =+IF(AA$1=Tabla1[[#This Row],[INICIO PARADA]],"X",IF(Tabla1[[#This Row],[FIN PARADA]]=AA$1,"X","")) | AB12: =+IF(AB$1=Tabla1[[#This Row],[INICIO PARADA]],"X",IF(Tabla1[[#This Row],[FIN PARADA]]=AB$1,"X","")) | AC12: =+IF(AC$1=Tabla1[[#This Row],[INICIO PARADA]],"X",IF(Tabla1[[#This Row],[FIN PARADA]]=AC$1,"X","")) | AD12: =+IF(AD$1=Tabla1[[#This Row],[INICIO PARADA]],"X",IF(Tabla1[[#This Row],[FIN PARADA]]=AD$1,"X","")) | AE12: =+IF(Tabla1[[#This Row],[SEGUIMIENTO]]="CUMPLIDO","Ejecutada",IF(Tabla1[[#This Row],[SEGUIMIENTO]]="PENDIENTE","No Ejecutada","ADICIONAL")) -> Ejecutada | AF12: MANTTO PLANTA | AG12: SUPERVISOR | AJ12: =IF(Tabla1[[#This Row],[SUSTENTO]]="CORRECTIVO","N","S") -> S | AK12: =+Tabla1[[#This Row],[PERSONAL]] -> MEC_P_C | AL12: =+IF(Tabla1[[#This Row],[S/N]]="S",IF(Tabla1[[#This Row],[HH]]=0,Tabla1[[#This Row],[HH//]],Tabla1[[#This Row],[HH]]),0) -> 2 | AM12: 2 | AN12: =IF(Tabla1[[#This Row],[S/N]]="s",+IFERROR(Tabla1[[#This Row],[HH REAL]]/Tabla1[[#This Row],[HH PLAN]],0),"") -> 1 | AO12: =Tabla1[[#This Row],[FREC CANT]]*Tabla1[[#This Row],[HH REAL]] -> 4
B13: PM02 | D13: DIA | F13: BOMBA PUTZMEISTER | G13: Se niveló aceite en los tanques hidráulicos. | H13: 2 | I13: 4 | J13: 45374 | K13: 45374 | L13: 45374 | M13: =Tabla1[[#This Row],[REPUESTO]:[SUSTENTO]] -> 0 | N13: =IF(Tabla1[[#This Row],[PM]]="PM01","PREVENTIVO",IF(Tabla1[[#This Row],[PM]]="PM02","BACKLOG","CORRECTIVO")) -> BACKLOG | O13: MEC_P_C | P13: =Tabla1[[#This Row],[FREC CANT]] -> 2 | Q13: =Tabla1[[#This Row],[HORAS ACUM SOLICITADO]] -> 4 | R13: =(Tabla1[[#This Row],[H]]*Tabla1[[#This Row],[HH]]) -> 8 | U13: verde | W13: =IF(Tabla1[[#This Row],[SUSTENTO]]="CORRECTIVO","ADICIONAL",IF(AND(Tabla1[[#This Row],[SUSTENTO]]="PREVENTIVO",Tabla1[[#This Row],[INDICADOR]]="VERDE"),"CUMPLIDO",IF(AND(Tabla1[[#This Row],[SUSTENTO]]="BACKLOG",Tabla1[[#This Row],[INDICADOR]]="VERDE"),"CUMPLIDO","PENDIENTE"))) -> CUMPLIDO | X13: =+IF(X$1=Tabla1[[#This Row],[INICIO PARADA]],"X",IF(Tabla1[[#This Row],[FIN PARADA]]=X$1,"X","")) -> X | Y13: =+IF(Y$1=Tabla1[[#This Row],[INICIO PARADA]],"X",IF(Tabla1[[#This Row],[FIN PARADA]]=Y$1,"X","")) | Z13: =+IF(Z$1=Tabla1[[#This Row],[INICIO PARADA]],"X",IF(Tabla1[[#This Row],[FIN PARADA]]=Z$1,"X","")) | AA13: =+IF(AA$1=Tabla1[[#This Row],[INICIO PARADA]],"X",IF(Tabla1[[#This Row],[FIN PARADA]]=AA$1,"X","")) | AB13: =+IF(AB$1=Tabla1[[#This Row],[INICIO PARADA]],"X",IF(Tabla1[[#This Row],[FIN PARADA]]=AB$1,"X","")) | AC13: =+IF(AC$1=Tabla1[[#This Row],[INICIO PARADA]],"X",IF(Tabla1[[#This Row],[FIN PARADA]]=AC$1,"X","")) | AD13: =+IF(AD$1=Tabla1[[#This Row],[INICIO PARADA]],"X",IF(Tabla1[[#This Row],[FIN PARADA]]=AD$1,"X","")) | AE13: =+IF(Tabla1[[#This Row],[SEGUIMIENTO]]="CUMPLIDO","Ejecutada",IF(Tabla1[[#This Row],[SEGUIMIENTO]]="PENDIENTE","No Ejecutada","ADICIONAL")) -> Ejecutada | AF13: MANTTO PLANTA | AG13: SUPERVISOR | AJ13: =IF(Tabla1[[#This Row],[SUSTENTO]]="CORRECTIVO","N","S") -> S | AK13: =+Tabla1[[#This Row],[PERSONAL]] -> MEC_P_C | AL13: =+IF(Tabla1[[#This Row],[S/N]]="S",IF(Tabla1[[#This Row],[HH]]=0,Tabla1[[#This Row],[HH//]],Tabla1[[#This Row],[HH]]),0) -> 4 | AM13: 4 | AN13: =IF(Tabla1[[#This Row],[S/N]]="s",+IFERROR(Tabla1[[#This Row],[HH REAL]]/Tabla1[[#This Row],[HH PLAN]],0),"") -> 1 | AO13: =Tabla1[[#This Row],[FREC CANT]]*Tabla1[[#This Row],[HH REAL]] -> 8
B14: PM01 | D14: DIA | F14: BLOQUEO DE EQUIPOS EN PLANTA | G14: Se realizó los bloqueos y desbloqueo de las áreas de chancado, molienda, flotación y filtros. Se realizó limpieza, inspección, reajuste de tablero del estractor de polvo. Se dejó bloqueado faja 5A, se está trasladando las herramientas al nuevo taller. | H14: 1 | I14: 9 | J14: 45374 | K14: 45374 | L14: 45374 | M14: =Tabla1[[#This Row],[REPUESTO]:[SUSTENTO]] -> 0 | N14: =IF(Tabla1[[#This Row],[PM]]="PM01","PREVENTIVO",IF(Tabla1[[#This Row],[PM]]="PM02","BACKLOG","CORRECTIVO")) -> PREVENTIVO | O14: ELE_P_C | P14: =Tabla1[[#This Row],[FREC CANT]] -> 1 | Q14: =Tabla1[[#This Row],[HORAS ACUM SOLICITADO]] -> 9 | R14: =(Tabla1[[#This Row],[H]]*Tabla1[[#This Row],[HH]]) -> 9 | U14: verde | W14: =IF(Tabla1[[#This Row],[SUSTENTO]]="CORRECTIVO","ADICIONAL",IF(AND(Tabla1[[#This Row],[SUSTENTO]]="PREVENTIVO",Tabla1[[#This Row],[INDICADOR]]="VERDE"),"CUMPLIDO",IF(AND(Tabla1[[#This Row],[SUSTENTO]]="BACKLOG",Tabla1[[#This Row],[INDICADOR]]="VERDE"),"CUMPLIDO","PENDIENTE"))) -> CUMPLIDO | X14: =+IF(X$1=Tabla1[[#This Row],[INICIO PARADA]],"X",IF(Tabla1[[#This Row],[FIN PARADA]]=X$1,"X","")) -> X | Y14: =+IF(Y$1=Tabla1[[#This Row],[INICIO PARADA]],"X",IF(Tabla1[[#This Row],[FIN PARADA]]=Y$1,"X","")) | Z14: =+IF(Z$1=Tabla1[[#This Row],[INICIO PARADA]],"X",IF(Tabla1[[#This Row],[FIN PARADA]]=Z$1,"X","")) | AA14: =+IF(AA$1=Tabla1[[#This Row],[INICIO PARADA]],"X",IF(Tabla1[[#This Row],[FIN PARADA]]=AA$1,"X","")) | AB14: =+IF(AB$1=Tabla1[[#This Row],[INICIO PARADA]],"X",IF(Tabla1[[#This Row],[FIN PARADA]]=AB$1,"X","")) | AC14: =+IF(AC$1=Tabla1[[#This Row],[INICIO PARADA]],"X",IF(Tabla1[[#This Row],[FIN PARADA]]=AC$1,"X","")) | AD14: =+IF(AD$1=Tabla1[[#This Row],[INICIO PARADA]],"X",IF(Tabla1[[#This Row],[FIN PARADA]]=AD$1,"X","")) | AE14: =+IF(Tabla1[[#This Row],[SEGUIMIENTO]]="CUMPLIDO","Ejecutada",IF(Tabla1[[#This Row],[SEGUIMIENTO]]="PENDIENTE","No Ejecutada","ADICIONAL")) -> Ejecutada | AF14: MANTTO PLANTA | AG14: SUPERVISOR | AJ14: =IF(Tabla1[[#This Row],[SUSTENTO]]="CORRECTIVO","N","S") -> S | AK14: =+Tabla1[[#This Row],[PERSONAL]] -> ELE_P_C | AL14: =+IF(Tabla1[[#This Row],[S/N]]="S",IF(Tabla1[[#This Row],[HH]]=0,Tabla1[[#This Row],[HH//]],Tabla1[[#This Row],[HH]]),0) -> 9 | AM14: 9 | AN14: =IF(Tabla1[[#This Row],[S/N]]="s",+IFERROR(Tabla1[[#This Row],[HH REAL]]/Tabla1[[#This Row],[HH PLAN]],0),"") -> 1 | AO14: =Tabla1[[#This Row],[FREC CANT]]*Tabla1[[#This Row],[HH REAL]] -> 9
B15: PM01 | D15: DIA | F15: TALLER ELÉCTRICO | G15: Se realizó la limpieza y el mantenimiento correctivo y cambio de rodamientos de los motores que están en el taller eléctrico. | H15: 2 | I15: 6 | J15: 45374 | K15: 45374 | L15: 45374 | M15: =Tabla1[[#This Row],[REPUESTO]:[SUSTENTO]] -> 0 | N15: =IF(Tabla1[[#This Row],[PM]]="PM01","PREVENTIVO",IF(Tabla1[[#This Row],[PM]]="PM02","BACKLOG","CORRECTIVO")) -> PREVENTIVO | O15: ELE_P_C | P15: =Tabla1[[#This Row],[FREC CANT]] -> 2 | Q15: =Tabla1[[#This Row],[HORAS ACUM SOLICITADO]] -> 6 | R15: =(Tabla1[[#This Row],[H]]*Tabla1[[#This Row],[HH]]) -> 12 | U15: verde | W15: =IF(Tabla1[[#This Row],[SUSTENTO]]="CORRECTIVO","ADICIONAL",IF(AND(Tabla1[[#This Row],[SUSTENTO]]="PREVENTIVO",Tabla1[[#This Row],[INDICADOR]]="VERDE"),"CUMPLIDO",IF(AND(Tabla1[[#This Row],[SUSTENTO]]="BACKLOG",Tabla1[[#This Row],[INDICADOR]]="VERDE"),"CUMPLIDO","PENDIENTE"))) -> CUMPLIDO | X15: =+IF(X$1=Tabla1[[#This Row],[INICIO PARADA]],"X",IF(Tabla1[[#This Row],[FIN PARADA]]=X$1,"X","")) -> X | Y15: =+IF(Y$1=Tabla1[[#This Row],[INICIO PARADA]],"X",IF(Tabla1[[#This Row],[FIN PARADA]]=Y$1,"X","")) | Z15: =+IF(Z$1=Tabla1[[#This Row],[INICIO PARADA]],"X",IF(Tabla1[[#This Row],[FIN PARADA]]=Z$1,"X","")) | AA15: =+IF(AA$1=Tabla1[[#This Row],[INICIO PARADA]],"X",IF(Tabla1[[#This Row],[FIN PARADA]]=AA$1,"X","")) | AB15: =+IF(AB$1=Tabla1[[#This Row],[INICIO PARADA]],"X",IF(Tabla1[[#This Row],[FIN PARADA]]=AB$1,"X","")) | AC15: =+IF(AC$1=Tabla1[[#This Row],[INICIO PARADA]],"X",IF(Tabla1[[#This Row],[FIN PARADA]]=AC$1,"X","")) | AD15: =+IF(AD$1=Tabla1[[#This Row],[INICIO PARADA]],"X",IF(Tabla1[[#This Row],[FIN PARADA]]=AD$1,"X","")) | AE15: =+IF(Tabla1[[#This Row],[SEGUIMIENTO]]="CUMPLIDO","Ejecutada",IF(Tabla1[[#This Row],[SEGUIMIENTO]]="PENDIENTE","No Ejecutada","ADICIONAL")) -> Ejecutada | AF15: MANTTO PLANTA | AG15: SUPERVISOR | AJ15: =IF(Tabla1[[#This Row],[SUSTENTO]]="CORRECTIVO","N","S") -> S | AK15: =+Tabla1[[#This Row],[PERSONAL]] -> ELE_P_C | AL15: =+IF(Tabla1[[#This Row],[S/N]]="S",IF(Tabla1[[#This Row],[HH]]=0,Tabla1[[#This Row],[HH//]],Tabla1[[#This Row],[HH]]),0) -> 6 | AM15: 6 | AN15: =IF(Tabla1[[#This Row],[S/N]]="s",+IFERROR(Tabla1[[#This Row],[HH REAL]]/Tabla1[[#This Row],[HH PLAN]],0),"") -> 1 | AO15: =Tabla1[[#This Row],[FREC CANT]]*Tabla1[[#This Row],[HH REAL]] -> 12
B16: PM02 | D16: DIA | F16: ZARANDA DE ALTA FRECUENCIA | G16: Se realizó el monitoreo de amperaje del motor de la ZAF, realizando el desmontaje y trasladandolo hacia taller central para su revisión, equipo queda inoperativo. | H16: 2 | I16: 3 | J16: 45374 | K16: 45374 | L16: 45374 | M16: =Tabla1[[#This Row],[REPUESTO]:[SUSTENTO]] -> 0 | N16: =IF(Tabla1[[#This Row],[PM]]="PM01","PREVENTIVO",IF(Tabla1[[#This Row],[PM]]="PM02","BACKLOG","CORRECTIVO")) -> BACKLOG | O16: ELE_P_C | P16: =Tabla1[[#This Row],[FREC CANT]] -> 2 | Q16: =Tabla1[[#This Row],[HORAS ACUM SOLICITADO]] -> 3 | R16: =(Tabla1[[#This Row],[H]]*Tabla1[[#This Row],[HH]]) -> 6 | U16: verde | W16: =IF(Tabla1[[#This Row],[SUSTENTO]]="CORRECTIVO","ADICIONAL",IF(AND(Tabla1[[#This Row],[SUSTENTO]]="PREVENTIVO",Tabla1[[#This Row],[INDICADOR]]="VERDE"),"CUMPLIDO",IF(AND(Tabla1[[#This Row],[SUSTENTO]]="BACKLOG",Tabla1[[#This Row],[INDICADOR]]="VERDE"),"CUMPLIDO","PENDIENTE"))) -> CUMPLIDO | X16: =+IF(X$1=Tabla1[[#This Row],[INICIO PARADA]],"X",IF(Tabla1[[#This Row],[FIN PARADA]]=X$1,"X","")) -> X | Y16: =+IF(Y$1=Tabla1[[#This Row],[INICIO PARADA]],"X",IF(Tabla1[[#This Row],[FIN PARADA]]=Y$1,"X","")) | Z16: =+IF(Z$1=Tabla1[[#This Row],[INICIO PARADA]],"X",IF(Tabla1[[#This Row],[FIN PARADA]]=Z$1,"X","")) | AA16: =+IF(AA$1=Tabla1[[#This Row],[INICIO PARADA]],"X",IF(Tabla1[[#This Row],[FIN PARADA]]=AA$1,"X","")) | AB16: =+IF(AB$1=Tabla1[[#This Row],[INICIO PARADA]],"X",IF(Tabla1[[#This Row],[FIN PARADA]]=AB$1,"X","")) | AC16: =+IF(AC$1=Tabla1[[#This Row],[INICIO PARADA]],"X",IF(Tabla1[[#This Row],[FIN PARADA]]=AC$1,"X","")) | AD16: =+IF(AD$1=Tabla1[[#This Row],[INICIO PARADA]],"X",IF(Tabla1[[#This Row],[FIN PARADA]]=AD$1,"X","")) | AE16: =+IF(Tabla1[[#This Row],[SEGUIMIENTO]]="CUMPLIDO","Ejecutada",IF(Tabla1[[#This Row],[SEGUIMIENTO]]="PENDIENTE","No Ejecutada","ADICIONAL")) -> Ejecutada | AF16: MANTTO PLANTA | AG16: SUPERVISOR | AJ16: =IF(Tabla1[[#This Row],[SUSTENTO]]="CORRECTIVO","N","S") -> S | AK16: =+Tabla1[[#This Row],[PERSONAL]] -> ELE_P_C | AL16: =+IF(Tabla1[[#This Row],[S/N]]="S",IF(Tabla1[[#This Row],[HH]]=0,Tabla1[[#This Row],[HH//]],Tabla1[[#This Row],[HH]]),0) -> 3 | AM16: 3 | AN16: =IF(Tabla1[[#This Row],[S/N]]="s",+IFERROR(Tabla1[[#This Row],[HH REAL]]/Tabla1[[#This Row],[HH PLAN]],0),"") -> 1 | AO16: =Tabla1[[#This Row],[FREC CANT]]*Tabla1[[#This Row],[HH REAL]] -> 6
B17: PM02 | D17: DIA | F17: CELDA SK 240 | G17: Con apoyo del programador, se restablece en el SCADA la lectura de PH de la celda unitaria SK-240, queda operativo, en Molienda. | H17: 1 | I17: 2 | J17: 45374 | K17: 45374 | L17: 45374 | M17: =Tabla1[[#This Row],[REPUESTO]:[SUSTENTO]] -> 0 | N17: =IF(Tabla1[[#This Row],[PM]]="PM01","PREVENTIVO",IF(Tabla1[[#This Row],[PM]]="PM02","BACKLOG","CORRECTIVO")) -> BACKLOG | O17: ELECN_P_C | P17: =Tabla1[[#This Row],[FREC CANT]] -> 1 | Q17: =Tabla1[[#This Row],[HORAS ACUM SOLICITADO]] -> 2 | R17: =(Tabla1[[#This Row],[H]]*Tabla1[[#This Row],[HH]]) -> 2 | U17: verde | W17: =IF(Tabla1[[#This Row],[SUSTENTO]]="CORRECTIVO","ADICIONAL",IF(AND(Tabla1[[#This Row],[SUSTENTO]]="PREVENTIVO",Tabla1[[#This Row],[INDICADOR]]="VERDE"),"CUMPLIDO",IF(AND(Tabla1[[#This Row],[SUSTENTO]]="BACKLOG",Tabla1[[#This Row],[INDICADOR]]="VERDE"),"CUMPLIDO","PENDIENTE"))) -> CUMPLIDO | X17: =+IF(X$1=Tabla1[[#This Row],[INICIO PARADA]],"X",IF(Tabla1[[#This Row],[FIN PARADA]]=X$1,"X","")) -> X | Y17: =+IF(Y$1=Tabla1[[#This Row],[INICIO PARADA]],"X",IF(Tabla1[[#This Row],[FIN PARADA]]=Y$1,"X","")) | Z17: =+IF(Z$1=Tabla1[[#This Row],[INICIO PARADA]],"X",IF(Tabla1[[#This Row],[FIN PARADA]]=Z$1,"X","")) | AA17: =+IF(AA$1=Tabla1[[#This Row],[INICIO PARADA]],"X",IF(Tabla1[[#This Row],[FIN PARADA]]=AA$1,"X","")) | AB17: =+IF(AB$1=Tabla1[[#This Row],[INICIO PARADA]],"X",IF(Tabla1[[#This Row],[FIN PARADA]]=AB$1,"X","")) | AC17: =+IF(AC$1=Tabla1[[#This Row],[INICIO PARADA]],"X",IF(Tabla1[[#This Row],[FIN PARADA]]=AC$1,"X","")) | AD17: =+IF(AD$1=Tabla1[[#This Row],[INICIO PARADA]],"X",IF(Tabla1[[#This Row],[FIN PARADA]]=AD$1,"X","")) | AE17: =+IF(Tabla1[[#This Row],[SEGUIMIENTO]]="CUMPLIDO","Ejecutada",IF(Tabla1[[#This Row],[SEGUIMIENTO]]="PENDIENTE","No Ejecutada","ADICIONAL")) -> Ejecutada | AF17: MANTTO PLANTA | AG17: SUPERVISOR | AJ17: =IF(Tabla1[[#This Row],[SUSTENTO]]="CORRECTIVO","N","S") -> S | AK17: =+Tabla1[[#This Row],[PERSONAL]] -> ELECN_P_C | AL17: =+IF(Tabla1[[#This Row],[S/N]]="S",IF(Tabla1[[#This Row],[HH]]=0,Tabla1[[#This Row],[HH//]],Tabla1[[#This Row],[HH]]),0) -> 2 | AM17: 2 | AN17: =IF(Tabla1[[#This Row],[S/N]]="s",+IFERROR(Tabla1[[#This Row],[HH REAL]]/Tabla1[[#This Row],[HH PLAN]],0),"") -> 1 | AO17: =Tabla1[[#This Row],[FREC CANT]]*Tabla1[[#This Row],[HH REAL]] -> 2
B18: PM02 | D18: DIA | F18: BOMBA PERISTALTICA N° 131 | G18: Rellenado de glicerina por nivel bajo (rotura de manga) en bomba peristáltica 131, en zona de reactivos. | H18: 1 | I18: 2 | J18: 45374 | K18: 45374 | L18: 45374 | M18: =Tabla1[[#This Row],[REPUESTO]:[SUSTENTO]] -> 0 | N18: =IF(Tabla1[[#This Row],[PM]]="PM01","PREVENTIVO",IF(Tabla1[[#This Row],[PM]]="PM02","BACKLOG","CORRECTIVO")) -> BACKLOG | O18: ELECN_P_C | P18: =Tabla1[[#This Row],[FREC CANT]] -> 1 | Q18: =Tabla1[[#This Row],[HORAS ACUM SOLICITADO]] -> 2 | R18: =(Tabla1[[#This Row],[H]]*Tabla1[[#This Row],[HH]]) -> 2 | U18: verde | W18: =IF(Tabla1[[#This Row],[SUSTENTO]]="CORRECTIVO","ADICIONAL",IF(AND(Tabla1[[#This Row],[SUSTENTO]]="PREVENTIVO",Tabla1[[#This Row],[INDICADOR]]="VERDE"),"CUMPLIDO",IF(AND(Tabla1[[#This Row],[SUSTENTO]]="BACKLOG",Tabla1[[#This Row],[INDICADOR]]="VERDE"),"CUMPLIDO","PENDIENTE"))) -> CUMPLIDO | X18: =+IF(X$1=Tabla1[[#This Row],[INICIO PARADA]],"X",IF(Tabla1[[#This Row],[FIN PARADA]]=X$1,"X","")) -> X | Y18: =+IF(Y$1=Tabla1[[#This Row],[INICIO PARADA]],"X",IF(Tabla1[[#This Row],[FIN PARADA]]=Y$1,"X","")) | Z18: =+IF(Z$1=Tabla1[[#This Row],[INICIO PARADA]],"X",IF(Tabla1[[#This Row],[FIN PARADA]]=Z$1,"X","")) | AA18: =+IF(AA$1=Tabla1[[#This Row],[INICIO PARADA]],"X",IF(Tabla1[[#This Row],[FIN PARADA]]=AA$1,"X","")) | AB18: =+IF(AB$1=Tabla1[[#This Row],[INICIO PARADA]],"X",IF(Tabla1[[#This Row],[FIN PARADA]]=AB$1,"X","")) | AC18: =+IF(AC$1=Tabla1[[#This Row],[INICIO PARADA]],"X",IF(Tabla1[[#This Row],[FIN PARADA]]=AC$1,"X","")) | AD18: =+IF(AD$1=Tabla1[[#This Row],[INICIO PARADA]],"X",IF(Tabla1[[#This Row],[FIN PARADA]]=AD$1,"X","")) | AE18: =+IF(Tabla1[[#This Row],[SEGUIMIENTO]]="CUMPLIDO","Ejecutada",IF(Tabla1[[#This Row],[SEGUIMIENTO]]="PENDIENTE","No Ejecutada","ADICIONAL")) -> Ejecutada | AF18: MANTTO PLANTA | AG18: SUPERVISOR | AJ18: =IF(Tabla1[[#This Row],[SUSTENTO]]="CORRECTIVO","N","S") -> S | AK18: =+Tabla1[[#This Row],[PERSONAL]] -> ELECN_P_C | AL18: =+IF(Tabla1[[#This Row],[S/N]]="S",IF(Tabla1[[#This Row],[HH]]=0,Tabla1[[#This Row],[HH//]],Tabla1[[#This Row],[HH]]),0) -> 2 | AM18: 2 | AN18: =IF(Tabla1[[#This Row],[S/N]]="s",+IFERROR(Tabla1[[#This Row],[HH REAL]]/Tabla1[[#This Row],[HH PLAN]],0),"") -> 1 | AO18: =Tabla1[[#This Row],[FREC CANT]]*Tabla1[[#This Row],[HH REAL]] -> 2
B19: PM02 | D19: DIA | F19: MOLINO N° 1 | G19: Se modifica a 5 seg. el tiempo de postsoplado para el ciclo de lubricación del Molino N°1. | H19: 1 | I19: 3 | J19: 45374 | K19: 45374 | L19: 45374 | M19: =Tabla1[[#This Row],[REPUESTO]:[SUSTENTO]] -> 0 | N19: =IF(Tabla1[[#This Row],[PM]]="PM01","PREVENTIVO",IF(Tabla1[[#This Row],[PM]]="PM02","BACKLOG","CORRECTIVO")) -> BACKLOG | O19: ELECN_P_C | P19: =Tabla1[[#This Row],[FREC CANT]] -> 1 | Q19: =Tabla1[[#This Row],[HORAS ACUM SOLICITADO]] -> 3 | R19: =(Tabla1[[#This Row],[H]]*Tabla1[[#This Row],[HH]]) -> 3 | U19: verde | W19: =IF(Tabla1[[#This Row],[SUSTENTO]]="CORRECTIVO","ADICIONAL",IF(AND(Tabla1[[#This Row],[SUSTENTO]]="PREVENTIVO",Tabla1[[#This Row],[INDICADOR]]="VERDE"),"CUMPLIDO",IF(AND(Tabla1[[#This Row],[SUSTENTO]]="BACKLOG",Tabla1[[#This Row],[INDICADOR]]="VERDE"),"CUMPLIDO","PENDIENTE"))) -> CUMPLIDO | X19: =+IF(X$1=Tabla1[[#This Row],[INICIO PARADA]],"X",IF(Tabla1[[#This Row],[FIN PARADA]]=X$1,"X","")) -> X | Y19: =+IF(Y$1=Tabla1[[#This Row],[INICIO PARADA]],"X",IF(Tabla1[[#This Row],[FIN PARADA]]=Y$1,"X","")) | Z19: =+IF(Z$1=Tabla1[[#This Row],[INICIO PARADA]],"X",IF(Tabla1[[#This Row],[FIN PARADA]]=Z$1,"X","")) | AA19: =+IF(AA$1=Tabla1[[#This Row],[INICIO PARADA]],"X",IF(Tabla1[[#This Row],[FIN PARADA]]=AA$1,"X","")) | AB19: =+IF(AB$1=Tabla1[[#This Row],[INICIO PARADA]],"X",IF(Tabla1[[#This Row],[FIN PARADA]]=AB$1,"X","")) | AC19: =+IF(AC$1=Tabla1[[#This Row],[INICIO PARADA]],"X",IF(Tabla1[[#This Row],[FIN PARADA]]=AC$1,"X","")) | AD19: =+IF(AD$1=Tabla1[[#This Row],[INICIO PARADA]],"X",IF(Tabla1[[#This Row],[FIN PARADA]]=AD$1,"X","")) | AE19: =+IF(Tabla1[[#This Row],[SEGUIMIENTO]]="CUMPLIDO","Ejecutada",IF(Tabla1[[#This Row],[SEGUIMIENTO]]="PENDIENTE","No Ejecutada","ADICIONAL")) -> Ejecutada | AF19: MANTTO PLANTA | AG19: SUPERVISOR | AJ19: =IF(Tabla1[[#This Row],[SUSTENTO]]="CORRECTIVO","N","S") -> S | AK19: =+Tabla1[[#This Row],[PERSONAL]] -> ELECN_P_C | AL19: =+IF(Tabla1[[#This Row],[S/N]]="S",IF(Tabla1[[#This Row],[HH]]=0,Tabla1[[#This Row],[HH//]],Tabla1[[#This Row],[HH]]),0) -> 3 | AM19: 3 | AN19: =IF(Tabla1[[#This Row],[S/N]]="s",+IFERROR(Tabla1[[#This Row],[HH REAL]]/Tabla1[[#This Row],[HH PLAN]],0),"") -> 1 | AO19: =Tabla1[[#This Row],[FREC CANT]]*Tabla1[[#This Row],[HH REAL]] -> 3
B20: PM02 | D20: DIA | F20: MOLINO 8x11 | G20: Se revisaron parámetros de configuración del transmisor de nivel para funcionamiento automático de las bombas de Molino 8x11, queda pendiente realizar pruebas el día de mañana, en Molienda. | H20: 1 | I20: 2 | J20: 45374 | K20: 45374 | L20: 45374 | M20: =Tabla1[[#This Row],[REPUESTO]:[SUSTENTO]] -> 0 | N20: =IF(Tabla1[[#This Row],[PM]]="PM01","PREVENTIVO",IF(Tabla1[[#This Row],[PM]]="PM02","BACKLOG","CORRECTIVO")) -> BACKLOG | O20: ELECN_P_C | P20: =Tabla1[[#This Row],[FREC CANT]] -> 1 | Q20: =Tabla1[[#This Row],[HORAS ACUM SOLICITADO]] -> 2 | R20: =(Tabla1[[#This Row],[H]]*Tabla1[[#This Row],[HH]]) -> 2 | U20: verde | W20: =IF(Tabla1[[#This Row],[SUSTENTO]]="CORRECTIVO","ADICIONAL",IF(AND(Tabla1[[#This Row],[SUSTENTO]]="PREVENTIVO",Tabla1[[#This Row],[INDICADOR]]="VERDE"),"CUMPLIDO",IF(AND(Tabla1[[#This Row],[SUSTENTO]]="BACKLOG",Tabla1[[#This Row],[INDICADOR]]="VERDE"),"CUMPLIDO","PENDIENTE"))) -> CUMPLIDO | X20: =+IF(X$1=Tabla1[[#This Row],[INICIO PARADA]],"X",IF(Tabla1[[#This Row],[FIN PARADA]]=X$1,"X","")) -> X | Y20: =+IF(Y$1=Tabla1[[#This Row],[INICIO PARADA]],"X",IF(Tabla1[[#This Row],[FIN PARADA]]=Y$1,"X","")) | Z20: =+IF(Z$1=Tabla1[[#This Row],[INICIO PARADA]],"X",IF(Tabla1[[#This Row],[FIN PARADA]]=Z$1,"X","")) | AA20: =+IF(AA$1=Tabla1[[#This Row],[INICIO PARADA]],"X",IF(Tabla1[[#This Row],[FIN PARADA]]=AA$1,"X","")) | AB20: =+IF(AB$1=Tabla1[[#This Row],[INICIO PARADA]],"X",IF(Tabla1[[#This Row],[FIN PARADA]]=AB$1,"X","")) | AC20: =+IF(AC$1=Tabla1[[#This Row],[INICIO PARADA]],"X",IF(Tabla1[[#This Row],[FIN PARADA]]=AC$1,"X","")) | AD20: =+IF(AD$1=Tabla1[[#This Row],[INICIO PARADA]],"X",IF(Tabla1[[#This Row],[FIN PARADA]]=AD$1,"X","")) | AE20: =+IF(Tabla1[[#This Row],[SEGUIMIENTO]]="CUMPLIDO","Ejecutada",IF(Tabla1[[#This Row],[SEGUIMIENTO]]="PENDIENTE","No Ejecutada","ADICIONAL")) -> Ejecutada | AF20: MANTTO PLANTA | AG20: SUPERVISOR | AJ20: =IF(Tabla1[[#This Row],[SUSTENTO]]="CORRECTIVO","N","S") -> S | AK20: =+Tabla1[[#This Row],[PERSONAL]] -> ELECN_P_C | AL20: =+IF(Tabla1[[#This Row],[S/N]]="S",IF(Tabla1[[#This Row],[HH]]=0,Tabla1[[#This Row],[HH//]],Tabla1[[#This Row],[HH]]),0) -> 2 | AM20: 2 | AN20: =IF(Tabla1[[#This Row],[S/N]]="s",+IFERROR(Tabla1[[#This Row],[HH REAL]]/Tabla1[[#This Row],[HH PLAN]],0),"") -> 1 | AO20: =Tabla1[[#This Row],[FREC CANT]]*Tabla1[[#This Row],[HH REAL]] -> 2
... B51: PM02 | D51: DIA | F51: BODEGA DE ELECTRICISTAS | G51: *se realizó el traslado de las herramientas y accesorios al nuevo ambiente de la parte Eléctrica. Se hace las pruebas. | H51: 2 | I51: 2 | J51: 45375 | K51: 45375 | L51: 45375 | M51: =Tabla1[[#This Row],[REPUESTO]:[SUSTENTO]] -> 0 | N51: =IF(Tabla1[[#This Row],[PM]]="PM01","PREVENTIVO",IF(Tabla1[[#This Row],[PM]]="PM02","BACKLOG","CORRECTIVO")) -> BACKLOG | O51: ELE_P_C | P51: =Tabla1[[#This Row],[FREC CANT]] -> 2 | Q51: =Tabla1[[#This Row],[HORAS ACUM SOLICITADO]] -> 2 | R51: =(Tabla1[[#This Row],[H]]*Tabla1[[#This Row],[HH]]) -> 4 | U51: verde | W51: =IF(Tabla1[[#This Row],[SUSTENTO]]="CORRECTIVO","ADICIONAL",IF(AND(Tabla1[[#This Row],[SUSTENTO]]="PREVENTIVO",Tabla1[[#This Row],[INDICADOR]]="VERDE"),"CUMPLIDO",IF(AND(Tabla1[[#This Row],[SUSTENTO]]="BACKLOG",Tabla1[[#This Row],[INDICADOR]]="VERDE"),"CUMPLIDO","PENDIENTE"))) -> CUMPLIDO | X51: =+IF(X$1=Tabla1[[#This Row],[INICIO PARADA]],"X",IF(Tabla1[[#This Row],[FIN PARADA]]=X$1,"X","")) | Y51: =+IF(Y$1=Tabla1[[#This Row],[INICIO PARADA]],"X",IF(Tabla1[[#This Row],[FIN PARADA]]=Y$1,"X","")) -> X | Z51: =+IF(Z$1=Tabla1[[#This Row],[INICIO PARADA]],"X",IF(Tabla1[[#This Row],[FIN PARADA]]=Z$1,"X","")) | AA51: =+IF(AA$1=Tabla1[[#This Row],[INICIO PARADA]],"X",IF(Tabla1[[#This Row],[FIN PARADA]]=AA$1,"X","")) | AB51: =+IF(AB$1=Tabla1[[#This Row],[INICIO PARADA]],"X",IF(Tabla1[[#This Row],[FIN PARADA]]=AB$1,"X","")) | AC51: =+IF(AC$1=Tabla1[[#This Row],[INICIO PARADA]],"X",IF(Tabla1[[#This Row],[FIN PARADA]]=AC$1,"X","")) | AD51: =+IF(AD$1=Tabla1[[#This Row],[INICIO PARADA]],"X",IF(Tabla1[[#This Row],[FIN PARADA]]=AD$1,"X","")) | AE51: =+IF(Tabla1[[#This Row],[SEGUIMIENTO]]="CUMPLIDO","Ejecutada",IF(Tabla1[[#This Row],[SEGUIMIENTO]]="PENDIENTE","No Ejecutada","ADICIONAL")) -> Ejecutada | AF51: MANTTO PLANTA | AG51: SUPERVISOR | AJ51: =IF(Tabla1[[#This Row],[SUSTENTO]]="CORRECTIVO","N","S") -> S | AK51: =+Tabla1[[#This Row],[PERSONAL]] -> ELE_P_C | AL51: =+IF(Tabla1[[#This Row],[S/N]]="S",IF(Tabla1[[#This Row],[HH]]=0,Tabla1[[#This Row],[HH//]],Tabla1[[#This Row],[HH]]),0) -> 2 | AM51: 2 | AN51: =IF(Tabla1[[#This Row],[S/N]]="s",+IFERROR(Tabla1[[#This Row],[HH REAL]]/Tabla1[[#This Row],[HH PLAN]],0),"") -> 1 | AO51: =Tabla1[[#This Row],[FREC CANT]]*Tabla1[[#This Row],[HH REAL]] -> 4
